BEGIN:VCALENDAR
VERSION:2.0
PRODID:-//134.96.226.213//NONSGML kigkonsult.se iCalcreator 2.41.92//
CALSCALE:GREGORIAN
METHOD:PUBLISH
UID:65613733-6166-4661-b031-323861346136
X-WR-CALNAME:Elements of Data Science and Artificial Intelligence Calendar
X-WR-CALDESC:Events of the lecture Elements of Data Science and Artificial 
 Intelligence
X-WR-TIMEZONE:Europe/Berlin
BEGIN:VEVENT
UID:33336561-3865-4635-a664-636661613266
DTSTAMP:20260425T174107Z
DESCRIPTION:
DTSTART:20210211T080000Z
DTEND:20210211T120000Z
LOCATION:Günter-Hotz Lecture Hall
SUMMARY:Exam
END:VEVENT
BEGIN:VEVENT
UID:38653335-3035-4436-b632-326337333665
DTSTAMP:20260425T174107Z
DESCRIPTION:
DTSTART:20210322T080000Z
DTEND:20210322T120000Z
LOCATION:Günter-Hotz Lecture Hall
SUMMARY:Re-Exam
END:VEVENT
END:VCALENDAR
