BEGIN:VCALENDAR
VERSION:2.0
PRODID:-//134.96.226.213//NONSGML kigkonsult.se iCalcreator 2.41.92//
CALSCALE:GREGORIAN
METHOD:PUBLISH
UID:36653736-3266-4165-a266-353133366662
X-WR-CALNAME:Elements of Data Science and Artificial Intelligence Calendar
X-WR-CALDESC:Events of the lecture Elements of Data Science and Artificial 
 Intelligence
X-WR-TIMEZONE:Europe/Berlin
BEGIN:VEVENT
UID:64376130-3762-4266-a637-616332373336
DTSTAMP:20260425T162004Z
DESCRIPTION:
DTSTART:20201123T110000Z
DTEND:20201123T123000Z
SUMMARY:Edsai20: Tutorial - Doreen
END:VEVENT
BEGIN:VEVENT
UID:36653637-6238-4236-a132-633431623862
DTSTAMP:20260425T162004Z
DESCRIPTION:
DTSTART:20201124T070000Z
DTEND:20201124T090000Z
SUMMARY:Edsai20: Tutorial - Lukas
END:VEVENT
BEGIN:VEVENT
UID:35346437-3232-4534-a639-666636336537
DTSTAMP:20260425T162004Z
DESCRIPTION:
DTSTART:20201125T131500Z
DTEND:20201125T144500Z
SUMMARY:Edsai20: Tutorial - Thorsten
END:VEVENT
BEGIN:VEVENT
UID:63353338-6534-4165-b738-393033363836
DTSTAMP:20260425T162004Z
DESCRIPTION:
DTSTART:20201130T110000Z
DTEND:20201130T123000Z
SUMMARY:Edsai20: Tutorial - Doreen
END:VEVENT
BEGIN:VEVENT
UID:35663136-3462-4464-b636-343435303730
DTSTAMP:20260425T162004Z
DESCRIPTION:
DTSTART:20201201T070000Z
DTEND:20201201T090000Z
SUMMARY:Edsai20: Tutorial - Lukas
END:VEVENT
BEGIN:VEVENT
UID:36616138-3166-4830-a164-343163636436
DTSTAMP:20260425T162004Z
DESCRIPTION:
DTSTART:20201202T131500Z
DTEND:20201202T144500Z
SUMMARY:Edsai20: Tutorial - Thorsten
END:VEVENT
BEGIN:VEVENT
UID:36373861-6132-4262-a237-333064653261
DTSTAMP:20260425T162004Z
DESCRIPTION:
DTSTART:20201207T110000Z
DTEND:20201207T123000Z
SUMMARY:Edsai20: Tutorial - Doreen
END:VEVENT
BEGIN:VEVENT
UID:33313336-3830-4632-b133-636432336333
DTSTAMP:20260425T162004Z
DESCRIPTION:
DTSTART:20201208T070000Z
DTEND:20201208T090000Z
SUMMARY:Edsai20: Tutorial - Lukas
END:VEVENT
BEGIN:VEVENT
UID:61316434-6531-4361-a238-393634643733
DTSTAMP:20260425T162004Z
DESCRIPTION:
DTSTART:20201209T131500Z
DTEND:20201209T144500Z
SUMMARY:Edsai20: Tutorial - Thorsten
END:VEVENT
BEGIN:VEVENT
UID:35343533-3231-4261-b839-383034636462
DTSTAMP:20260425T162004Z
DESCRIPTION:
DTSTART:20201214T110000Z
DTEND:20201214T123000Z
SUMMARY:Edsai20: Tutorial - Doreen
END:VEVENT
BEGIN:VEVENT
UID:39643533-3561-4437-a339-653733333039
DTSTAMP:20260425T162004Z
DESCRIPTION:
DTSTART:20201215T070000Z
DTEND:20201215T090000Z
SUMMARY:Edsai20: Tutorial - Lukas
END:VEVENT
BEGIN:VEVENT
UID:37313862-3862-4964-b031-396238616539
DTSTAMP:20260425T162004Z
DESCRIPTION:
DTSTART:20201216T131500Z
DTEND:20201216T144500Z
SUMMARY:Edsai20: Tutorial - Thorsten
END:VEVENT
BEGIN:VEVENT
UID:36356565-3861-4031-b866-353935373935
DTSTAMP:20260425T162004Z
DESCRIPTION:
DTSTART:20210104T110000Z
DTEND:20210104T123000Z
SUMMARY:Edsai20: Tutorial - Doreen
END:VEVENT
BEGIN:VEVENT
UID:39396166-3530-4532-b638-313936343232
DTSTAMP:20260425T162004Z
DESCRIPTION:
DTSTART:20210105T070000Z
DTEND:20210105T090000Z
SUMMARY:Edsai20: Tutorial - Lukas
END:VEVENT
BEGIN:VEVENT
UID:30666130-6131-4539-a434-356632306263
DTSTAMP:20260425T162004Z
DESCRIPTION:
DTSTART:20210106T131500Z
DTEND:20210106T144500Z
SUMMARY:Edsai20: Tutorial - Thorsten
END:VEVENT
BEGIN:VEVENT
UID:37363835-6137-4163-b637-356266663162
DTSTAMP:20260425T162004Z
DESCRIPTION:
DTSTART:20210111T110000Z
DTEND:20210111T123000Z
SUMMARY:Edsai20: Tutorial - Doreen
END:VEVENT
BEGIN:VEVENT
UID:34353361-3437-4665-b530-366564656333
DTSTAMP:20260425T162004Z
DESCRIPTION:
DTSTART:20210112T070000Z
DTEND:20210112T090000Z
SUMMARY:Edsai20: Tutorial - Lukas
END:VEVENT
BEGIN:VEVENT
UID:62373133-3034-4461-a139-393661646130
DTSTAMP:20260425T162004Z
DESCRIPTION:
DTSTART:20210113T131500Z
DTEND:20210113T144500Z
SUMMARY:Edsai20: Tutorial - Thorsten
END:VEVENT
BEGIN:VEVENT
UID:61363163-6333-4232-a266-346132366636
DTSTAMP:20260425T162004Z
DESCRIPTION:
DTSTART:20210118T110000Z
DTEND:20210118T123000Z
SUMMARY:Edsai20: Tutorial - Doreen
END:VEVENT
BEGIN:VEVENT
UID:37313562-6237-4463-b566-313738323264
DTSTAMP:20260425T162004Z
DESCRIPTION:
DTSTART:20210119T070000Z
DTEND:20210119T090000Z
SUMMARY:Edsai20: Tutorial - Lukas
END:VEVENT
BEGIN:VEVENT
UID:64623761-3762-4234-b563-356166343233
DTSTAMP:20260425T162004Z
DESCRIPTION:
DTSTART:20210120T131500Z
DTEND:20210120T144500Z
SUMMARY:Edsai20: Tutorial - Thorsten
END:VEVENT
END:VCALENDAR
