BEGIN:VCALENDAR
VERSION:2.0
PRODID:-//134.96.226.213//NONSGML kigkonsult.se iCalcreator 2.41.92//
CALSCALE:GREGORIAN
METHOD:PUBLISH
UID:33623764-3039-4536-b636-616663306463
X-WR-CALNAME:Elements of Data Science and Artificial Intelligence Calendar
X-WR-CALDESC:Events of the lecture Elements of Data Science and Artificial 
 Intelligence
X-WR-TIMEZONE:Europe/Berlin
BEGIN:VEVENT
UID:34326334-3431-4264-a334-393934613535
DTSTAMP:20260425T162004Z
DESCRIPTION:
DTSTART:20201123T110000Z
DTEND:20201123T123000Z
SUMMARY:Tutorial - Doreen
END:VEVENT
BEGIN:VEVENT
UID:31616665-3031-4431-b936-646637633937
DTSTAMP:20260425T162004Z
DESCRIPTION:
DTSTART:20201124T070000Z
DTEND:20201124T090000Z
SUMMARY:Tutorial - Lukas
END:VEVENT
BEGIN:VEVENT
UID:63303061-6237-4561-a463-663739333564
DTSTAMP:20260425T162004Z
DESCRIPTION:
DTSTART:20201125T131500Z
DTEND:20201125T144500Z
SUMMARY:Tutorial - Thorsten
END:VEVENT
BEGIN:VEVENT
UID:31623536-3935-4337-b830-323062656433
DTSTAMP:20260425T162004Z
DESCRIPTION:
DTSTART:20201130T110000Z
DTEND:20201130T123000Z
SUMMARY:Tutorial - Doreen
END:VEVENT
BEGIN:VEVENT
UID:33306163-6430-4266-b465-396364656463
DTSTAMP:20260425T162004Z
DESCRIPTION:
DTSTART:20201201T070000Z
DTEND:20201201T090000Z
SUMMARY:Tutorial - Lukas
END:VEVENT
BEGIN:VEVENT
UID:65343633-6437-4636-a531-313737653236
DTSTAMP:20260425T162004Z
DESCRIPTION:
DTSTART:20201202T131500Z
DTEND:20201202T144500Z
SUMMARY:Tutorial - Thorsten
END:VEVENT
BEGIN:VEVENT
UID:63333830-6436-4262-a538-393961656366
DTSTAMP:20260425T162004Z
DESCRIPTION:
DTSTART:20201207T110000Z
DTEND:20201207T123000Z
SUMMARY:Tutorial - Doreen
END:VEVENT
BEGIN:VEVENT
UID:30646434-3535-4935-a633-643162636237
DTSTAMP:20260425T162004Z
DESCRIPTION:
DTSTART:20201208T070000Z
DTEND:20201208T090000Z
SUMMARY:Tutorial - Lukas
END:VEVENT
BEGIN:VEVENT
UID:36353664-3563-4361-a166-633639333638
DTSTAMP:20260425T162004Z
DESCRIPTION:
DTSTART:20201209T131500Z
DTEND:20201209T144500Z
SUMMARY:Tutorial - Thorsten
END:VEVENT
BEGIN:VEVENT
UID:35373838-3663-4235-a330-653466363561
DTSTAMP:20260425T162004Z
DESCRIPTION:
DTSTART:20201214T110000Z
DTEND:20201214T123000Z
SUMMARY:Tutorial - Doreen
END:VEVENT
BEGIN:VEVENT
UID:64623938-3036-4332-a137-356335333831
DTSTAMP:20260425T162004Z
DESCRIPTION:
DTSTART:20201215T070000Z
DTEND:20201215T090000Z
SUMMARY:Tutorial - Lukas
END:VEVENT
BEGIN:VEVENT
UID:39626363-6235-4538-b733-333830643866
DTSTAMP:20260425T162004Z
DESCRIPTION:
DTSTART:20201216T131500Z
DTEND:20201216T144500Z
SUMMARY:Tutorial - Thorsten
END:VEVENT
BEGIN:VEVENT
UID:32353630-3831-4230-a630-393535366438
DTSTAMP:20260425T162004Z
DESCRIPTION:
DTSTART:20210104T110000Z
DTEND:20210104T123000Z
SUMMARY:Tutorial - Doreen
END:VEVENT
BEGIN:VEVENT
UID:36363962-3531-4138-a637-376661393462
DTSTAMP:20260425T162004Z
DESCRIPTION:
DTSTART:20210105T070000Z
DTEND:20210105T090000Z
SUMMARY:Tutorial - Lukas
END:VEVENT
BEGIN:VEVENT
UID:36633234-6663-4539-a333-383332623038
DTSTAMP:20260425T162004Z
DESCRIPTION:
DTSTART:20210106T131500Z
DTEND:20210106T144500Z
SUMMARY:Tutorial - Thorsten
END:VEVENT
BEGIN:VEVENT
UID:61613837-6331-4135-a130-323335393035
DTSTAMP:20260425T162004Z
DESCRIPTION:
DTSTART:20210111T110000Z
DTEND:20210111T123000Z
SUMMARY:Tutorial - Doreen
END:VEVENT
BEGIN:VEVENT
UID:33303930-6635-4763-b562-616332333834
DTSTAMP:20260425T162004Z
DESCRIPTION:
DTSTART:20210112T070000Z
DTEND:20210112T090000Z
SUMMARY:Tutorial - Lukas
END:VEVENT
BEGIN:VEVENT
UID:32386638-3839-4337-a638-643134323738
DTSTAMP:20260425T162004Z
DESCRIPTION:
DTSTART:20210113T131500Z
DTEND:20210113T144500Z
SUMMARY:Tutorial - Thorsten
END:VEVENT
BEGIN:VEVENT
UID:63323239-6336-4739-b333-383565366664
DTSTAMP:20260425T162004Z
DESCRIPTION:
DTSTART:20210118T110000Z
DTEND:20210118T123000Z
SUMMARY:Tutorial - Doreen
END:VEVENT
BEGIN:VEVENT
UID:64303430-6338-4862-b162-343130656434
DTSTAMP:20260425T162004Z
DESCRIPTION:
DTSTART:20210119T070000Z
DTEND:20210119T090000Z
SUMMARY:Tutorial - Lukas
END:VEVENT
BEGIN:VEVENT
UID:32653135-3862-4932-a137-626433353566
DTSTAMP:20260425T162004Z
DESCRIPTION:
DTSTART:20210120T131500Z
DTEND:20210120T144500Z
SUMMARY:Tutorial - Thorsten
END:VEVENT
END:VCALENDAR
