BEGIN:VCALENDAR
VERSION:2.0
PRODID:-//134.96.226.213//NONSGML kigkonsult.se iCalcreator 2.41.92//
CALSCALE:GREGORIAN
METHOD:PUBLISH
UID:65336363-3233-4534-b831-313838333133
X-WR-CALNAME:Elements of Data Science and Artificial Intelligence Calendar
X-WR-CALDESC:Events of the lecture Elements of Data Science and Artificial 
 Intelligence
X-WR-TIMEZONE:Europe/Berlin
BEGIN:VEVENT
UID:32333637-3332-4938-b961-343465383566
DTSTAMP:20260425T162005Z
DESCRIPTION:
DTSTART:20201123T123000Z
DTEND:20201123T140000Z
SUMMARY:Office Hour - Doreen
END:VEVENT
BEGIN:VEVENT
UID:63666566-3436-4535-a233-353066343762
DTSTAMP:20260425T162005Z
DESCRIPTION:
DTSTART:20201126T150000Z
DTEND:20201126T170000Z
SUMMARY:Office Hour - Lukas
END:VEVENT
BEGIN:VEVENT
UID:35333537-3039-4063-b332-633131393666
DTSTAMP:20260425T162005Z
DESCRIPTION:
DTSTART:20201127T131500Z
DTEND:20201127T144500Z
SUMMARY:Office Hour - Thorsten
END:VEVENT
BEGIN:VEVENT
UID:62343034-3033-4161-a437-666361306366
DTSTAMP:20260425T162005Z
DESCRIPTION:
DTSTART:20201130T123000Z
DTEND:20201130T140000Z
SUMMARY:Office Hour - Doreen
END:VEVENT
BEGIN:VEVENT
UID:65616465-3364-4530-b130-366234353264
DTSTAMP:20260425T162005Z
DESCRIPTION:
DTSTART:20201203T150000Z
DTEND:20201203T170000Z
SUMMARY:Office Hour - Lukas
END:VEVENT
BEGIN:VEVENT
UID:31666632-3438-4034-b336-623166303835
DTSTAMP:20260425T162005Z
DESCRIPTION:
DTSTART:20201204T131500Z
DTEND:20201204T144500Z
SUMMARY:Office Hour - Thorsten
END:VEVENT
BEGIN:VEVENT
UID:33306331-6462-4633-b766-343632616238
DTSTAMP:20260425T162005Z
DESCRIPTION:
DTSTART:20201207T123000Z
DTEND:20201207T140000Z
SUMMARY:Office Hour - Doreen
END:VEVENT
BEGIN:VEVENT
UID:63633034-3864-4266-b763-613362616263
DTSTAMP:20260425T162005Z
DESCRIPTION:
DTSTART:20201210T150000Z
DTEND:20201210T170000Z
SUMMARY:Office Hour - Lukas
END:VEVENT
BEGIN:VEVENT
UID:66316138-6565-4663-b563-366332313866
DTSTAMP:20260425T162005Z
DESCRIPTION:
DTSTART:20201211T131500Z
DTEND:20201211T144500Z
SUMMARY:Office Hour - Thorsten
END:VEVENT
BEGIN:VEVENT
UID:37636564-3737-4830-a239-623062313035
DTSTAMP:20260425T162005Z
DESCRIPTION:
DTSTART:20201214T123000Z
DTEND:20201214T140000Z
SUMMARY:Office Hour - Doreen
END:VEVENT
BEGIN:VEVENT
UID:38346439-3332-4336-b766-636134386435
DTSTAMP:20260425T162005Z
DESCRIPTION:
DTSTART:20201217T150000Z
DTEND:20201217T170000Z
SUMMARY:Office Hour - Lukas
END:VEVENT
BEGIN:VEVENT
UID:34303362-3738-4539-a139-643734646135
DTSTAMP:20260425T162005Z
DESCRIPTION:
DTSTART:20201218T131500Z
DTEND:20201218T144500Z
SUMMARY:Office Hour - Thorsten
END:VEVENT
BEGIN:VEVENT
UID:64323663-6366-4766-b434-386366353262
DTSTAMP:20260425T162005Z
DESCRIPTION:
DTSTART:20210104T123000Z
DTEND:20210104T140000Z
SUMMARY:Office Hour - Doreen
END:VEVENT
BEGIN:VEVENT
UID:33643761-3132-4565-a231-616135663236
DTSTAMP:20260425T162005Z
DESCRIPTION:
DTSTART:20210107T150000Z
DTEND:20210107T170000Z
SUMMARY:Office Hour - Lukas
END:VEVENT
BEGIN:VEVENT
UID:32653666-3965-4266-a461-646166353364
DTSTAMP:20260425T162005Z
DESCRIPTION:
DTSTART:20210108T131500Z
DTEND:20210108T144500Z
SUMMARY:Office Hour - Thorsten
END:VEVENT
BEGIN:VEVENT
UID:39346166-3639-4965-a531-376339643962
DTSTAMP:20260425T162005Z
DESCRIPTION:
DTSTART:20210111T123000Z
DTEND:20210111T140000Z
SUMMARY:Office Hour - Doreen
END:VEVENT
BEGIN:VEVENT
UID:37643038-3432-4437-a566-303031326339
DTSTAMP:20260425T162005Z
DESCRIPTION:
DTSTART:20210114T150000Z
DTEND:20210114T170000Z
SUMMARY:Office Hour - Lukas
END:VEVENT
BEGIN:VEVENT
UID:39616432-6339-4561-b931-336366333030
DTSTAMP:20260425T162005Z
DESCRIPTION:
DTSTART:20210115T131500Z
DTEND:20210115T144500Z
SUMMARY:Office Hour - Thorsten
END:VEVENT
BEGIN:VEVENT
UID:36616434-3833-4361-b335-323832353731
DTSTAMP:20260425T162005Z
DESCRIPTION:
DTSTART:20210118T123000Z
DTEND:20210118T140000Z
SUMMARY:Office Hour - Doreen
END:VEVENT
BEGIN:VEVENT
UID:39373438-6266-4737-b364-656433623766
DTSTAMP:20260425T162005Z
DESCRIPTION:
DTSTART:20210121T150000Z
DTEND:20210121T170000Z
SUMMARY:Office Hour - Lukas
END:VEVENT
BEGIN:VEVENT
UID:30356139-3630-4338-a630-376263306338
DTSTAMP:20260425T162005Z
DESCRIPTION:
DTSTART:20210122T131500Z
DTEND:20210122T144500Z
SUMMARY:Office Hour - Thorsten
END:VEVENT
END:VCALENDAR
