BEGIN:VCALENDAR
VERSION:2.0
PRODID:-//134.96.226.213//NONSGML kigkonsult.se iCalcreator 2.41.92//
CALSCALE:GREGORIAN
METHOD:PUBLISH
UID:66653932-3265-4434-a461-393237623037
X-WR-CALNAME:Elements of Data Science and Artificial Intelligence Calendar
X-WR-CALDESC:Events of the lecture Elements of Data Science and Artificial 
 Intelligence
X-WR-TIMEZONE:Europe/Berlin
BEGIN:VEVENT
UID:64396231-6631-4639-a538-353265326662
DTSTAMP:20260425T162004Z
DESCRIPTION:<a href='https://youtu.be/PUT5Y8a7ldM'>youtube</a>
DTSTART:20201102T090000Z
DTEND:20201102T110000Z
LOCATION:<a href='https://youtu.be/PUT5Y8a7ldM'>youtube</a>
SUMMARY:Edsai20: Introduction Lecture (Prof. Jens Dittrich)
END:VEVENT
BEGIN:VEVENT
UID:39383736-6437-4231-b963-306335393361
DTSTAMP:20260425T162004Z
DESCRIPTION:<a href='https://youtu.be/3fCRWddCXEI'>https://youtu.be/3fCRWdd
 CXEI</a>
DTSTART:20201105T110000Z
DTEND:20201105T130000Z
LOCATION:<a href='https://youtu.be/3fCRWddCXEI'>https://youtu.be/3fCRWddCXE
 I</a>
SUMMARY:Edsai20: Introduction to Data Science (Prof. Jens Dittrich)
END:VEVENT
BEGIN:VEVENT
UID:35613032-6532-4963-b438-313939623337
DTSTAMP:20260425T162004Z
DESCRIPTION:<a href='https://youtu.be/NiWRodJjaIk'>https://youtu.be/NiWRodJ
 jaIk</a>
DTSTART:20201109T090000Z
DTEND:20201109T110000Z
LOCATION:<a href='https://youtu.be/NiWRodJjaIk'>https://youtu.be/NiWRodJjaI
 k</a>
SUMMARY:Edsai20: Introduction to Artificial Intelligence (Prof. Jörg Hoffma
 nn)
END:VEVENT
BEGIN:VEVENT
UID:37383164-3864-4265-a363-646337656237
DTSTAMP:20260425T162004Z
DESCRIPTION:<a href='https://youtu.be/xG-9NYl2Z7A'>https://youtu.be/xG-9NYl
 2Z7A</a>
DTSTART:20201112T110000Z
DTEND:20201112T130000Z
LOCATION:<a href='https://youtu.be/xG-9NYl2Z7A'>https://youtu.be/xG-9NYl2Z7
 A</a>
SUMMARY:Edsai20: Introduction to Python\, Part 1 (Prof. Jens Dittrich)
END:VEVENT
BEGIN:VEVENT
UID:66633661-6439-4666-b962-313264666165
DTSTAMP:20260425T162004Z
DESCRIPTION:<a href='https://youtu.be/_-cJzO7Byzk'>https://youtu.be/_-cJzO7
 Byzk</a>
DTSTART:20201116T090000Z
DTEND:20201116T110000Z
LOCATION:<a href='https://youtu.be/_-cJzO7Byzk'>https://youtu.be/_-cJzO7Byz
 k</a>
SUMMARY:Edsai20: Introduction to Python\, Part 2 (Prof. Jens Dittrich)
END:VEVENT
BEGIN:VEVENT
UID:62373133-6639-4235-a361-323335366137
DTSTAMP:20260425T162004Z
DESCRIPTION:<a href='https://youtu.be/mdJ1k4qaaeE'>https://youtu.be/mdJ1k4q
 aaeE</a>
DTSTART:20201119T110000Z
DTEND:20201119T130000Z
LOCATION:<a href='https://youtu.be/mdJ1k4qaaeE'>https://youtu.be/mdJ1k4qaae
 E</a>
SUMMARY:Edsai20: Big Data and Databases 1 (Prof. Jens Dittrich)
END:VEVENT
BEGIN:VEVENT
UID:65666664-6536-4032-b931-373133653336
DTSTAMP:20260425T162004Z
DESCRIPTION:<a href='https://youtu.be/1vjUNZ831bE'>https://youtu.be/1vjUNZ8
 31bE</a>
DTSTART:20201123T090000Z
DTEND:20201123T110000Z
LOCATION:<a href='https://youtu.be/1vjUNZ831bE'>https://youtu.be/1vjUNZ831b
 E</a>
SUMMARY:Edsai20: Big Data and Databases 2 (Prof. Jens Dittrich)
END:VEVENT
BEGIN:VEVENT
UID:65663864-6131-4638-b161-323432653663
DTSTAMP:20260425T162004Z
DESCRIPTION:<a href='https://youtu.be/BkDfNG7Zwjo'>https://youtu.be/BkDfNG7
 Zwjo</a>
DTSTART:20201126T110000Z
DTEND:20201126T130000Z
LOCATION:<a href='https://youtu.be/BkDfNG7Zwjo'>https://youtu.be/BkDfNG7Zwj
 o</a>
SUMMARY:Edsai20: Big Data and Databases 3 (Prof. Jens Dittrich)
END:VEVENT
BEGIN:VEVENT
UID:65333533-3164-4939-b662-613535613039
DTSTAMP:20260425T162004Z
DESCRIPTION:<a href='https://youtu.be/6mhFBgBhb4c'>https://youtu.be/6mhFBgB
 hb4c</a>
DTSTART:20201130T090000Z
DTEND:20201130T110000Z
LOCATION:<a href='https://youtu.be/6mhFBgBhb4c'>https://youtu.be/6mhFBgBhb4
 c</a>
SUMMARY:Edsai20: Big Data and Databases 4 (Prof. Jens Dittrich)
END:VEVENT
BEGIN:VEVENT
UID:32633834-6639-4165-a335-306665363639
DTSTAMP:20260425T162004Z
DESCRIPTION:<a href='https://youtu.be/e6_Hu_MML64'>https://youtu.be/e6_Hu_M
 ML64</a>
DTSTART:20201203T110000Z
DTEND:20201203T130000Z
LOCATION:<a href='https://youtu.be/e6_Hu_MML64'>https://youtu.be/e6_Hu_MML6
 4</a>
SUMMARY:Edsai20: Introduction to Machine Learning (Prof. Bernt Schiele)
END:VEVENT
BEGIN:VEVENT
UID:34303036-6637-4261-b438-636263326364
DTSTAMP:20260425T162004Z
DESCRIPTION:<a href='https://youtu.be/zdIMEwruxwU'>https://youtu.be/zdIMEwr
 uxwU</a>
DTSTART:20201207T090000Z
DTEND:20201207T110000Z
LOCATION:<a href='https://youtu.be/zdIMEwruxwU'>https://youtu.be/zdIMEwruxw
 U</a>
SUMMARY:Edsai20: Machine Learning Basics (Prof. Bernt Schiele)
END:VEVENT
BEGIN:VEVENT
UID:62393537-3065-4039-b231-653634336462
DTSTAMP:20260425T162004Z
DESCRIPTION:<a href='https://youtu.be/GcLNhvvfXd8'>https://youtu.be/GcLNhvv
 fXd8</a>
DTSTART:20201210T110000Z
DTEND:20201210T130000Z
LOCATION:<a href='https://youtu.be/GcLNhvvfXd8'>https://youtu.be/GcLNhvvfXd
 8</a>
SUMMARY:Edsai20: Machine Learning in Python (Prof. Jens Dittrich)
END:VEVENT
BEGIN:VEVENT
UID:37396138-6230-4930-a138-653235363538
DTSTAMP:20260425T162004Z
DESCRIPTION:<a href='https://youtu.be/RN7vR5Qya8E'>https://youtu.be/RN7vR5Q
 ya8E</a>
DTSTART:20201214T090000Z
DTEND:20201214T110000Z
LOCATION:<a href='https://youtu.be/RN7vR5Qya8E'>https://youtu.be/RN7vR5Qya8
 E</a>
SUMMARY:Edsai20: Machine Learning - Supervised Learning  (Prof. Bernt Schie
 le)
END:VEVENT
BEGIN:VEVENT
UID:65353335-3631-4064-b336-626462383432
DTSTAMP:20260425T162004Z
DESCRIPTION:<a href='https://youtu.be/aQVNJ2hxTW8'>https://youtu.be/aQVNJ2h
 xTW8</a>
DTSTART:20201217T110000Z
DTEND:20201217T130000Z
LOCATION:<a href='https://youtu.be/aQVNJ2hxTW8'>https://youtu.be/aQVNJ2hxTW
 8</a>
SUMMARY:Edsai20: Machine Learning Artificial Neural Networks (Prof. Bernt S
 chiele)
END:VEVENT
BEGIN:VEVENT
UID:30643035-6562-4464-b565-346438346135
DTSTAMP:20260425T162004Z
DESCRIPTION:<a href='https://youtu.be/QOUntPfXvy8'>https://youtu.be/QOUntPf
 Xvy8</a>
DTSTART:20210104T090000Z
DTEND:20210104T110000Z
LOCATION:<a href='https://youtu.be/QOUntPfXvy8'>https://youtu.be/QOUntPfXvy
 8</a>
SUMMARY:Edsai20: Reinforcement Learning and Alpha Go 1 (Prof. Jörg Hoffmann
 )
END:VEVENT
BEGIN:VEVENT
UID:36666364-6364-4332-a136-653932326564
DTSTAMP:20260425T162004Z
DESCRIPTION:<a href='https://youtu.be/KEf23FJOHgo'>https://youtu.be/KEf23FJ
 OHgo</a>
DTSTART:20210107T111500Z
DTEND:20210107T130000Z
LOCATION:<a href='https://youtu.be/KEf23FJOHgo'>https://youtu.be/KEf23FJOHg
 o</a>
SUMMARY:Edsai20: Reinforcement Learning and Alpha Go 2 (Prof. Jörg Hoffmann
 )
END:VEVENT
BEGIN:VEVENT
UID:38386235-6436-4639-a139-303333616664
DTSTAMP:20260425T162004Z
DESCRIPTION:<a href='https://youtu.be/IdzQX4NLTwg'>https://youtu.be/IdzQX4N
 LTwg</a>
DTSTART:20210111T090000Z
DTEND:20210111T110000Z
LOCATION:<a href='https://youtu.be/IdzQX4NLTwg'>https://youtu.be/IdzQX4NLTw
 g</a>
SUMMARY:Edsai20: Reinforcement Learning and Alpha Go 3 (Prof. Jörg Hoffmann
 )
END:VEVENT
BEGIN:VEVENT
UID:30653739-6663-4230-b933-306236353038
DTSTAMP:20260425T162004Z
DESCRIPTION:<a href='https://youtu.be/zF0qQHxhRMw'>https://youtu.be/zF0qQHx
 hRMw</a>
DTSTART:20210114T110000Z
DTEND:20210114T130000Z
LOCATION:<a href='https://youtu.be/zF0qQHxhRMw'>https://youtu.be/zF0qQHxhRM
 w</a>
SUMMARY:Edsai20: Natural Language Processing 1 (Prof. Vera Demberg)
END:VEVENT
BEGIN:VEVENT
UID:61396563-6165-4033-a132-356164633534
DTSTAMP:20260425T162004Z
DESCRIPTION:<a href='https://youtu.be/o4_JWTWHPO4'>https://youtu.be/o4_JWTW
 HPO4</a>
DTSTART:20210118T090000Z
DTEND:20210118T110000Z
LOCATION:<a href='https://youtu.be/o4_JWTWHPO4'>https://youtu.be/o4_JWTWHPO
 4</a>
SUMMARY:Edsai20: Natural Language Processing 2 (Prof. Vera Demberg)
END:VEVENT
BEGIN:VEVENT
UID:33386561-6661-4865-b265-353033303335
DTSTAMP:20260425T162004Z
DESCRIPTION:<a href='https://youtu.be/pZyYpisSTTI'>https://youtu.be/pZyYpis
 STTI</a>
DTSTART:20210121T110000Z
DTEND:20210121T130000Z
LOCATION:<a href='https://youtu.be/pZyYpisSTTI'>https://youtu.be/pZyYpisSTT
 I</a>
SUMMARY:Edsai20: Natural Language Processing 3 (Prof. Vera Demberg)
END:VEVENT
BEGIN:VEVENT
UID:34656635-3136-4237-b036-353865666435
DTSTAMP:20260425T162004Z
DESCRIPTION:<a href='https://youtu.be/D_BI9u_NaGU'>https://youtu.be/D_BI9u_
 NaGU</a>
DTSTART:20210125T090000Z
DTEND:20210125T110000Z
LOCATION:<a href='https://youtu.be/D_BI9u_NaGU'>https://youtu.be/D_BI9u_NaG
 U</a>
SUMMARY:Edsai20: Natural Language Processing 4 (Prof. Vera Demberg)
END:VEVENT
BEGIN:VEVENT
UID:61313638-3837-4864-a562-636233613533
DTSTAMP:20260425T162004Z
DESCRIPTION:<a href='https://youtu.be/HU5ZLHn8X7M'>https://youtu.be/HU5ZLHn
 8X7M</a>
DTSTART:20210128T110000Z
DTEND:20210128T130000Z
LOCATION:<a href='https://youtu.be/HU5ZLHn8X7M'>https://youtu.be/HU5ZLHn8X7
 M</a>
SUMMARY:Edsai20: Autonomous Driving 1 (Prof. Bernt Schiele)
END:VEVENT
BEGIN:VEVENT
UID:36363732-3663-4431-b939-323739303930
DTSTAMP:20260425T162004Z
DESCRIPTION:<a href='https://youtu.be/ysspzVui_cA'>https://youtu.be/ysspzVu
 i_cA</a>
DTSTART:20210201T090000Z
DTEND:20210201T110000Z
LOCATION:<a href='https://youtu.be/ysspzVui_cA'>https://youtu.be/ysspzVui_c
 A</a>
SUMMARY:Edsai20: Autonomous Driving 2 (Prof. Bernt Schiele)
END:VEVENT
BEGIN:VEVENT
UID:65326663-3733-4634-b232-323034663436
DTSTAMP:20260425T162004Z
DESCRIPTION:<a href='https://www.youtube.com/watch?v=gxJSWXq48So'>https://w
 ww.youtube.com/watch?v=gxJSWXq48So</a>
DTSTART:20210204T110000Z
DTEND:20210204T130000Z
LOCATION:<a href='https://www.youtube.com/watch?v=gxJSWXq48So'>https://www.
 youtube.com/watch?v=gxJSWXq48So</a>
SUMMARY:Edsai20: Concluding Lecture (Prof. Dr. Vera Demberg\, Prof. Dr. Jen
 s Dittrich\, Prof. Dr. Jörg Hoffmann\, Prof. Dr. Bernt Schiele)
END:VEVENT
END:VCALENDAR
