BEGIN:VCALENDAR
VERSION:2.0
PRODID:-//134.96.226.213//NONSGML kigkonsult.se iCalcreator 2.41.92//
CALSCALE:GREGORIAN
METHOD:PUBLISH
UID:37306336-3236-4539-b632-333835633339
X-WR-CALNAME:Project Seminar Data Science and Artificial Intelligence Calen
 dar
X-WR-CALDESC:Events of the lecture Project Seminar Data Science and Artific
 ial Intelligence
X-WR-TIMEZONE:Europe/Berlin
BEGIN:VEVENT
UID:33306639-6338-4362-a162-616438346132
DTSTAMP:20260425T165839Z
DESCRIPTION:
DTSTART;VALUE=DATE:20260420
DTEND;VALUE=DATE:20260421
SUMMARY:Dsaiproject26: Register with CMS
END:VEVENT
BEGIN:VEVENT
UID:63616138-6639-4831-a266-323431363534
DTSTAMP:20260425T165839Z
DESCRIPTION:
DTSTART;VALUE=DATE:20260420
DTEND;VALUE=DATE:20260421
SUMMARY:Dsaiproject26: Create a Group
END:VEVENT
BEGIN:VEVENT
UID:66336637-3936-4235-b563-373633373666
DTSTAMP:20260425T165839Z
DESCRIPTION:
DTSTART;VALUE=DATE:20260420
DTEND;VALUE=DATE:20260421
SUMMARY:Dsaiproject26: Send Group's Topic Preferences
END:VEVENT
BEGIN:VEVENT
UID:35643638-6263-4161-b034-326433626539
DTSTAMP:20260425T165839Z
DESCRIPTION:
DTSTART;VALUE=DATE:20260512
DTEND;VALUE=DATE:20260513
SUMMARY:Dsaiproject26: LFS Registration
END:VEVENT
BEGIN:VEVENT
UID:32316662-3335-4833-a431-316262646237
DTSTAMP:20260425T165839Z
DESCRIPTION:
DTSTART;VALUE=DATE:20260515
DTEND;VALUE=DATE:20260516
SUMMARY:Dsaiproject26: Submit Main Figure
END:VEVENT
BEGIN:VEVENT
UID:32623865-6134-4439-b961-373136643730
DTSTAMP:20260425T165839Z
DESCRIPTION:
DTSTART;VALUE=DATE:20260617
DTEND;VALUE=DATE:20260618
SUMMARY:Dsaiproject26: Submit Poster
END:VEVENT
BEGIN:VEVENT
UID:61313061-3832-4336-b963-353139396630
DTSTAMP:20260425T165839Z
DESCRIPTION:
DTSTART;VALUE=DATE:20260731
DTEND;VALUE=DATE:20260801
SUMMARY:Dsaiproject26: Submit Final Report
END:VEVENT
END:VCALENDAR
