BEGIN:VCALENDAR
VERSION:2.0
PRODID:-//134.96.226.213//NONSGML kigkonsult.se iCalcreator 2.41.92//
CALSCALE:GREGORIAN
METHOD:PUBLISH
UID:39316233-3832-4233-b361-303934373466
X-WR-CALNAME:Project Seminar Data Science and Artificial Intelligence Calen
 dar
X-WR-CALDESC:Events of the lecture Project Seminar Data Science and Artific
 ial Intelligence
X-WR-TIMEZONE:Europe/Berlin
BEGIN:VEVENT
UID:32313737-3532-4430-b463-363437613666
DTSTAMP:20260425T153406Z
DESCRIPTION:
DTSTART:20260415T080000Z
DTEND:20260415T100000Z
LOCATION:E1.3 HS002
SUMMARY:Kickoff
END:VEVENT
BEGIN:VEVENT
UID:32313534-6531-4234-a364-336635366661
DTSTAMP:20260425T153406Z
DESCRIPTION:
DTSTART:20260624T080000Z
DTEND:20260624T100000Z
LOCATION:tba
SUMMARY:Poster Session
END:VEVENT
END:VCALENDAR
