BEGIN:VCALENDAR
VERSION:2.0
PRODID:-//134.96.226.213//NONSGML kigkonsult.se iCalcreator 2.41.92//
CALSCALE:GREGORIAN
METHOD:PUBLISH
UID:37663662-3939-4638-b230-303239623163
X-WR-CALNAME:Project Seminar Data Science and Artificial Intelligence Calen
 dar
X-WR-CALDESC:Events of the lecture Project Seminar Data Science and Artific
 ial Intelligence
X-WR-TIMEZONE:Europe/Berlin
BEGIN:VEVENT
UID:66343333-3032-4832-b264-373534363735
DTSTAMP:20260425T165652Z
DESCRIPTION:
DTSTART:20260415T080000Z
DTEND:20260415T100000Z
LOCATION:E1.3 HS002
SUMMARY:Kickoff
END:VEVENT
BEGIN:VEVENT
UID:62633237-6637-4539-b339-366161643864
DTSTAMP:20260425T165652Z
DESCRIPTION:
DTSTART;VALUE=DATE:20260420
DTEND;VALUE=DATE:20260421
SUMMARY:Register with CMS
END:VEVENT
BEGIN:VEVENT
UID:64383236-3361-4639-b735-333339393331
DTSTAMP:20260425T165652Z
DESCRIPTION:
DTSTART;VALUE=DATE:20260420
DTEND;VALUE=DATE:20260421
SUMMARY:Send Group's Topic Preferences
END:VEVENT
BEGIN:VEVENT
UID:38363966-3637-4739-a532-643636333739
DTSTAMP:20260425T165652Z
DESCRIPTION:
DTSTART;VALUE=DATE:20260420
DTEND;VALUE=DATE:20260421
SUMMARY:Create a Group
END:VEVENT
BEGIN:VEVENT
UID:36343537-6262-4263-a264-376565373135
DTSTAMP:20260425T165652Z
DESCRIPTION:
DTSTART;VALUE=DATE:20260512
DTEND;VALUE=DATE:20260513
SUMMARY:LFS Registration
END:VEVENT
BEGIN:VEVENT
UID:30353332-3865-4264-b834-356263663866
DTSTAMP:20260425T165652Z
DESCRIPTION:
DTSTART;VALUE=DATE:20260515
DTEND;VALUE=DATE:20260516
SUMMARY:Submit Main Figure
END:VEVENT
BEGIN:VEVENT
UID:39646534-3635-4435-a464-626466356665
DTSTAMP:20260425T165652Z
DESCRIPTION:
DTSTART;VALUE=DATE:20260617
DTEND;VALUE=DATE:20260618
SUMMARY:Submit Poster
END:VEVENT
BEGIN:VEVENT
UID:35376230-3533-4336-b564-366539366533
DTSTAMP:20260425T165652Z
DESCRIPTION:
DTSTART:20260624T080000Z
DTEND:20260624T100000Z
LOCATION:tba
SUMMARY:Poster Session
END:VEVENT
BEGIN:VEVENT
UID:36656261-3366-4131-a466-616239666462
DTSTAMP:20260425T165652Z
DESCRIPTION:
DTSTART;VALUE=DATE:20260731
DTEND;VALUE=DATE:20260801
SUMMARY:Submit Final Report
END:VEVENT
END:VCALENDAR
