BEGIN:VCALENDAR
VERSION:2.0
PRODID:-//134.96.226.213//NONSGML kigkonsult.se iCalcreator 2.41.92//
CALSCALE:GREGORIAN
METHOD:PUBLISH
UID:38313662-3331-4337-b932-303664376132
X-WR-CALNAME:Cyber-Physical Systems Calendar
X-WR-CALDESC:Events of the lecture Cyber-Physical Systems
X-WR-TIMEZONE:Europe/Berlin
BEGIN:VEVENT
UID:35316335-6330-4432-b833-383133373132
DTSTAMP:20260425T153407Z
DESCRIPTION:
DTSTART:20260409T080000Z
DTEND:20260409T080000Z
LOCATION:HS002
SUMMARY:Cps: 01: Introduction
END:VEVENT
BEGIN:VEVENT
UID:37323532-3865-4763-b561-633233613130
DTSTAMP:20260425T153407Z
DESCRIPTION:
DTSTART:20260416T080000Z
DTEND:20260416T100000Z
LOCATION:HS002
SUMMARY:Cps: 02: Discrete-time linear time-invariant systems
END:VEVENT
BEGIN:VEVENT
UID:33373564-3235-4464-a565-333163646566
DTSTAMP:20260425T153407Z
DESCRIPTION:
DTSTART:20260421T140000Z
DTEND:20260421T160000Z
LOCATION:HS002
SUMMARY:Cps: 03: Stability analysis
END:VEVENT
BEGIN:VEVENT
UID:33353135-3761-4831-a131-386335306435
DTSTAMP:20260425T153407Z
DESCRIPTION:
DTSTART:20260423T080000Z
DTEND:20260423T100000Z
LOCATION:HS002
SUMMARY:Cps: 04: Z-transform
END:VEVENT
BEGIN:VEVENT
UID:61313838-6531-4833-a263-393532323137
DTSTAMP:20260425T153407Z
DESCRIPTION:
DTSTART:20260428T140000Z
DTEND:20260428T160000Z
LOCATION:HS002
SUMMARY:Cps: 05: Transient properties
END:VEVENT
BEGIN:VEVENT
UID:30653932-3236-4264-b839-333237386162
DTSTAMP:20260425T153407Z
DESCRIPTION:
DTSTART:20260430T080000Z
DTEND:20260430T100000Z
LOCATION:HS002
SUMMARY:Cps: 06: Observability & Controllability
END:VEVENT
BEGIN:VEVENT
UID:37666563-3332-4435-a534-643161646664
DTSTAMP:20260425T153407Z
DESCRIPTION:
DTSTART:20260505T140000Z
DTEND:20260505T160000Z
LOCATION:HS002
SUMMARY:Cps: 07: Feedback interconnection
END:VEVENT
BEGIN:VEVENT
UID:36666165-3565-4335-b735-633165363736
DTSTAMP:20260425T153407Z
DESCRIPTION:
DTSTART:20260507T080000Z
DTEND:20260507T100000Z
LOCATION:HS002
SUMMARY:Cps: 08: State feedback controller
END:VEVENT
BEGIN:VEVENT
UID:31316664-3534-4431-b163-366336363839
DTSTAMP:20260425T153407Z
DESCRIPTION:
DTSTART;VALUE=DATE:20260511
DTEND;VALUE=DATE:20260512
SUMMARY:Cps: Assignment 1 release: state feedback controller design
END:VEVENT
BEGIN:VEVENT
UID:30373136-3033-4361-b030-396232643837
DTSTAMP:20260425T153407Z
DESCRIPTION:
DTSTART;VALUE=DATE:20260517
DTEND;VALUE=DATE:20260518
SUMMARY:Cps: Assignment 1 due: state feedback controller design
END:VEVENT
BEGIN:VEVENT
UID:36343366-3465-4238-a465-613762366435
DTSTAMP:20260425T153407Z
DESCRIPTION:
DTSTART:20260519T140000Z
DTEND:20260519T160000Z
LOCATION:HS002
SUMMARY:Cps: 09: Observer design
END:VEVENT
BEGIN:VEVENT
UID:32633562-3262-4463-a139-323633363266
DTSTAMP:20260425T153407Z
DESCRIPTION:
DTSTART:20260521T080000Z
DTEND:20260521T100000Z
LOCATION:HS002
SUMMARY:Cps: 10: Output feedback
END:VEVENT
BEGIN:VEVENT
UID:36346433-3137-4530-b061-353031306434
DTSTAMP:20260425T153407Z
DESCRIPTION:
DTSTART:20260526T140000Z
DTEND:20260526T160000Z
LOCATION:HS002
SUMMARY:Cps: 11: PID controller design
END:VEVENT
BEGIN:VEVENT
UID:66353663-6538-4335-a566-363137363530
DTSTAMP:20260425T153407Z
DESCRIPTION:
DTSTART:20260528T080000Z
DTEND:20260528T100000Z
LOCATION:HS002
SUMMARY:Cps: 12: LQR controller design
END:VEVENT
BEGIN:VEVENT
UID:31323936-3664-4639-a635-386662643231
DTSTAMP:20260425T153407Z
DESCRIPTION:
DTSTART:20260602T140000Z
DTEND:20260602T160000Z
LOCATION:HS002
SUMMARY:Cps: 13: Robustness
END:VEVENT
BEGIN:VEVENT
UID:36316163-6333-4238-b261-326465643433
DTSTAMP:20260425T153407Z
DESCRIPTION:
DTSTART:20260609T140000Z
DTEND:20260609T160000Z
LOCATION:HS002
SUMMARY:Cps: 14: Controller implementation 1
END:VEVENT
BEGIN:VEVENT
UID:61393636-3361-4733-b834-316538336136
DTSTAMP:20260425T153407Z
DESCRIPTION:
DTSTART:20260611T080000Z
DTEND:20260611T100000Z
LOCATION:HS002
SUMMARY:Cps: 15: Controller implementation 2
END:VEVENT
BEGIN:VEVENT
UID:66383737-3234-4762-a230-363631323939
DTSTAMP:20260425T153407Z
DESCRIPTION:
DTSTART:20260618T080000Z
DTEND:20260618T100000Z
LOCATION:HS002
SUMMARY:Cps: 16: Scheduling 1
END:VEVENT
BEGIN:VEVENT
UID:66333232-3530-4166-b339-366261646639
DTSTAMP:20260425T153407Z
DESCRIPTION:
DTSTART:20260623T140000Z
DTEND:20260623T160000Z
LOCATION:HS002
SUMMARY:Cps: 17: Scheduling 2
END:VEVENT
BEGIN:VEVENT
UID:35333136-3066-4364-b663-656433326437
DTSTAMP:20260425T153407Z
DESCRIPTION:
DTSTART:20260625T080000Z
DTEND:20260625T100000Z
LOCATION:HS002
SUMMARY:Cps: 18: Model identification 1
END:VEVENT
BEGIN:VEVENT
UID:38613162-6265-4461-a430-393263646431
DTSTAMP:20260425T153407Z
DESCRIPTION:
DTSTART:20260630T140000Z
DTEND:20260630T160000Z
LOCATION:HS002
SUMMARY:Cps: 19: Model identification 2
END:VEVENT
BEGIN:VEVENT
UID:32636439-6538-4564-b439-323239666266
DTSTAMP:20260425T153407Z
DESCRIPTION:
DTSTART:20260702T080000Z
DTEND:20260702T100000Z
LOCATION:HS002
SUMMARY:Cps: 20: Course recap
END:VEVENT
BEGIN:VEVENT
UID:33613233-6233-4636-b263-363963646431
DTSTAMP:20260425T153407Z
DESCRIPTION:
DTSTART;VALUE=DATE:20260706
DTEND;VALUE=DATE:20260707
SUMMARY:Cps: Assignment 2 release: model identification
END:VEVENT
BEGIN:VEVENT
UID:64643037-3265-4433-b638-386630396630
DTSTAMP:20260425T153407Z
DESCRIPTION:
DTSTART;VALUE=DATE:20260712
DTEND;VALUE=DATE:20260713
SUMMARY:Cps: Assignment 2 due: model identification
END:VEVENT
BEGIN:VEVENT
UID:62316661-3933-4232-a136-336265323461
DTSTAMP:20260425T153407Z
DESCRIPTION:
DTSTART:20260728T070000Z
DTEND:20260728T100000Z
LOCATION:HS001\, HS002
SUMMARY:Cps: Exam 1
END:VEVENT
BEGIN:VEVENT
UID:31373566-3538-4832-b261-313630613639
DTSTAMP:20260425T153407Z
DESCRIPTION:
DTSTART:20260818T070000Z
DTEND:20260818T100000Z
LOCATION:HS001\, HS002
SUMMARY:Cps: Exam 2
END:VEVENT
END:VCALENDAR
