BEGIN:VCALENDAR
VERSION:2.0
PRODID:-//134.96.226.213//NONSGML kigkonsult.se iCalcreator 2.41.92//
CALSCALE:GREGORIAN
METHOD:PUBLISH
UID:61393030-3431-4162-b466-383261653936
X-WR-CALNAME:Cyber-Physical Systems Calendar
X-WR-CALDESC:Events of the lecture Cyber-Physical Systems
X-WR-TIMEZONE:Europe/Berlin
BEGIN:VEVENT
UID:35303663-3237-4138-a130-333165383664
DTSTAMP:20260425T165720Z
DESCRIPTION:
DTSTART:20260409T080000Z
DTEND:20260409T080000Z
LOCATION:HS002
SUMMARY:01: Introduction
END:VEVENT
BEGIN:VEVENT
UID:37396462-6166-4130-b538-316335653062
DTSTAMP:20260425T165720Z
DESCRIPTION:
DTSTART:20260416T080000Z
DTEND:20260416T100000Z
LOCATION:HS002
SUMMARY:02: Discrete-time linear time-invariant systems
END:VEVENT
BEGIN:VEVENT
UID:66323439-3037-4930-b330-353136616331
DTSTAMP:20260425T165720Z
DESCRIPTION:
DTSTART:20260421T140000Z
DTEND:20260421T160000Z
LOCATION:HS002
SUMMARY:03: Stability analysis
END:VEVENT
BEGIN:VEVENT
UID:31623536-3638-4537-a564-306530366335
DTSTAMP:20260425T165720Z
DESCRIPTION:
DTSTART:20260423T080000Z
DTEND:20260423T100000Z
LOCATION:HS002
SUMMARY:04: Z-transform
END:VEVENT
BEGIN:VEVENT
UID:65323832-3435-4431-b536-373263336162
DTSTAMP:20260425T165720Z
DESCRIPTION:
DTSTART:20260428T140000Z
DTEND:20260428T160000Z
LOCATION:HS002
SUMMARY:05: Transient properties
END:VEVENT
BEGIN:VEVENT
UID:38623366-3736-4730-b265-666536613631
DTSTAMP:20260425T165720Z
DESCRIPTION:
DTSTART:20260430T080000Z
DTEND:20260430T100000Z
LOCATION:HS002
SUMMARY:06: Observability & Controllability
END:VEVENT
BEGIN:VEVENT
UID:30316463-3336-4934-b033-626138643339
DTSTAMP:20260425T165720Z
DESCRIPTION:
DTSTART:20260505T140000Z
DTEND:20260505T160000Z
LOCATION:HS002
SUMMARY:07: Feedback interconnection
END:VEVENT
BEGIN:VEVENT
UID:36343637-3939-4037-a161-656665333562
DTSTAMP:20260425T165720Z
DESCRIPTION:
DTSTART:20260507T080000Z
DTEND:20260507T100000Z
LOCATION:HS002
SUMMARY:08: State feedback controller
END:VEVENT
BEGIN:VEVENT
UID:32386234-6636-4934-a535-366263373164
DTSTAMP:20260425T165720Z
DESCRIPTION:
DTSTART;VALUE=DATE:20260511
DTEND;VALUE=DATE:20260512
SUMMARY:Assignment 1 release: state feedback controller design
END:VEVENT
BEGIN:VEVENT
UID:30636339-3635-4632-a532-333862643136
DTSTAMP:20260425T165720Z
DESCRIPTION:
DTSTART;VALUE=DATE:20260517
DTEND;VALUE=DATE:20260518
SUMMARY:Assignment 1 due: state feedback controller design
END:VEVENT
BEGIN:VEVENT
UID:35326365-6363-4135-a638-613765303163
DTSTAMP:20260425T165720Z
DESCRIPTION:
DTSTART:20260519T140000Z
DTEND:20260519T160000Z
LOCATION:HS002
SUMMARY:09: Observer design
END:VEVENT
BEGIN:VEVENT
UID:33333436-3564-4064-a166-366530616133
DTSTAMP:20260425T165720Z
DESCRIPTION:
DTSTART:20260521T080000Z
DTEND:20260521T100000Z
LOCATION:HS002
SUMMARY:10: Output feedback
END:VEVENT
BEGIN:VEVENT
UID:63356138-6539-4639-b564-643436303833
DTSTAMP:20260425T165720Z
DESCRIPTION:
DTSTART:20260526T140000Z
DTEND:20260526T160000Z
LOCATION:HS002
SUMMARY:11: PID controller design
END:VEVENT
BEGIN:VEVENT
UID:37623332-3939-4234-b561-623461646261
DTSTAMP:20260425T165720Z
DESCRIPTION:
DTSTART:20260528T080000Z
DTEND:20260528T100000Z
LOCATION:HS002
SUMMARY:12: LQR controller design
END:VEVENT
BEGIN:VEVENT
UID:65626637-6664-4534-b864-343866356463
DTSTAMP:20260425T165720Z
DESCRIPTION:
DTSTART:20260602T140000Z
DTEND:20260602T160000Z
LOCATION:HS002
SUMMARY:13: Robustness
END:VEVENT
BEGIN:VEVENT
UID:62313762-3163-4334-a239-363139653866
DTSTAMP:20260425T165720Z
DESCRIPTION:
DTSTART:20260609T140000Z
DTEND:20260609T160000Z
LOCATION:HS002
SUMMARY:14: Controller implementation 1
END:VEVENT
BEGIN:VEVENT
UID:36613730-3263-4961-b038-376463343762
DTSTAMP:20260425T165720Z
DESCRIPTION:
DTSTART:20260611T080000Z
DTEND:20260611T100000Z
LOCATION:HS002
SUMMARY:15: Controller implementation 2
END:VEVENT
BEGIN:VEVENT
UID:62393665-3038-4933-b263-363230626136
DTSTAMP:20260425T165720Z
DESCRIPTION:
DTSTART:20260618T080000Z
DTEND:20260618T100000Z
LOCATION:HS002
SUMMARY:16: Scheduling 1
END:VEVENT
BEGIN:VEVENT
UID:33316631-3530-4234-b735-363864353631
DTSTAMP:20260425T165720Z
DESCRIPTION:
DTSTART:20260623T140000Z
DTEND:20260623T160000Z
LOCATION:HS002
SUMMARY:17: Scheduling 2
END:VEVENT
BEGIN:VEVENT
UID:65633633-3639-4664-a134-636133643234
DTSTAMP:20260425T165720Z
DESCRIPTION:
DTSTART:20260625T080000Z
DTEND:20260625T100000Z
LOCATION:HS002
SUMMARY:18: Model identification 1
END:VEVENT
BEGIN:VEVENT
UID:36393732-3862-4437-a561-613835313631
DTSTAMP:20260425T165720Z
DESCRIPTION:
DTSTART:20260630T140000Z
DTEND:20260630T160000Z
LOCATION:HS002
SUMMARY:19: Model identification 2
END:VEVENT
BEGIN:VEVENT
UID:62656337-6132-4337-a432-633461636136
DTSTAMP:20260425T165720Z
DESCRIPTION:
DTSTART:20260702T080000Z
DTEND:20260702T100000Z
LOCATION:HS002
SUMMARY:20: Course recap
END:VEVENT
BEGIN:VEVENT
UID:66653464-6662-4830-a265-393931633133
DTSTAMP:20260425T165720Z
DESCRIPTION:
DTSTART;VALUE=DATE:20260706
DTEND;VALUE=DATE:20260707
SUMMARY:Assignment 2 release: model identification
END:VEVENT
BEGIN:VEVENT
UID:65636136-6139-4064-b663-626364656134
DTSTAMP:20260425T165720Z
DESCRIPTION:
DTSTART;VALUE=DATE:20260712
DTEND;VALUE=DATE:20260713
SUMMARY:Assignment 2 due: model identification
END:VEVENT
BEGIN:VEVENT
UID:33333164-6465-4936-b563-356334353662
DTSTAMP:20260425T165720Z
DESCRIPTION:
DTSTART:20260728T070000Z
DTEND:20260728T100000Z
LOCATION:HS001\, HS002
SUMMARY:Exam 1
END:VEVENT
BEGIN:VEVENT
UID:63373833-3331-4438-b630-663639326332
DTSTAMP:20260425T165720Z
DESCRIPTION:
DTSTART:20260818T070000Z
DTEND:20260818T100000Z
LOCATION:HS001\, HS002
SUMMARY:Exam 2
END:VEVENT
END:VCALENDAR
