BEGIN:VCALENDAR
VERSION:2.0
PRODID:-//134.96.226.213//NONSGML kigkonsult.se iCalcreator 2.41.92//
CALSCALE:GREGORIAN
METHOD:PUBLISH
UID:34653735-3362-4066-a366-323132333630
X-WR-CALNAME:Competitive Programming Calendar
X-WR-CALDESC:Events of the lecture Competitive Programming
X-WR-TIMEZONE:Europe/Berlin
BEGIN:VEVENT
UID:66636464-3231-4666-a539-316464343332
DTSTAMP:20260425T104738Z
DESCRIPTION:
DTSTART:20260408T121500Z
DTEND:20260408T134500Z
LOCATION:Günter Hotz Lecture Hall (E2.2)
SUMMARY:Cp26: Lecture
END:VEVENT
BEGIN:VEVENT
UID:64633933-3737-4232-b131-356534663565
DTSTAMP:20260425T104738Z
DESCRIPTION:
DTSTART:20260414T081500Z
DTEND:20260414T094500Z
LOCATION:SR 013 in E1.3
SUMMARY:Cp26: Tutorial 1
END:VEVENT
BEGIN:VEVENT
UID:66353035-3833-4335-b864-336163396265
DTSTAMP:20260425T104738Z
DESCRIPTION:
DTSTART:20260414T081500Z
DTEND:20260414T094500Z
LOCATION:SR 016 in E1.3
SUMMARY:Cp26: Tutorial 2
END:VEVENT
BEGIN:VEVENT
UID:37363035-6365-4364-b239-336666346239
DTSTAMP:20260425T104738Z
DESCRIPTION:
DTSTART:20260414T141500Z
DTEND:20260414T154500Z
LOCATION:SR 015 in E1.3
SUMMARY:Cp26: Tutorial 3
END:VEVENT
BEGIN:VEVENT
UID:38646434-3138-4334-b234-663439393132
DTSTAMP:20260425T104738Z
DESCRIPTION:
DTSTART:20260414T141500Z
DTEND:20260414T154500Z
LOCATION:SR 1 in E2.5
SUMMARY:Cp26: Tutorial 4
END:VEVENT
BEGIN:VEVENT
UID:39616234-6630-4930-b834-663439356162
DTSTAMP:20260425T104738Z
DESCRIPTION:
DTSTART:20260415T121500Z
DTEND:20260415T134500Z
LOCATION:Günter Hotz Lecture Hall (E2.2)
SUMMARY:Cp26: Lecture
END:VEVENT
BEGIN:VEVENT
UID:39396135-3765-4436-b032-613238613533
DTSTAMP:20260425T104738Z
DESCRIPTION:
DTSTART:20260421T081500Z
DTEND:20260421T094500Z
LOCATION:SR 016 in E1.3
SUMMARY:Cp26: Tutorial 2
END:VEVENT
BEGIN:VEVENT
UID:66343038-6431-4934-b135-363230363338
DTSTAMP:20260425T104738Z
DESCRIPTION:
DTSTART:20260421T081500Z
DTEND:20260421T094500Z
LOCATION:SR 013 in E1.3
SUMMARY:Cp26: Tutorial 1
END:VEVENT
BEGIN:VEVENT
UID:36643037-3065-4836-a637-656532383532
DTSTAMP:20260425T104738Z
DESCRIPTION:
DTSTART:20260421T141500Z
DTEND:20260421T154500Z
LOCATION:SR 015 in E1.3
SUMMARY:Cp26: Tutorial 3
END:VEVENT
BEGIN:VEVENT
UID:37666430-3035-4237-b437-376165633734
DTSTAMP:20260425T104738Z
DESCRIPTION:
DTSTART:20260421T141500Z
DTEND:20260421T154500Z
LOCATION:SR 1 in E2.5
SUMMARY:Cp26: Tutorial 4
END:VEVENT
BEGIN:VEVENT
UID:37353538-3065-4936-b237-353933353738
DTSTAMP:20260425T104738Z
DESCRIPTION:
DTSTART:20260422T121500Z
DTEND:20260422T134500Z
LOCATION:Günter Hotz Lecture Hall (E2.2)
SUMMARY:Cp26: Lecture
END:VEVENT
BEGIN:VEVENT
UID:66306433-6531-4637-b930-653264396239
DTSTAMP:20260425T104738Z
DESCRIPTION:
DTSTART:20260428T081500Z
DTEND:20260428T094500Z
LOCATION:SR 013 in E1.3
SUMMARY:Cp26: Tutorial 1
END:VEVENT
BEGIN:VEVENT
UID:63386666-3164-4265-b038-303764646531
DTSTAMP:20260425T104738Z
DESCRIPTION:
DTSTART:20260428T081500Z
DTEND:20260428T094500Z
LOCATION:SR 016 in E1.3
SUMMARY:Cp26: Tutorial 2
END:VEVENT
BEGIN:VEVENT
UID:63313732-3564-4633-b430-313037666564
DTSTAMP:20260425T104738Z
DESCRIPTION:
DTSTART:20260428T141500Z
DTEND:20260428T154500Z
LOCATION:SR 1 in E2.5
SUMMARY:Cp26: Tutorial 4
END:VEVENT
BEGIN:VEVENT
UID:63613863-3034-4666-b363-333763363964
DTSTAMP:20260425T104738Z
DESCRIPTION:
DTSTART:20260428T141500Z
DTEND:20260428T154500Z
LOCATION:SR 015 in E1.3
SUMMARY:Cp26: Tutorial 3
END:VEVENT
BEGIN:VEVENT
UID:38366266-3562-4232-a630-373262626531
DTSTAMP:20260425T104738Z
DESCRIPTION:
DTSTART:20260429T121500Z
DTEND:20260429T134500Z
LOCATION:Günter Hotz Lecture Hall (E2.2)
SUMMARY:Cp26: Lecture
END:VEVENT
BEGIN:VEVENT
UID:33313135-6435-4166-a465-393232303962
DTSTAMP:20260425T104738Z
DESCRIPTION:
DTSTART:20260505T081500Z
DTEND:20260505T094500Z
LOCATION:SR 013 in E1.3
SUMMARY:Cp26: Tutorial 1
END:VEVENT
BEGIN:VEVENT
UID:32613232-3463-4536-b331-656635396130
DTSTAMP:20260425T104738Z
DESCRIPTION:
DTSTART:20260505T081500Z
DTEND:20260505T094500Z
LOCATION:SR 016 in E1.3
SUMMARY:Cp26: Tutorial 2
END:VEVENT
BEGIN:VEVENT
UID:66393433-6636-4231-a363-376536343966
DTSTAMP:20260425T104738Z
DESCRIPTION:
DTSTART:20260505T141500Z
DTEND:20260505T154500Z
LOCATION:SR 015 in E1.3
SUMMARY:Cp26: Tutorial 3
END:VEVENT
BEGIN:VEVENT
UID:35313333-6435-4133-b632-643631333030
DTSTAMP:20260425T104738Z
DESCRIPTION:
DTSTART:20260505T141500Z
DTEND:20260505T154500Z
LOCATION:SR 1 in E2.5
SUMMARY:Cp26: Tutorial 4
END:VEVENT
BEGIN:VEVENT
UID:37363439-3364-4138-b864-396565643634
DTSTAMP:20260425T104738Z
DESCRIPTION:
DTSTART:20260506T121500Z
DTEND:20260506T134500Z
LOCATION:Günter Hotz Lecture Hall (E2.2)
SUMMARY:Cp26: Lecture
END:VEVENT
BEGIN:VEVENT
UID:66383239-6339-4634-a331-376138303766
DTSTAMP:20260425T104738Z
DESCRIPTION:
DTSTART:20260512T081500Z
DTEND:20260512T094500Z
LOCATION:SR 013 in E1.3
SUMMARY:Cp26: Tutorial 1
END:VEVENT
BEGIN:VEVENT
UID:31336437-3066-4838-a439-366261373332
DTSTAMP:20260425T104738Z
DESCRIPTION:
DTSTART:20260512T081500Z
DTEND:20260512T094500Z
LOCATION:SR 016 in E1.3
SUMMARY:Cp26: Tutorial 2
END:VEVENT
BEGIN:VEVENT
UID:62643264-6630-4931-b664-383832663337
DTSTAMP:20260425T104738Z
DESCRIPTION:
DTSTART:20260512T141500Z
DTEND:20260512T154500Z
LOCATION:SR 1 in E2.5
SUMMARY:Cp26: Tutorial 4
END:VEVENT
BEGIN:VEVENT
UID:61303736-6461-4032-b162-356235316565
DTSTAMP:20260425T104738Z
DESCRIPTION:
DTSTART:20260512T141500Z
DTEND:20260512T154500Z
LOCATION:SR 015 in E1.3
SUMMARY:Cp26: Tutorial 3
END:VEVENT
BEGIN:VEVENT
UID:63336133-6636-4263-b462-633261356635
DTSTAMP:20260425T104738Z
DESCRIPTION:
DTSTART:20260513T121500Z
DTEND:20260513T134500Z
LOCATION:Günter Hotz Lecture Hall (E2.2)
SUMMARY:Cp26: Lecture
END:VEVENT
BEGIN:VEVENT
UID:36353462-3331-4938-b063-656239393264
DTSTAMP:20260425T104738Z
DESCRIPTION:
DTSTART:20260519T081500Z
DTEND:20260519T094500Z
LOCATION:SR 013 in E1.3
SUMMARY:Cp26: Tutorial 1
END:VEVENT
BEGIN:VEVENT
UID:37373030-6632-4238-b538-303666346666
DTSTAMP:20260425T104738Z
DESCRIPTION:
DTSTART:20260519T081500Z
DTEND:20260519T094500Z
LOCATION:SR 016 in E1.3
SUMMARY:Cp26: Tutorial 2
END:VEVENT
BEGIN:VEVENT
UID:31623336-3934-4534-b939-306332666632
DTSTAMP:20260425T104738Z
DESCRIPTION:
DTSTART:20260519T141500Z
DTEND:20260519T154500Z
LOCATION:SR 015 in E1.3
SUMMARY:Cp26: Tutorial 3
END:VEVENT
BEGIN:VEVENT
UID:39613130-6338-4566-a231-393664316363
DTSTAMP:20260425T104738Z
DESCRIPTION:
DTSTART:20260519T141500Z
DTEND:20260519T154500Z
LOCATION:SR 1 in E2.5
SUMMARY:Cp26: Tutorial 4
END:VEVENT
BEGIN:VEVENT
UID:64393163-3864-4230-b861-396632323436
DTSTAMP:20260425T104738Z
DESCRIPTION:
DTSTART:20260520T121500Z
DTEND:20260520T134500Z
LOCATION:Günter Hotz Lecture Hall (E2.2)
SUMMARY:Cp26: Lecture
END:VEVENT
BEGIN:VEVENT
UID:32393863-3161-4331-b138-386563643030
DTSTAMP:20260425T104738Z
DESCRIPTION:
DTSTART:20260526T081500Z
DTEND:20260526T094500Z
LOCATION:SR 013 in E1.3
SUMMARY:Cp26: Tutorial 1
END:VEVENT
BEGIN:VEVENT
UID:38343235-6236-4239-a263-666536356666
DTSTAMP:20260425T104738Z
DESCRIPTION:
DTSTART:20260526T081500Z
DTEND:20260526T094500Z
LOCATION:SR 016 in E1.3
SUMMARY:Cp26: Tutorial 2
END:VEVENT
BEGIN:VEVENT
UID:65666334-3262-4362-a532-393065613239
DTSTAMP:20260425T104738Z
DESCRIPTION:
DTSTART:20260526T141500Z
DTEND:20260526T154500Z
LOCATION:SR 1 in E2.5
SUMMARY:Cp26: Tutorial 4
END:VEVENT
BEGIN:VEVENT
UID:66316661-3432-4466-a535-303333363363
DTSTAMP:20260425T104738Z
DESCRIPTION:
DTSTART:20260526T141500Z
DTEND:20260526T154500Z
LOCATION:SR 015 in E1.3
SUMMARY:Cp26: Tutorial 3
END:VEVENT
BEGIN:VEVENT
UID:36376366-3261-4164-b666-343339333361
DTSTAMP:20260425T104738Z
DESCRIPTION:
DTSTART:20260527T121500Z
DTEND:20260527T134500Z
LOCATION:Günter Hotz Lecture Hall (E2.2)
SUMMARY:Cp26: Midterm
END:VEVENT
BEGIN:VEVENT
UID:38626233-3231-4361-b933-653361306664
DTSTAMP:20260425T104738Z
DESCRIPTION:
DTSTART:20260602T081500Z
DTEND:20260602T094500Z
LOCATION:SR 016 in E1.3
SUMMARY:Cp26: Tutorial 2
END:VEVENT
BEGIN:VEVENT
UID:32646634-6130-4136-a436-353532326365
DTSTAMP:20260425T104738Z
DESCRIPTION:
DTSTART:20260602T081500Z
DTEND:20260602T094500Z
LOCATION:SR 013 in E1.3
SUMMARY:Cp26: Tutorial 1
END:VEVENT
BEGIN:VEVENT
UID:61623362-3862-4438-b733-313961613062
DTSTAMP:20260425T104738Z
DESCRIPTION:
DTSTART:20260602T141500Z
DTEND:20260602T154500Z
LOCATION:SR 1 in E2.5
SUMMARY:Cp26: Tutorial 4
END:VEVENT
BEGIN:VEVENT
UID:65666438-3734-4366-b833-323633653963
DTSTAMP:20260425T104738Z
DESCRIPTION:
DTSTART:20260602T141500Z
DTEND:20260602T154500Z
LOCATION:SR 015 in E1.3
SUMMARY:Cp26: Tutorial 3
END:VEVENT
BEGIN:VEVENT
UID:31323964-6234-4637-a337-653531613834
DTSTAMP:20260425T104738Z
DESCRIPTION:
DTSTART:20260603T121500Z
DTEND:20260603T134500Z
LOCATION:Günter Hotz Lecture Hall (E2.2)
SUMMARY:Cp26: Lecture
END:VEVENT
BEGIN:VEVENT
UID:39383262-3635-4230-a534-316362386661
DTSTAMP:20260425T104738Z
DESCRIPTION:
DTSTART:20260609T081500Z
DTEND:20260609T094500Z
LOCATION:SR 016 in E1.3
SUMMARY:Cp26: Tutorial 2
END:VEVENT
BEGIN:VEVENT
UID:64623336-6234-4361-b138-663065336464
DTSTAMP:20260425T104738Z
DESCRIPTION:
DTSTART:20260609T081500Z
DTEND:20260609T094500Z
LOCATION:SR 013 in E1.3
SUMMARY:Cp26: Tutorial 1
END:VEVENT
BEGIN:VEVENT
UID:62303539-3665-4263-a232-336566303765
DTSTAMP:20260425T104738Z
DESCRIPTION:
DTSTART:20260609T141500Z
DTEND:20260609T154500Z
LOCATION:SR 015 in E1.3
SUMMARY:Cp26: Tutorial 3
END:VEVENT
BEGIN:VEVENT
UID:39316431-3335-4561-a532-383766313033
DTSTAMP:20260425T104738Z
DESCRIPTION:
DTSTART:20260609T141500Z
DTEND:20260609T154500Z
LOCATION:SR 1 in E2.5
SUMMARY:Cp26: Tutorial 4
END:VEVENT
BEGIN:VEVENT
UID:64373338-6132-4266-b338-633735613365
DTSTAMP:20260425T104738Z
DESCRIPTION:
DTSTART:20260610T121500Z
DTEND:20260610T134500Z
LOCATION:Günter Hotz Lecture Hall (E2.2)
SUMMARY:Cp26: Lecture
END:VEVENT
BEGIN:VEVENT
UID:65303932-3637-4138-b937-383230333435
DTSTAMP:20260425T104738Z
DESCRIPTION:
DTSTART:20260616T081500Z
DTEND:20260616T094500Z
LOCATION:SR 016 in E1.3
SUMMARY:Cp26: Tutorial 2
END:VEVENT
BEGIN:VEVENT
UID:62306334-3264-4463-b039-306234666464
DTSTAMP:20260425T104738Z
DESCRIPTION:
DTSTART:20260616T081500Z
DTEND:20260616T094500Z
LOCATION:SR 013 in E1.3
SUMMARY:Cp26: Tutorial 1
END:VEVENT
BEGIN:VEVENT
UID:34376533-6634-4461-b335-393764343365
DTSTAMP:20260425T104738Z
DESCRIPTION:
DTSTART:20260616T141500Z
DTEND:20260616T154500Z
LOCATION:SR 015 in E1.3
SUMMARY:Cp26: Tutorial 3
END:VEVENT
BEGIN:VEVENT
UID:65343263-6537-4162-b433-386534303032
DTSTAMP:20260425T104738Z
DESCRIPTION:
DTSTART:20260616T141500Z
DTEND:20260616T154500Z
LOCATION:SR 1 in E2.5
SUMMARY:Cp26: Tutorial 4
END:VEVENT
BEGIN:VEVENT
UID:32343836-3066-4861-b366-343163386435
DTSTAMP:20260425T104738Z
DESCRIPTION:
DTSTART:20260617T121500Z
DTEND:20260617T134500Z
LOCATION:Günter Hotz Lecture Hall (E2.2)
SUMMARY:Cp26: Lecture
END:VEVENT
BEGIN:VEVENT
UID:64386564-3630-4736-b133-313866356665
DTSTAMP:20260425T104738Z
DESCRIPTION:
DTSTART:20260623T081500Z
DTEND:20260623T094500Z
LOCATION:SR 013 in E1.3
SUMMARY:Cp26: Tutorial 1
END:VEVENT
BEGIN:VEVENT
UID:32646436-3036-4932-a566-323838326264
DTSTAMP:20260425T104738Z
DESCRIPTION:
DTSTART:20260623T081500Z
DTEND:20260623T094500Z
LOCATION:SR 016 in E1.3
SUMMARY:Cp26: Tutorial 2
END:VEVENT
BEGIN:VEVENT
UID:37303965-6131-4463-b032-616264626330
DTSTAMP:20260425T104738Z
DESCRIPTION:
DTSTART:20260623T141500Z
DTEND:20260623T154500Z
LOCATION:SR 1 in E2.5
SUMMARY:Cp26: Tutorial 4
END:VEVENT
BEGIN:VEVENT
UID:31316137-3839-4266-b938-396364646433
DTSTAMP:20260425T104738Z
DESCRIPTION:
DTSTART:20260623T141500Z
DTEND:20260623T154500Z
LOCATION:SR 015 in E1.3
SUMMARY:Cp26: Tutorial 3
END:VEVENT
BEGIN:VEVENT
UID:35373063-3361-4330-b136-386331323333
DTSTAMP:20260425T104738Z
DESCRIPTION:
DTSTART:20260624T121500Z
DTEND:20260624T134500Z
LOCATION:Günter Hotz Lecture Hall (E2.2)
SUMMARY:Cp26: Lecture
END:VEVENT
BEGIN:VEVENT
UID:35313761-6139-4130-b966-316636613235
DTSTAMP:20260425T104738Z
DESCRIPTION:
DTSTART:20260630T081500Z
DTEND:20260630T094500Z
LOCATION:SR 016 in E1.3
SUMMARY:Cp26: Tutorial 2
END:VEVENT
BEGIN:VEVENT
UID:39666435-3737-4163-a336-623438393661
DTSTAMP:20260425T104738Z
DESCRIPTION:
DTSTART:20260630T081500Z
DTEND:20260630T094500Z
LOCATION:SR 013 in E1.3
SUMMARY:Cp26: Tutorial 1
END:VEVENT
BEGIN:VEVENT
UID:31346562-3666-4333-a535-656539613665
DTSTAMP:20260425T104738Z
DESCRIPTION:
DTSTART:20260630T141500Z
DTEND:20260630T154500Z
LOCATION:SR 015 in E1.3
SUMMARY:Cp26: Tutorial 3
END:VEVENT
BEGIN:VEVENT
UID:32313665-3864-4734-b564-666130326666
DTSTAMP:20260425T104738Z
DESCRIPTION:
DTSTART:20260630T141500Z
DTEND:20260630T154500Z
LOCATION:SR 1 in E2.5
SUMMARY:Cp26: Tutorial 4
END:VEVENT
BEGIN:VEVENT
UID:37623838-3731-4964-b134-306231386135
DTSTAMP:20260425T104738Z
DESCRIPTION:
DTSTART:20260701T121500Z
DTEND:20260701T134500Z
LOCATION:Günter Hotz Lecture Hall (E2.2)
SUMMARY:Cp26: Lecture
END:VEVENT
BEGIN:VEVENT
UID:30323633-3436-4835-a666-636465363637
DTSTAMP:20260425T104738Z
DESCRIPTION:
DTSTART:20260707T081500Z
DTEND:20260707T094500Z
LOCATION:SR 013 in E1.3
SUMMARY:Cp26: Tutorial 1
END:VEVENT
BEGIN:VEVENT
UID:66386432-3063-4662-b163-363838353164
DTSTAMP:20260425T104738Z
DESCRIPTION:
DTSTART:20260707T081500Z
DTEND:20260707T094500Z
LOCATION:SR 016 in E1.3
SUMMARY:Cp26: Tutorial 2
END:VEVENT
BEGIN:VEVENT
UID:65396361-6464-4034-b766-623036663039
DTSTAMP:20260425T104738Z
DESCRIPTION:
DTSTART:20260707T141500Z
DTEND:20260707T154500Z
LOCATION:SR 1 in E2.5
SUMMARY:Cp26: Tutorial 4
END:VEVENT
BEGIN:VEVENT
UID:37363962-6635-4333-a466-386363383733
DTSTAMP:20260425T104738Z
DESCRIPTION:
DTSTART:20260707T141500Z
DTEND:20260707T154500Z
LOCATION:SR 015 in E1.3
SUMMARY:Cp26: Tutorial 3
END:VEVENT
BEGIN:VEVENT
UID:31376163-3534-4165-b737-303766643266
DTSTAMP:20260425T104738Z
DESCRIPTION:
DTSTART:20260708T121500Z
DTEND:20260708T134500Z
LOCATION:Günter Hotz Lecture Hall (E2.2)
SUMMARY:Cp26: Lecture
END:VEVENT
BEGIN:VEVENT
UID:64353635-3865-4265-a465-636433636465
DTSTAMP:20260425T104738Z
DESCRIPTION:
DTSTART:20260714T081500Z
DTEND:20260714T094500Z
LOCATION:SR 013 in E1.3
SUMMARY:Cp26: Tutorial 1
END:VEVENT
BEGIN:VEVENT
UID:34386632-6334-4637-a332-623139323334
DTSTAMP:20260425T104738Z
DESCRIPTION:
DTSTART:20260714T081500Z
DTEND:20260714T094500Z
LOCATION:SR 016 in E1.3
SUMMARY:Cp26: Tutorial 2
END:VEVENT
BEGIN:VEVENT
UID:30633334-3262-4661-b562-623761396564
DTSTAMP:20260425T104738Z
DESCRIPTION:
DTSTART:20260714T141500Z
DTEND:20260714T154500Z
LOCATION:SR 015 in E1.3
SUMMARY:Cp26: Tutorial 3
END:VEVENT
BEGIN:VEVENT
UID:30663938-6533-4332-b736-336363326165
DTSTAMP:20260425T104738Z
DESCRIPTION:
DTSTART:20260714T141500Z
DTEND:20260714T154500Z
LOCATION:SR 1 in E2.5
SUMMARY:Cp26: Tutorial 4
END:VEVENT
BEGIN:VEVENT
UID:34623736-6437-4337-a562-646539393664
DTSTAMP:20260425T104738Z
DESCRIPTION:
DTSTART:20260715T121500Z
DTEND:20260715T134500Z
LOCATION:Günter Hotz Lecture Hall (E2.2)
SUMMARY:Cp26: Lecture
END:VEVENT
END:VCALENDAR
