BEGIN:VCALENDAR
VERSION:2.0
PRODID:-//134.96.226.213//NONSGML kigkonsult.se iCalcreator 2.41.92//
CALSCALE:GREGORIAN
METHOD:PUBLISH
UID:66336537-3535-4264-b639-353765396362
X-WR-CALNAME:Competitive Programming Calendar
X-WR-CALDESC:Events of the lecture Competitive Programming
X-WR-TIMEZONE:Europe/Berlin
BEGIN:VEVENT
UID:64613661-6435-4437-a362-616263306165
DTSTAMP:20260425T121500Z
DESCRIPTION:
DTSTART:20260414T081500Z
DTEND:20260414T094500Z
LOCATION:SR 016 in E1.3
SUMMARY:Tutorial 2
END:VEVENT
BEGIN:VEVENT
UID:33303437-3065-4631-a463-346430623130
DTSTAMP:20260425T121500Z
DESCRIPTION:
DTSTART:20260414T081500Z
DTEND:20260414T094500Z
LOCATION:SR 013 in E1.3
SUMMARY:Tutorial 1
END:VEVENT
BEGIN:VEVENT
UID:63626533-3138-4463-a266-376563666633
DTSTAMP:20260425T121500Z
DESCRIPTION:
DTSTART:20260414T141500Z
DTEND:20260414T154500Z
LOCATION:SR 015 in E1.3
SUMMARY:Tutorial 3
END:VEVENT
BEGIN:VEVENT
UID:39303062-3935-4532-b633-303732343362
DTSTAMP:20260425T121500Z
DESCRIPTION:
DTSTART:20260414T141500Z
DTEND:20260414T154500Z
LOCATION:SR 1 in E2.5
SUMMARY:Tutorial 4
END:VEVENT
BEGIN:VEVENT
UID:32303930-6465-4538-b936-633131363061
DTSTAMP:20260425T121500Z
DESCRIPTION:
DTSTART:20260421T081500Z
DTEND:20260421T094500Z
LOCATION:SR 016 in E1.3
SUMMARY:Tutorial 2
END:VEVENT
BEGIN:VEVENT
UID:66666265-3831-4336-a232-303530626534
DTSTAMP:20260425T121500Z
DESCRIPTION:
DTSTART:20260421T081500Z
DTEND:20260421T094500Z
LOCATION:SR 013 in E1.3
SUMMARY:Tutorial 1
END:VEVENT
BEGIN:VEVENT
UID:35373362-3331-4266-a638-376438646666
DTSTAMP:20260425T121500Z
DESCRIPTION:
DTSTART:20260421T141500Z
DTEND:20260421T154500Z
LOCATION:SR 1 in E2.5
SUMMARY:Tutorial 4
END:VEVENT
BEGIN:VEVENT
UID:36626533-3439-4364-b338-636163323630
DTSTAMP:20260425T121500Z
DESCRIPTION:
DTSTART:20260421T141500Z
DTEND:20260421T154500Z
LOCATION:SR 015 in E1.3
SUMMARY:Tutorial 3
END:VEVENT
BEGIN:VEVENT
UID:64383339-3031-4433-b430-666565376130
DTSTAMP:20260425T121500Z
DESCRIPTION:
DTSTART:20260428T081500Z
DTEND:20260428T094500Z
LOCATION:SR 016 in E1.3
SUMMARY:Tutorial 2
END:VEVENT
BEGIN:VEVENT
UID:33616463-3930-4134-a466-376130633566
DTSTAMP:20260425T121500Z
DESCRIPTION:
DTSTART:20260428T081500Z
DTEND:20260428T094500Z
LOCATION:SR 013 in E1.3
SUMMARY:Tutorial 1
END:VEVENT
BEGIN:VEVENT
UID:38373033-3032-4539-b139-313338656234
DTSTAMP:20260425T121500Z
DESCRIPTION:
DTSTART:20260428T141500Z
DTEND:20260428T154500Z
LOCATION:SR 015 in E1.3
SUMMARY:Tutorial 3
END:VEVENT
BEGIN:VEVENT
UID:35373961-6335-4533-b866-383736303361
DTSTAMP:20260425T121500Z
DESCRIPTION:
DTSTART:20260428T141500Z
DTEND:20260428T154500Z
LOCATION:SR 1 in E2.5
SUMMARY:Tutorial 4
END:VEVENT
BEGIN:VEVENT
UID:39333535-3230-4835-b462-383839663664
DTSTAMP:20260425T121500Z
DESCRIPTION:
DTSTART:20260505T081500Z
DTEND:20260505T094500Z
LOCATION:SR 013 in E1.3
SUMMARY:Tutorial 1
END:VEVENT
BEGIN:VEVENT
UID:66386464-6163-4565-a137-313936336664
DTSTAMP:20260425T121500Z
DESCRIPTION:
DTSTART:20260505T081500Z
DTEND:20260505T094500Z
LOCATION:SR 016 in E1.3
SUMMARY:Tutorial 2
END:VEVENT
BEGIN:VEVENT
UID:30666439-6232-4132-b838-656533393764
DTSTAMP:20260425T121500Z
DESCRIPTION:
DTSTART:20260505T141500Z
DTEND:20260505T154500Z
LOCATION:SR 1 in E2.5
SUMMARY:Tutorial 4
END:VEVENT
BEGIN:VEVENT
UID:38613466-6137-4230-b039-626539313965
DTSTAMP:20260425T121500Z
DESCRIPTION:
DTSTART:20260505T141500Z
DTEND:20260505T154500Z
LOCATION:SR 015 in E1.3
SUMMARY:Tutorial 3
END:VEVENT
BEGIN:VEVENT
UID:31356361-3432-4462-b063-326364303361
DTSTAMP:20260425T121500Z
DESCRIPTION:
DTSTART:20260512T081500Z
DTEND:20260512T094500Z
LOCATION:SR 016 in E1.3
SUMMARY:Tutorial 2
END:VEVENT
BEGIN:VEVENT
UID:63636665-3465-4830-a462-373530383261
DTSTAMP:20260425T121500Z
DESCRIPTION:
DTSTART:20260512T081500Z
DTEND:20260512T094500Z
LOCATION:SR 013 in E1.3
SUMMARY:Tutorial 1
END:VEVENT
BEGIN:VEVENT
UID:61663437-3935-4236-b632-323636613233
DTSTAMP:20260425T121500Z
DESCRIPTION:
DTSTART:20260512T141500Z
DTEND:20260512T154500Z
LOCATION:SR 1 in E2.5
SUMMARY:Tutorial 4
END:VEVENT
BEGIN:VEVENT
UID:30313064-6234-4132-b363-323632303732
DTSTAMP:20260425T121500Z
DESCRIPTION:
DTSTART:20260512T141500Z
DTEND:20260512T154500Z
LOCATION:SR 015 in E1.3
SUMMARY:Tutorial 3
END:VEVENT
BEGIN:VEVENT
UID:31626531-3162-4336-b337-333461326638
DTSTAMP:20260425T121500Z
DESCRIPTION:
DTSTART:20260519T081500Z
DTEND:20260519T094500Z
LOCATION:SR 013 in E1.3
SUMMARY:Tutorial 1
END:VEVENT
BEGIN:VEVENT
UID:30343736-3731-4536-b162-303836653139
DTSTAMP:20260425T121500Z
DESCRIPTION:
DTSTART:20260519T081500Z
DTEND:20260519T094500Z
LOCATION:SR 016 in E1.3
SUMMARY:Tutorial 2
END:VEVENT
BEGIN:VEVENT
UID:38386235-3337-4132-a165-383039336563
DTSTAMP:20260425T121500Z
DESCRIPTION:
DTSTART:20260519T141500Z
DTEND:20260519T154500Z
LOCATION:SR 015 in E1.3
SUMMARY:Tutorial 3
END:VEVENT
BEGIN:VEVENT
UID:63343239-3564-4462-b336-656530646431
DTSTAMP:20260425T121500Z
DESCRIPTION:
DTSTART:20260519T141500Z
DTEND:20260519T154500Z
LOCATION:SR 1 in E2.5
SUMMARY:Tutorial 4
END:VEVENT
BEGIN:VEVENT
UID:64636464-3664-4536-b339-323864323739
DTSTAMP:20260425T121500Z
DESCRIPTION:
DTSTART:20260526T081500Z
DTEND:20260526T094500Z
LOCATION:SR 016 in E1.3
SUMMARY:Tutorial 2
END:VEVENT
BEGIN:VEVENT
UID:35653165-6562-4632-a230-346464613737
DTSTAMP:20260425T121500Z
DESCRIPTION:
DTSTART:20260526T081500Z
DTEND:20260526T094500Z
LOCATION:SR 013 in E1.3
SUMMARY:Tutorial 1
END:VEVENT
BEGIN:VEVENT
UID:31303066-3930-4332-a564-363136306665
DTSTAMP:20260425T121500Z
DESCRIPTION:
DTSTART:20260526T141500Z
DTEND:20260526T154500Z
LOCATION:SR 1 in E2.5
SUMMARY:Tutorial 4
END:VEVENT
BEGIN:VEVENT
UID:30353563-3935-4836-a664-643339616639
DTSTAMP:20260425T121500Z
DESCRIPTION:
DTSTART:20260526T141500Z
DTEND:20260526T154500Z
LOCATION:SR 015 in E1.3
SUMMARY:Tutorial 3
END:VEVENT
BEGIN:VEVENT
UID:38386332-6435-4333-b964-636165636366
DTSTAMP:20260425T121500Z
DESCRIPTION:
DTSTART:20260602T081500Z
DTEND:20260602T094500Z
LOCATION:SR 016 in E1.3
SUMMARY:Tutorial 2
END:VEVENT
BEGIN:VEVENT
UID:35656364-3636-4239-a337-613034333831
DTSTAMP:20260425T121500Z
DESCRIPTION:
DTSTART:20260602T081500Z
DTEND:20260602T094500Z
LOCATION:SR 013 in E1.3
SUMMARY:Tutorial 1
END:VEVENT
BEGIN:VEVENT
UID:39623636-6637-4635-a530-613665636464
DTSTAMP:20260425T121500Z
DESCRIPTION:
DTSTART:20260602T141500Z
DTEND:20260602T154500Z
LOCATION:SR 015 in E1.3
SUMMARY:Tutorial 3
END:VEVENT
BEGIN:VEVENT
UID:33663937-6262-4130-b835-623932333831
DTSTAMP:20260425T121500Z
DESCRIPTION:
DTSTART:20260602T141500Z
DTEND:20260602T154500Z
LOCATION:SR 1 in E2.5
SUMMARY:Tutorial 4
END:VEVENT
BEGIN:VEVENT
UID:38663234-3766-4462-a262-376638303735
DTSTAMP:20260425T121500Z
DESCRIPTION:
DTSTART:20260609T081500Z
DTEND:20260609T094500Z
LOCATION:SR 016 in E1.3
SUMMARY:Tutorial 2
END:VEVENT
BEGIN:VEVENT
UID:38353164-3565-4362-a666-356566353565
DTSTAMP:20260425T121500Z
DESCRIPTION:
DTSTART:20260609T081500Z
DTEND:20260609T094500Z
LOCATION:SR 013 in E1.3
SUMMARY:Tutorial 1
END:VEVENT
BEGIN:VEVENT
UID:63376561-6361-4539-b238-303861336530
DTSTAMP:20260425T121500Z
DESCRIPTION:
DTSTART:20260609T141500Z
DTEND:20260609T154500Z
LOCATION:SR 015 in E1.3
SUMMARY:Tutorial 3
END:VEVENT
BEGIN:VEVENT
UID:64656438-3563-4564-b036-333339653363
DTSTAMP:20260425T121500Z
DESCRIPTION:
DTSTART:20260609T141500Z
DTEND:20260609T154500Z
LOCATION:SR 1 in E2.5
SUMMARY:Tutorial 4
END:VEVENT
BEGIN:VEVENT
UID:35656139-6137-4239-a435-616134336639
DTSTAMP:20260425T121500Z
DESCRIPTION:
DTSTART:20260616T081500Z
DTEND:20260616T094500Z
LOCATION:SR 016 in E1.3
SUMMARY:Tutorial 2
END:VEVENT
BEGIN:VEVENT
UID:31323262-3636-4861-b035-653766323132
DTSTAMP:20260425T121500Z
DESCRIPTION:
DTSTART:20260616T081500Z
DTEND:20260616T094500Z
LOCATION:SR 013 in E1.3
SUMMARY:Tutorial 1
END:VEVENT
BEGIN:VEVENT
UID:37393638-3236-4833-b934-373636316634
DTSTAMP:20260425T121500Z
DESCRIPTION:
DTSTART:20260616T141500Z
DTEND:20260616T154500Z
LOCATION:SR 015 in E1.3
SUMMARY:Tutorial 3
END:VEVENT
BEGIN:VEVENT
UID:30643363-6532-4961-b934-323961343230
DTSTAMP:20260425T121500Z
DESCRIPTION:
DTSTART:20260616T141500Z
DTEND:20260616T154500Z
LOCATION:SR 1 in E2.5
SUMMARY:Tutorial 4
END:VEVENT
BEGIN:VEVENT
UID:65396437-3061-4437-a361-303231616530
DTSTAMP:20260425T121500Z
DESCRIPTION:
DTSTART:20260623T081500Z
DTEND:20260623T094500Z
LOCATION:SR 016 in E1.3
SUMMARY:Tutorial 2
END:VEVENT
BEGIN:VEVENT
UID:36333338-6462-4231-a434-336134313062
DTSTAMP:20260425T121500Z
DESCRIPTION:
DTSTART:20260623T081500Z
DTEND:20260623T094500Z
LOCATION:SR 013 in E1.3
SUMMARY:Tutorial 1
END:VEVENT
BEGIN:VEVENT
UID:34363235-6232-4232-a138-333134346131
DTSTAMP:20260425T121500Z
DESCRIPTION:
DTSTART:20260623T141500Z
DTEND:20260623T154500Z
LOCATION:SR 1 in E2.5
SUMMARY:Tutorial 4
END:VEVENT
BEGIN:VEVENT
UID:30613032-3531-4361-a337-383665316135
DTSTAMP:20260425T121500Z
DESCRIPTION:
DTSTART:20260623T141500Z
DTEND:20260623T154500Z
LOCATION:SR 015 in E1.3
SUMMARY:Tutorial 3
END:VEVENT
BEGIN:VEVENT
UID:63333430-6432-4532-a366-633334316139
DTSTAMP:20260425T121500Z
DESCRIPTION:
DTSTART:20260630T081500Z
DTEND:20260630T094500Z
LOCATION:SR 016 in E1.3
SUMMARY:Tutorial 2
END:VEVENT
BEGIN:VEVENT
UID:63383835-3865-4238-a630-346439613962
DTSTAMP:20260425T121500Z
DESCRIPTION:
DTSTART:20260630T081500Z
DTEND:20260630T094500Z
LOCATION:SR 013 in E1.3
SUMMARY:Tutorial 1
END:VEVENT
BEGIN:VEVENT
UID:64313966-6662-4433-b466-656232376363
DTSTAMP:20260425T121500Z
DESCRIPTION:
DTSTART:20260630T141500Z
DTEND:20260630T154500Z
LOCATION:SR 015 in E1.3
SUMMARY:Tutorial 3
END:VEVENT
BEGIN:VEVENT
UID:65656436-6231-4135-a265-306331326665
DTSTAMP:20260425T121500Z
DESCRIPTION:
DTSTART:20260630T141500Z
DTEND:20260630T154500Z
LOCATION:SR 1 in E2.5
SUMMARY:Tutorial 4
END:VEVENT
BEGIN:VEVENT
UID:62313535-3064-4461-b739-376631366666
DTSTAMP:20260425T121500Z
DESCRIPTION:
DTSTART:20260707T081500Z
DTEND:20260707T094500Z
LOCATION:SR 013 in E1.3
SUMMARY:Tutorial 1
END:VEVENT
BEGIN:VEVENT
UID:32306630-6564-4432-a231-316164636130
DTSTAMP:20260425T121500Z
DESCRIPTION:
DTSTART:20260707T081500Z
DTEND:20260707T094500Z
LOCATION:SR 016 in E1.3
SUMMARY:Tutorial 2
END:VEVENT
BEGIN:VEVENT
UID:66303536-3138-4366-b734-396534333261
DTSTAMP:20260425T121500Z
DESCRIPTION:
DTSTART:20260707T141500Z
DTEND:20260707T154500Z
LOCATION:SR 015 in E1.3
SUMMARY:Tutorial 3
END:VEVENT
BEGIN:VEVENT
UID:36373834-6134-4033-a131-643331376363
DTSTAMP:20260425T121500Z
DESCRIPTION:
DTSTART:20260707T141500Z
DTEND:20260707T154500Z
LOCATION:SR 1 in E2.5
SUMMARY:Tutorial 4
END:VEVENT
BEGIN:VEVENT
UID:63643136-6333-4765-b037-616637376633
DTSTAMP:20260425T121500Z
DESCRIPTION:
DTSTART:20260714T081500Z
DTEND:20260714T094500Z
LOCATION:SR 016 in E1.3
SUMMARY:Tutorial 2
END:VEVENT
BEGIN:VEVENT
UID:63353735-3230-4639-a566-393666393935
DTSTAMP:20260425T121500Z
DESCRIPTION:
DTSTART:20260714T081500Z
DTEND:20260714T094500Z
LOCATION:SR 013 in E1.3
SUMMARY:Tutorial 1
END:VEVENT
BEGIN:VEVENT
UID:61356262-3464-4461-b530-373664326466
DTSTAMP:20260425T121500Z
DESCRIPTION:
DTSTART:20260714T141500Z
DTEND:20260714T154500Z
LOCATION:SR 015 in E1.3
SUMMARY:Tutorial 3
END:VEVENT
BEGIN:VEVENT
UID:33376365-3235-4866-b336-323638376563
DTSTAMP:20260425T121500Z
DESCRIPTION:
DTSTART:20260714T141500Z
DTEND:20260714T154500Z
LOCATION:SR 1 in E2.5
SUMMARY:Tutorial 4
END:VEVENT
END:VCALENDAR
