BEGIN:VCALENDAR
VERSION:2.0
PRODID:-//134.96.226.213//NONSGML kigkonsult.se iCalcreator 2.41.92//
CALSCALE:GREGORIAN
METHOD:PUBLISH
UID:33393764-3066-4466-a461-393233396661
X-WR-CALNAME:Competitive Programming Calendar
X-WR-CALDESC:Events of the lecture Competitive Programming
X-WR-TIMEZONE:Europe/Berlin
BEGIN:VEVENT
UID:36313665-3230-4830-a538-313462376461
DTSTAMP:20260425T104944Z
DESCRIPTION:
DTSTART:20260408T121500Z
DTEND:20260408T134500Z
LOCATION:Günter Hotz Lecture Hall (E2.2)
SUMMARY:Lecture
END:VEVENT
BEGIN:VEVENT
UID:39383661-3632-4530-a339-303630303830
DTSTAMP:20260425T104944Z
DESCRIPTION:
DTSTART:20260415T121500Z
DTEND:20260415T134500Z
LOCATION:Günter Hotz Lecture Hall (E2.2)
SUMMARY:Lecture
END:VEVENT
BEGIN:VEVENT
UID:38623862-6534-4136-b237-656136306265
DTSTAMP:20260425T104944Z
DESCRIPTION:
DTSTART:20260422T121500Z
DTEND:20260422T134500Z
LOCATION:Günter Hotz Lecture Hall (E2.2)
SUMMARY:Lecture
END:VEVENT
BEGIN:VEVENT
UID:37663038-6639-4165-b364-313831316564
DTSTAMP:20260425T104944Z
DESCRIPTION:
DTSTART:20260429T121500Z
DTEND:20260429T134500Z
LOCATION:Günter Hotz Lecture Hall (E2.2)
SUMMARY:Lecture
END:VEVENT
BEGIN:VEVENT
UID:36366266-6536-4137-b832-383065353536
DTSTAMP:20260425T104944Z
DESCRIPTION:
DTSTART:20260506T121500Z
DTEND:20260506T134500Z
LOCATION:Günter Hotz Lecture Hall (E2.2)
SUMMARY:Lecture
END:VEVENT
BEGIN:VEVENT
UID:30636561-3631-4436-b331-613735653531
DTSTAMP:20260425T104944Z
DESCRIPTION:
DTSTART:20260513T121500Z
DTEND:20260513T134500Z
LOCATION:Günter Hotz Lecture Hall (E2.2)
SUMMARY:Lecture
END:VEVENT
BEGIN:VEVENT
UID:37366233-3535-4834-b732-653739376437
DTSTAMP:20260425T104944Z
DESCRIPTION:
DTSTART:20260520T121500Z
DTEND:20260520T134500Z
LOCATION:Günter Hotz Lecture Hall (E2.2)
SUMMARY:Lecture
END:VEVENT
BEGIN:VEVENT
UID:35316330-3632-4632-b537-623732363534
DTSTAMP:20260425T104944Z
DESCRIPTION:
DTSTART:20260603T121500Z
DTEND:20260603T134500Z
LOCATION:Günter Hotz Lecture Hall (E2.2)
SUMMARY:Lecture
END:VEVENT
BEGIN:VEVENT
UID:31323365-3966-4566-b163-363439346139
DTSTAMP:20260425T104944Z
DESCRIPTION:
DTSTART:20260610T121500Z
DTEND:20260610T134500Z
LOCATION:Günter Hotz Lecture Hall (E2.2)
SUMMARY:Lecture
END:VEVENT
BEGIN:VEVENT
UID:39373034-3833-4464-b330-363661643566
DTSTAMP:20260425T104944Z
DESCRIPTION:
DTSTART:20260617T121500Z
DTEND:20260617T134500Z
LOCATION:Günter Hotz Lecture Hall (E2.2)
SUMMARY:Lecture
END:VEVENT
BEGIN:VEVENT
UID:34363131-3236-4664-b766-383264346438
DTSTAMP:20260425T104944Z
DESCRIPTION:
DTSTART:20260624T121500Z
DTEND:20260624T134500Z
LOCATION:Günter Hotz Lecture Hall (E2.2)
SUMMARY:Lecture
END:VEVENT
BEGIN:VEVENT
UID:30373066-6363-4236-a634-303565666337
DTSTAMP:20260425T104944Z
DESCRIPTION:
DTSTART:20260701T121500Z
DTEND:20260701T134500Z
LOCATION:Günter Hotz Lecture Hall (E2.2)
SUMMARY:Lecture
END:VEVENT
BEGIN:VEVENT
UID:61396430-3562-4239-a165-353461643433
DTSTAMP:20260425T104944Z
DESCRIPTION:
DTSTART:20260708T121500Z
DTEND:20260708T134500Z
LOCATION:Günter Hotz Lecture Hall (E2.2)
SUMMARY:Lecture
END:VEVENT
BEGIN:VEVENT
UID:32393764-6332-4762-a538-316132336632
DTSTAMP:20260425T104944Z
DESCRIPTION:
DTSTART:20260715T121500Z
DTEND:20260715T134500Z
LOCATION:Günter Hotz Lecture Hall (E2.2)
SUMMARY:Lecture
END:VEVENT
END:VCALENDAR
