BEGIN:VCALENDAR
VERSION:2.0
PRODID:-//134.96.226.213//NONSGML kigkonsult.se iCalcreator 2.41.92//
CALSCALE:GREGORIAN
METHOD:PUBLISH
UID:38613861-3636-4639-a536-393132383137
X-WR-CALNAME:Computer Graphics Calendar
X-WR-CALDESC:Events of the lecture Computer Graphics
X-WR-TIMEZONE:Europe/Berlin
BEGIN:VEVENT
UID:32633464-3261-4337-a166-666235633862
DTSTAMP:20260425T153555Z
DESCRIPTION:
DTSTART:20251016T063000Z
DTEND:20251016T080000Z
LOCATION:E1.3\, HS 001
SUMMARY:Cg: Intro Lecture
END:VEVENT
BEGIN:VEVENT
UID:33373938-3166-4035-b535-613465313430
DTSTAMP:20260425T153555Z
DESCRIPTION:
DTSTART:20251020T081500Z
DTEND:20251020T094500Z
LOCATION:E1.3\, HS 001
SUMMARY:Cg: Lecture
END:VEVENT
BEGIN:VEVENT
UID:31343062-3030-4762-b162-616432653130
DTSTAMP:20260425T153555Z
DESCRIPTION:
DTSTART:20251023T063000Z
DTEND:20251023T080000Z
LOCATION:E1.3\, HS 001
SUMMARY:Cg: Lecture
END:VEVENT
BEGIN:VEVENT
UID:62393830-3061-4730-a435-363833643166
DTSTAMP:20260425T153555Z
DESCRIPTION:Mandatory mini-test\, then discussion of test solutions\, pract
 ical assignment solutions\, and a general Q&A session at the end.
DTSTART:20251027T091500Z
DTEND:20251027T104500Z
LOCATION:E1 3 - Hörsaal I (0.01)
SUMMARY:Cg: Mini-test\, solutions\, office hour
END:VEVENT
BEGIN:VEVENT
UID:32663331-6566-4831-b438-373339363933
DTSTAMP:20260425T153555Z
DESCRIPTION:
DTSTART:20251030T073000Z
DTEND:20251030T090000Z
LOCATION:E1 3 - Hörsaal I (0.01)
SUMMARY:Cg: Office hour
END:VEVENT
BEGIN:VEVENT
UID:36633738-3230-4238-a239-343036656135
DTSTAMP:20260425T153555Z
DESCRIPTION:
DTSTART:20251102T225900Z
DTEND:20251102T225900Z
SUMMARY:Cg: Submission Deadline Assignment 1
END:VEVENT
BEGIN:VEVENT
UID:65363039-6135-4839-b735-316561386239
DTSTAMP:20260425T153555Z
DESCRIPTION:
DTSTART:20251103T091500Z
DTEND:20251103T104500Z
LOCATION:E1.3\, HS 001
SUMMARY:Cg: Lecture
END:VEVENT
BEGIN:VEVENT
UID:38313931-6465-4965-b532-303330316666
DTSTAMP:20260425T153555Z
DESCRIPTION:
DTSTART:20251106T073000Z
DTEND:20251106T090000Z
LOCATION:E1.3\, HS 001
SUMMARY:Cg: Lecture
END:VEVENT
BEGIN:VEVENT
UID:65363962-3435-4665-b830-653964303664
DTSTAMP:20260425T153555Z
DESCRIPTION:Mandatory mini-test\, then discussion of test solutions\, pract
 ical assignment solutions\, and a general Q&A session at the end.
DTSTART:20251110T091500Z
DTEND:20251110T104500Z
LOCATION:E1 3 - Hörsaal I (0.01)
SUMMARY:Cg: Mini-test\, solutions\, office hour
END:VEVENT
BEGIN:VEVENT
UID:63323339-6432-4630-a639-383731363261
DTSTAMP:20260425T153555Z
DESCRIPTION:
DTSTART:20251113T073000Z
DTEND:20251113T090000Z
LOCATION:E1 3 - Hörsaal I (0.01)
SUMMARY:Cg: Office hour
END:VEVENT
BEGIN:VEVENT
UID:63633537-3764-4937-a432-613863373032
DTSTAMP:20260425T153555Z
DESCRIPTION:
DTSTART:20251116T225900Z
DTEND:20251116T225900Z
SUMMARY:Cg: Submission Deadline Assignment 2
END:VEVENT
BEGIN:VEVENT
UID:62313233-6336-4665-b130-643133373538
DTSTAMP:20260425T153555Z
DESCRIPTION:
DTSTART:20251117T091500Z
DTEND:20251117T104500Z
LOCATION:E1.3\, HS 001
SUMMARY:Cg: Lecture
END:VEVENT
BEGIN:VEVENT
UID:66633530-3233-4866-a135-643261636639
DTSTAMP:20260425T153555Z
DESCRIPTION:
DTSTART:20251120T073000Z
DTEND:20251120T090000Z
LOCATION:E1.3\, HS 001
SUMMARY:Cg: Lecture
END:VEVENT
BEGIN:VEVENT
UID:36623238-6666-4065-b537-646536396337
DTSTAMP:20260425T153555Z
DESCRIPTION:Mandatory mini-test\, then discussion of test solutions\, pract
 ical assignment solutions\, and a general Q&A session at the end.
DTSTART:20251124T091500Z
DTEND:20251124T104500Z
LOCATION:E1 3 - Hörsaal I (0.01)
SUMMARY:Cg: Mini-test\, solutions\, office hour
END:VEVENT
BEGIN:VEVENT
UID:39313966-3963-4534-a439-313861323365
DTSTAMP:20260425T153555Z
DESCRIPTION:
DTSTART:20251127T073000Z
DTEND:20251127T090000Z
LOCATION:E1 3 - Hörsaal I (0.01)
SUMMARY:Cg: Office hour
END:VEVENT
BEGIN:VEVENT
UID:35383166-3666-4663-b566-343332656432
DTSTAMP:20260425T153555Z
DESCRIPTION:
DTSTART:20251130T225900Z
DTEND:20251130T225900Z
SUMMARY:Cg: Submission Deadline Assignment 3
END:VEVENT
BEGIN:VEVENT
UID:36653934-3063-4038-b564-313335373933
DTSTAMP:20260425T153555Z
DESCRIPTION:
DTSTART:20251201T091500Z
DTEND:20251201T104500Z
LOCATION:E1.3\, HS 001
SUMMARY:Cg: Lecture
END:VEVENT
BEGIN:VEVENT
UID:65343665-3966-4561-a366-393034643637
DTSTAMP:20260425T153555Z
DESCRIPTION:
DTSTART:20251204T073000Z
DTEND:20251204T090000Z
LOCATION:E1.3\, HS 001
SUMMARY:Cg: Lecture
END:VEVENT
BEGIN:VEVENT
UID:30303433-3466-4931-a534-666634326334
DTSTAMP:20260425T153555Z
DESCRIPTION:Mandatory mini-test\, then discussion of test solutions\, pract
 ical assignment solutions\, and a general Q&A session at the end.
DTSTART:20251208T091500Z
DTEND:20251208T104500Z
LOCATION:E1 3 - Hörsaal I (0.01)
SUMMARY:Cg: Mini-test\, solutions\, office hour
END:VEVENT
BEGIN:VEVENT
UID:38363365-3633-4163-b930-363462363061
DTSTAMP:20260425T153555Z
DESCRIPTION:
DTSTART:20251211T073000Z
DTEND:20251211T090000Z
LOCATION:E1 3 - Hörsaal I (0.01)
SUMMARY:Cg: Office hour
END:VEVENT
BEGIN:VEVENT
UID:36626236-6433-4439-a362-623961396236
DTSTAMP:20260425T153555Z
DESCRIPTION:
DTSTART:20251214T225900Z
DTEND:20251214T225900Z
SUMMARY:Cg: Submission Deadline Assignment 4
END:VEVENT
BEGIN:VEVENT
UID:33616139-3064-4639-b533-373964353134
DTSTAMP:20260425T153555Z
DESCRIPTION:
DTSTART:20251215T091500Z
DTEND:20251215T104500Z
LOCATION:E1.3\, HS 001
SUMMARY:Cg: Lecture
END:VEVENT
BEGIN:VEVENT
UID:36623766-3561-4233-b835-363132333934
DTSTAMP:20260425T153555Z
DESCRIPTION:
DTSTART:20251218T130000Z
DTEND:20251218T170000Z
LOCATION:Seminar room (E1 1)
SUMMARY:Cg: Office hour
END:VEVENT
BEGIN:VEVENT
UID:62613661-6264-4466-b931-306534313866
DTSTAMP:20260425T153555Z
DESCRIPTION:Teaching takes a break
DTSTART;VALUE=DATE:20251222
DTEND;VALUE=DATE:20260103
SUMMARY:Cg: Christmas Break
END:VEVENT
BEGIN:VEVENT
UID:34303365-3161-4330-a539-623236363932
DTSTAMP:20260425T153555Z
DESCRIPTION:
DTSTART:20260105T091500Z
DTEND:20260105T104500Z
LOCATION:E1 3 - Hörsaal I (0.01)
SUMMARY:Cg: Recap\, Feedback\, and Assignment 4
END:VEVENT
BEGIN:VEVENT
UID:66366232-3338-4833-a639-323938616332
DTSTAMP:20260425T153555Z
DESCRIPTION:
DTSTART:20260108T073000Z
DTEND:20260108T090000Z
SUMMARY:Cg: Lecture
END:VEVENT
BEGIN:VEVENT
UID:35383037-6232-4931-a338-663031306165
DTSTAMP:20260425T153555Z
DESCRIPTION:
DTSTART:20260112T091500Z
DTEND:20260112T104500Z
LOCATION:E1.3\, HS 001
SUMMARY:Cg: Lecture
END:VEVENT
BEGIN:VEVENT
UID:64306432-3261-4966-a539-376131666563
DTSTAMP:20260425T153555Z
DESCRIPTION:
DTSTART:20260115T073000Z
DTEND:20260115T090000Z
LOCATION:E1.3\, HS 001
SUMMARY:Cg: Lecture
END:VEVENT
BEGIN:VEVENT
UID:65323533-3739-4531-b461-393531626536
DTSTAMP:20260425T153555Z
DESCRIPTION:
DTSTART:20260119T091500Z
DTEND:20260119T104500Z
SUMMARY:Cg: Lecture
END:VEVENT
BEGIN:VEVENT
UID:63346531-3265-4565-b337-666163663061
DTSTAMP:20260425T153555Z
DESCRIPTION:
DTSTART:20260122T073000Z
DTEND:20260122T090000Z
SUMMARY:Cg: Lecture
END:VEVENT
BEGIN:VEVENT
UID:32363439-6166-4130-b864-643261383236
DTSTAMP:20260425T153555Z
DESCRIPTION:
DTSTART:20260126T091500Z
DTEND:20260126T104500Z
LOCATION:E1.3\, HS 001
SUMMARY:Cg: Lecture
END:VEVENT
BEGIN:VEVENT
UID:35383036-3032-4163-a366-616234316361
DTSTAMP:20260425T153555Z
DESCRIPTION:
DTSTART:20260128T225900Z
DTEND:20260128T225900Z
SUMMARY:Cg: Project and Competition Deadline
END:VEVENT
BEGIN:VEVENT
UID:34343635-3466-4739-a265-313735336163
DTSTAMP:20260425T153555Z
DESCRIPTION:
DTSTART:20260202T091500Z
DTEND:20260202T104500Z
SUMMARY:Cg: Lecture
END:VEVENT
BEGIN:VEVENT
UID:66646235-3064-4961-b464-356166633966
DTSTAMP:20260425T153555Z
DESCRIPTION:
DTSTART:20260205T073000Z
DTEND:20260205T090000Z
LOCATION:E1.3\, HS 001
SUMMARY:Cg: Lecture
END:VEVENT
BEGIN:VEVENT
UID:35363639-3134-4335-b866-613166646139
DTSTAMP:20260425T153555Z
DESCRIPTION:
DTSTART:20260217T130000Z
DTEND:20260217T150000Z
LOCATION:Günter Hotz lecture hall (Building E2 2)
SUMMARY:Cg: Final Exam
END:VEVENT
BEGIN:VEVENT
UID:39653833-3237-4435-a265-336264633937
DTSTAMP:20260425T153555Z
DESCRIPTION:
DTSTART:20260317T130000Z
DTEND:20260317T150000Z
LOCATION:E1 3 HS002
SUMMARY:Cg: Re-exam
END:VEVENT
END:VCALENDAR
