BEGIN:VCALENDAR
VERSION:2.0
PRODID:-//134.96.226.213//NONSGML kigkonsult.se iCalcreator 2.41.92//
CALSCALE:GREGORIAN
METHOD:PUBLISH
UID:32396531-3331-4030-a137-663735613730
X-WR-CALNAME:Computer Graphics Calendar
X-WR-CALDESC:Events of the lecture Computer Graphics
X-WR-TIMEZONE:Europe/Berlin
BEGIN:VEVENT
UID:62633539-3563-4735-a163-666530373332
DTSTAMP:20260425T153726Z
DESCRIPTION:
DTSTART:20251102T225900Z
DTEND:20251102T225900Z
SUMMARY:Submission Deadline Assignment 1
END:VEVENT
BEGIN:VEVENT
UID:63363632-6164-4765-a335-623139313265
DTSTAMP:20260425T153726Z
DESCRIPTION:
DTSTART:20251116T225900Z
DTEND:20251116T225900Z
SUMMARY:Submission Deadline Assignment 2
END:VEVENT
BEGIN:VEVENT
UID:34633461-3936-4438-a630-383466633064
DTSTAMP:20260425T153726Z
DESCRIPTION:
DTSTART:20251130T225900Z
DTEND:20251130T225900Z
SUMMARY:Submission Deadline Assignment 3
END:VEVENT
BEGIN:VEVENT
UID:31353935-3538-4132-a538-376331643137
DTSTAMP:20260425T153726Z
DESCRIPTION:
DTSTART:20251214T225900Z
DTEND:20251214T225900Z
SUMMARY:Submission Deadline Assignment 4
END:VEVENT
BEGIN:VEVENT
UID:32643834-6630-4339-a366-653231616262
DTSTAMP:20260425T153726Z
DESCRIPTION:
DTSTART:20260128T225900Z
DTEND:20260128T225900Z
SUMMARY:Project and Competition Deadline
END:VEVENT
END:VCALENDAR
