BEGIN:VCALENDAR
VERSION:2.0
PRODID:-//134.96.226.213//NONSGML kigkonsult.se iCalcreator 2.41.92//
CALSCALE:GREGORIAN
METHOD:PUBLISH
UID:37316166-3934-4164-b133-656463643031
X-WR-CALNAME:Computer Graphics Calendar
X-WR-CALDESC:Events of the lecture Computer Graphics
X-WR-TIMEZONE:Europe/Berlin
BEGIN:VEVENT
UID:32323163-3564-4666-b437-383566373765
DTSTAMP:20260425T153858Z
DESCRIPTION:Mandatory mini-test\, then discussion of test solutions\, pract
 ical assignment solutions\, and a general Q&A session at the end.
DTSTART:20251027T091500Z
DTEND:20251027T104500Z
LOCATION:E1 3 - Hörsaal I (0.01)
SUMMARY:Cg: Mini-test\, solutions\, office hour
END:VEVENT
BEGIN:VEVENT
UID:63643964-6137-4564-b036-663262663062
DTSTAMP:20260425T153858Z
DESCRIPTION:
DTSTART:20251030T073000Z
DTEND:20251030T090000Z
LOCATION:E1 3 - Hörsaal I (0.01)
SUMMARY:Cg: Office hour
END:VEVENT
BEGIN:VEVENT
UID:31653734-6439-4030-b462-316531633331
DTSTAMP:20260425T153858Z
DESCRIPTION:Mandatory mini-test\, then discussion of test solutions\, pract
 ical assignment solutions\, and a general Q&A session at the end.
DTSTART:20251110T091500Z
DTEND:20251110T104500Z
LOCATION:E1 3 - Hörsaal I (0.01)
SUMMARY:Cg: Mini-test\, solutions\, office hour
END:VEVENT
BEGIN:VEVENT
UID:34363631-6564-4635-b663-303632356363
DTSTAMP:20260425T153858Z
DESCRIPTION:
DTSTART:20251113T073000Z
DTEND:20251113T090000Z
LOCATION:E1 3 - Hörsaal I (0.01)
SUMMARY:Cg: Office hour
END:VEVENT
BEGIN:VEVENT
UID:63626261-6236-4539-b537-666535393162
DTSTAMP:20260425T153858Z
DESCRIPTION:Mandatory mini-test\, then discussion of test solutions\, pract
 ical assignment solutions\, and a general Q&A session at the end.
DTSTART:20251124T091500Z
DTEND:20251124T104500Z
LOCATION:E1 3 - Hörsaal I (0.01)
SUMMARY:Cg: Mini-test\, solutions\, office hour
END:VEVENT
BEGIN:VEVENT
UID:33333537-3935-4237-b762-633163333430
DTSTAMP:20260425T153858Z
DESCRIPTION:
DTSTART:20251127T073000Z
DTEND:20251127T090000Z
LOCATION:E1 3 - Hörsaal I (0.01)
SUMMARY:Cg: Office hour
END:VEVENT
BEGIN:VEVENT
UID:31313461-6337-4162-b634-613235383633
DTSTAMP:20260425T153858Z
DESCRIPTION:Mandatory mini-test\, then discussion of test solutions\, pract
 ical assignment solutions\, and a general Q&A session at the end.
DTSTART:20251208T091500Z
DTEND:20251208T104500Z
LOCATION:E1 3 - Hörsaal I (0.01)
SUMMARY:Cg: Mini-test\, solutions\, office hour
END:VEVENT
BEGIN:VEVENT
UID:37313266-6664-4237-b639-363763326632
DTSTAMP:20260425T153858Z
DESCRIPTION:
DTSTART:20251211T073000Z
DTEND:20251211T090000Z
LOCATION:E1 3 - Hörsaal I (0.01)
SUMMARY:Cg: Office hour
END:VEVENT
BEGIN:VEVENT
UID:61613136-3963-4233-b163-363533326165
DTSTAMP:20260425T153858Z
DESCRIPTION:
DTSTART:20251218T130000Z
DTEND:20251218T170000Z
LOCATION:Seminar room (E1 1)
SUMMARY:Cg: Office hour
END:VEVENT
BEGIN:VEVENT
UID:32346562-6439-4464-b235-633365326464
DTSTAMP:20260425T153858Z
DESCRIPTION:
DTSTART:20260105T091500Z
DTEND:20260105T104500Z
LOCATION:E1 3 - Hörsaal I (0.01)
SUMMARY:Cg: Recap\, Feedback\, and Assignment 4
END:VEVENT
END:VCALENDAR
