BEGIN:VCALENDAR
VERSION:2.0
PRODID:-//134.96.226.213//NONSGML kigkonsult.se iCalcreator 2.41.92//
CALSCALE:GREGORIAN
METHOD:PUBLISH
UID:33356164-6164-4661-b536-306136303461
X-WR-CALNAME:Computer Graphics Calendar
X-WR-CALDESC:Events of the lecture Computer Graphics
X-WR-TIMEZONE:Europe/Berlin
BEGIN:VEVENT
UID:31663236-3839-4661-b864-633331383334
DTSTAMP:20260425T170000Z
DESCRIPTION:
DTSTART:20260217T130000Z
DTEND:20260217T150000Z
LOCATION:Günter Hotz lecture hall (Building E2 2)
SUMMARY:Cg: Final Exam
END:VEVENT
BEGIN:VEVENT
UID:32653963-3037-4836-b434-636135383361
DTSTAMP:20260425T170000Z
DESCRIPTION:
DTSTART:20260317T130000Z
DTEND:20260317T150000Z
LOCATION:E1 3 HS002
SUMMARY:Cg: Re-exam
END:VEVENT
END:VCALENDAR
