BEGIN:VCALENDAR
VERSION:2.0
PRODID:-//134.96.226.213//NONSGML kigkonsult.se iCalcreator 2.41.92//
CALSCALE:GREGORIAN
METHOD:PUBLISH
UID:35653438-3833-4462-a130-386138346464
X-WR-CALNAME:Computer Graphics Calendar
X-WR-CALDESC:Events of the lecture Computer Graphics
X-WR-TIMEZONE:Europe/Berlin
BEGIN:VEVENT
UID:39323764-3733-4266-b637-323137663137
DTSTAMP:20260425T153612Z
DESCRIPTION:
DTSTART:20260217T130000Z
DTEND:20260217T150000Z
LOCATION:Günter Hotz lecture hall (Building E2 2)
SUMMARY:Final Exam
END:VEVENT
BEGIN:VEVENT
UID:33303161-6161-4363-b730-343561353062
DTSTAMP:20260425T153612Z
DESCRIPTION:
DTSTART:20260317T130000Z
DTEND:20260317T150000Z
LOCATION:E1 3 HS002
SUMMARY:Re-exam
END:VEVENT
END:VCALENDAR
