BEGIN:VCALENDAR
VERSION:2.0
PRODID:-//134.96.226.213//NONSGML kigkonsult.se iCalcreator 2.41.92//
CALSCALE:GREGORIAN
METHOD:PUBLISH
UID:33666536-6566-4339-b539-656531396537
X-WR-CALNAME:Computer Graphics Calendar
X-WR-CALDESC:Events of the lecture Computer Graphics
X-WR-TIMEZONE:Europe/Berlin
BEGIN:VEVENT
UID:34366239-6163-4561-b462-653536336262
DTSTAMP:20260425T153739Z
DESCRIPTION:
DTSTART:20251016T063000Z
DTEND:20251016T080000Z
LOCATION:E1.3\, HS 001
SUMMARY:Intro Lecture
END:VEVENT
BEGIN:VEVENT
UID:31303932-3737-4564-b565-626432653037
DTSTAMP:20260425T153739Z
DESCRIPTION:
DTSTART:20251020T081500Z
DTEND:20251020T094500Z
LOCATION:E1.3\, HS 001
SUMMARY:Lecture
END:VEVENT
BEGIN:VEVENT
UID:36373934-6432-4330-b030-313530316630
DTSTAMP:20260425T153739Z
DESCRIPTION:
DTSTART:20251023T063000Z
DTEND:20251023T080000Z
LOCATION:E1.3\, HS 001
SUMMARY:Lecture
END:VEVENT
BEGIN:VEVENT
UID:33363864-3733-4564-b765-373966383938
DTSTAMP:20260425T153739Z
DESCRIPTION:
DTSTART:20251103T091500Z
DTEND:20251103T104500Z
LOCATION:E1.3\, HS 001
SUMMARY:Lecture
END:VEVENT
BEGIN:VEVENT
UID:38373539-6661-4130-a430-386233313063
DTSTAMP:20260425T153739Z
DESCRIPTION:
DTSTART:20251106T073000Z
DTEND:20251106T090000Z
LOCATION:E1.3\, HS 001
SUMMARY:Lecture
END:VEVENT
BEGIN:VEVENT
UID:66383961-3530-4435-b361-316265663865
DTSTAMP:20260425T153739Z
DESCRIPTION:
DTSTART:20251117T091500Z
DTEND:20251117T104500Z
LOCATION:E1.3\, HS 001
SUMMARY:Lecture
END:VEVENT
BEGIN:VEVENT
UID:34663336-3632-4739-b736-653136636265
DTSTAMP:20260425T153739Z
DESCRIPTION:
DTSTART:20251120T073000Z
DTEND:20251120T090000Z
LOCATION:E1.3\, HS 001
SUMMARY:Lecture
END:VEVENT
BEGIN:VEVENT
UID:65343664-3061-4163-b133-346439373232
DTSTAMP:20260425T153739Z
DESCRIPTION:
DTSTART:20251201T091500Z
DTEND:20251201T104500Z
LOCATION:E1.3\, HS 001
SUMMARY:Lecture
END:VEVENT
BEGIN:VEVENT
UID:36306533-3031-4465-a562-353532613565
DTSTAMP:20260425T153739Z
DESCRIPTION:
DTSTART:20251204T073000Z
DTEND:20251204T090000Z
LOCATION:E1.3\, HS 001
SUMMARY:Lecture
END:VEVENT
BEGIN:VEVENT
UID:33636266-3833-4432-b934-356334656339
DTSTAMP:20260425T153739Z
DESCRIPTION:
DTSTART:20251215T091500Z
DTEND:20251215T104500Z
LOCATION:E1.3\, HS 001
SUMMARY:Lecture
END:VEVENT
BEGIN:VEVENT
UID:32323261-3238-4630-a433-666162336134
DTSTAMP:20260425T153739Z
DESCRIPTION:
DTSTART:20260108T073000Z
DTEND:20260108T090000Z
SUMMARY:Lecture
END:VEVENT
BEGIN:VEVENT
UID:65643263-6466-4361-b438-626664353539
DTSTAMP:20260425T153739Z
DESCRIPTION:
DTSTART:20260112T091500Z
DTEND:20260112T104500Z
LOCATION:E1.3\, HS 001
SUMMARY:Lecture
END:VEVENT
BEGIN:VEVENT
UID:32383961-3938-4563-b532-646138396138
DTSTAMP:20260425T153739Z
DESCRIPTION:
DTSTART:20260115T073000Z
DTEND:20260115T090000Z
LOCATION:E1.3\, HS 001
SUMMARY:Lecture
END:VEVENT
BEGIN:VEVENT
UID:62646534-3735-4137-a531-393831346239
DTSTAMP:20260425T153739Z
DESCRIPTION:
DTSTART:20260119T091500Z
DTEND:20260119T104500Z
SUMMARY:Lecture
END:VEVENT
BEGIN:VEVENT
UID:34323237-6539-4533-a539-353361633235
DTSTAMP:20260425T153739Z
DESCRIPTION:
DTSTART:20260122T073000Z
DTEND:20260122T090000Z
SUMMARY:Lecture
END:VEVENT
BEGIN:VEVENT
UID:35653761-6338-4536-a163-386330303162
DTSTAMP:20260425T153739Z
DESCRIPTION:
DTSTART:20260126T091500Z
DTEND:20260126T104500Z
LOCATION:E1.3\, HS 001
SUMMARY:Lecture
END:VEVENT
BEGIN:VEVENT
UID:66653866-3339-4164-b337-343837653435
DTSTAMP:20260425T153739Z
DESCRIPTION:
DTSTART:20260202T091500Z
DTEND:20260202T104500Z
SUMMARY:Lecture
END:VEVENT
BEGIN:VEVENT
UID:35313066-3934-4337-b631-396330396232
DTSTAMP:20260425T153739Z
DESCRIPTION:
DTSTART:20260205T073000Z
DTEND:20260205T090000Z
LOCATION:E1.3\, HS 001
SUMMARY:Lecture
END:VEVENT
END:VCALENDAR
