BEGIN:VCALENDAR
VERSION:2.0
PRODID:-//134.96.226.213//NONSGML kigkonsult.se iCalcreator 2.41.71//
CALSCALE:GREGORIAN
METHOD:PUBLISH
UID:35626130-6130-4237-a639-316538373839
X-WR-CALNAME:Compiler Construction Calendar
X-WR-CALDESC:Events of the lecture Compiler Construction
X-WR-TIMEZONE:Europe/Berlin
BEGIN:VEVENT
UID:39616163-3635-4831-a333-623262333032
DTSTAMP:20260420T041243Z
DESCRIPTION:
DTSTART:20251014T063000Z
DTEND:20251014T080000Z
LOCATION:HS 003 (E1.3)
SUMMARY:Cc2526: Lecture
END:VEVENT
BEGIN:VEVENT
UID:34393736-3938-4438-a437-306366636662
DTSTAMP:20260420T041243Z
DESCRIPTION:
DTSTART:20251016T101500Z
DTEND:20251016T114500Z
LOCATION:HS 003 (E1.3)
SUMMARY:Cc2526: Lecture
END:VEVENT
BEGIN:VEVENT
UID:39323735-3762-4535-a237-636462343235
DTSTAMP:20260420T041243Z
DESCRIPTION:
DTSTART:20251019T215900Z
DTEND:20251019T215900Z
SUMMARY:Cc2526: CMS Registration Deadline
END:VEVENT
BEGIN:VEVENT
UID:66383334-6234-4831-a134-656664646432
DTSTAMP:20260420T041243Z
DESCRIPTION:
DTSTART:20251021T063000Z
DTEND:20251021T080000Z
LOCATION:HS 003 (E1.3)
SUMMARY:Cc2526: Lecture
END:VEVENT
BEGIN:VEVENT
UID:36663831-6461-4662-a364-366564376661
DTSTAMP:20260420T041243Z
DESCRIPTION:
DTSTART:20251021T215900Z
DTEND:20251021T215900Z
SUMMARY:Cc2526: Solo Project Registration Deadline
END:VEVENT
BEGIN:VEVENT
UID:32383466-3735-4032-a631-373662346461
DTSTAMP:20260420T041243Z
DESCRIPTION:
DTSTART:20251023T101500Z
DTEND:20251023T114500Z
LOCATION:HS 003 (E1.3)
SUMMARY:Cc2526: Lecture
END:VEVENT
BEGIN:VEVENT
UID:39333636-3736-4266-a531-663438633862
DTSTAMP:20260420T041243Z
DESCRIPTION:
DTSTART;VALUE=DATE:20251023
DTEND;VALUE=DATE:20251110
SUMMARY:Cc2526: Solo Project: RegEx
END:VEVENT
BEGIN:VEVENT
UID:63313137-3833-4835-b930-343037666132
DTSTAMP:20260420T041243Z
DESCRIPTION:
DTSTART:20251027T090000Z
DTEND:20251027T110000Z
LOCATION:E1.1 2.06
SUMMARY:Cc2526: Tutorial 1
END:VEVENT
BEGIN:VEVENT
UID:66356339-3037-4062-b164-626666373535
DTSTAMP:20260420T041243Z
DESCRIPTION:
DTSTART:20251027T130000Z
DTEND:20251027T150000Z
LOCATION:E1.1 2.06
SUMMARY:Cc2526: Tutorial 2
END:VEVENT
BEGIN:VEVENT
UID:30323162-3639-4932-b236-633337643163
DTSTAMP:20260420T041243Z
DESCRIPTION:
DTSTART:20251028T073000Z
DTEND:20251028T090000Z
LOCATION:HS 003 (E1.3)
SUMMARY:Cc2526: Lecture
END:VEVENT
BEGIN:VEVENT
UID:37623365-3332-4562-a234-663336393130
DTSTAMP:20260420T041243Z
DESCRIPTION:
DTSTART:20251030T111500Z
DTEND:20251030T124500Z
LOCATION:HS 003 (E1.3)
SUMMARY:Cc2526: Lecture
END:VEVENT
BEGIN:VEVENT
UID:31316630-3839-4634-b933-616163646366
DTSTAMP:20260420T041243Z
DESCRIPTION:
DTSTART:20251103T090000Z
DTEND:20251103T110000Z
LOCATION:E1.1 2.06
SUMMARY:Cc2526: Tutorial 1
END:VEVENT
BEGIN:VEVENT
UID:37356331-6334-4566-b330-393539613964
DTSTAMP:20260420T041243Z
DESCRIPTION:
DTSTART:20251103T130000Z
DTEND:20251103T150000Z
LOCATION:E1.1 2.06
SUMMARY:Cc2526: Tutorial 2
END:VEVENT
BEGIN:VEVENT
UID:32373131-3731-4934-a564-636263646562
DTSTAMP:20260420T041243Z
DESCRIPTION:
DTSTART:20251104T073000Z
DTEND:20251104T090000Z
LOCATION:HS 003 (E1.3)
SUMMARY:Cc2526: Lecture
END:VEVENT
BEGIN:VEVENT
UID:32366337-6238-4761-a264-393437346564
DTSTAMP:20260420T041243Z
DESCRIPTION:
DTSTART:20251104T090000Z
DTEND:20251104T103000Z
LOCATION:E1.3 4.01
SUMMARY:Cc2526: Office Hour - RegEx
END:VEVENT
BEGIN:VEVENT
UID:38616665-6536-4835-b632-343136313265
DTSTAMP:20260420T041243Z
DESCRIPTION:
DTSTART:20251106T111500Z
DTEND:20251106T124500Z
LOCATION:HS 003 (E1.3)
SUMMARY:Cc2526: Lecture
END:VEVENT
BEGIN:VEVENT
UID:38356461-3037-4037-b861-346561626537
DTSTAMP:20260420T041243Z
DESCRIPTION:
DTSTART:20251109T225900Z
DTEND:20251109T225900Z
SUMMARY:Cc2526: Solo Project Deadline
END:VEVENT
BEGIN:VEVENT
UID:32663734-6163-4632-b065-636163303739
DTSTAMP:20260420T041243Z
DESCRIPTION:
DTSTART:20251110T090000Z
DTEND:20251110T110000Z
LOCATION:E1.1 2.06
SUMMARY:Cc2526: Tutorial 1
END:VEVENT
BEGIN:VEVENT
UID:31646638-3334-4134-b832-323632316532
DTSTAMP:20260420T041243Z
DESCRIPTION:
DTSTART:20251110T130000Z
DTEND:20251110T150000Z
LOCATION:E1.1 2.06
SUMMARY:Cc2526: Tutorial 2
END:VEVENT
BEGIN:VEVENT
UID:30383638-6163-4334-a430-383264613436
DTSTAMP:20260420T041243Z
DESCRIPTION:
DTSTART:20251111T073000Z
DTEND:20251111T090000Z
LOCATION:HS 003 (E1.3)
SUMMARY:Cc2526: Lecture
END:VEVENT
BEGIN:VEVENT
UID:35373438-6164-4234-b137-363364303733
DTSTAMP:20260420T041243Z
DESCRIPTION:
DTSTART:20251111T225900Z
DTEND:20251111T225900Z
SUMMARY:Cc2526: Group Project Registration Deadline
END:VEVENT
BEGIN:VEVENT
UID:36396135-6465-4139-b631-383161656437
DTSTAMP:20260420T041243Z
DESCRIPTION:
DTSTART;VALUE=DATE:20251112
DTEND;VALUE=DATE:20251211
SUMMARY:Cc2526: Expression Parsing & Semantic Analysis
END:VEVENT
BEGIN:VEVENT
UID:32373636-6533-4137-a538-336261383064
DTSTAMP:20260420T041243Z
DESCRIPTION:
DTSTART:20251113T111500Z
DTEND:20251113T124500Z
LOCATION:HS 003 (E1.3)
SUMMARY:Cc2526: Lecture
END:VEVENT
BEGIN:VEVENT
UID:32613265-6539-4437-b636-616633663230
DTSTAMP:20260420T041243Z
DESCRIPTION:
DTSTART:20251117T090000Z
DTEND:20251117T110000Z
LOCATION:E1.1 2.06
SUMMARY:Cc2526: Tutorial 1
END:VEVENT
BEGIN:VEVENT
UID:34643835-6634-4165-a234-393836303431
DTSTAMP:20260420T041243Z
DESCRIPTION:
DTSTART:20251117T130000Z
DTEND:20251117T150000Z
LOCATION:E1.1 2.06
SUMMARY:Cc2526: Tutorial 2
END:VEVENT
BEGIN:VEVENT
UID:37636663-3863-4766-b232-333230656262
DTSTAMP:20260420T041243Z
DESCRIPTION:
DTSTART:20251118T073000Z
DTEND:20251118T090000Z
LOCATION:HS 003 (E1.3)
SUMMARY:Cc2526: Lecture
END:VEVENT
BEGIN:VEVENT
UID:37353534-3730-4237-a434-613835356431
DTSTAMP:20260420T041243Z
DESCRIPTION:
DTSTART:20251120T111500Z
DTEND:20251120T124500Z
LOCATION:HS 003 (E1.3)
SUMMARY:Cc2526: Lecture
END:VEVENT
BEGIN:VEVENT
UID:34373262-6465-4862-a664-366665323333
DTSTAMP:20260420T041243Z
DESCRIPTION:
DTSTART:20251124T090000Z
DTEND:20251124T110000Z
LOCATION:E1.1 2.06
SUMMARY:Cc2526: Tutorial 1
END:VEVENT
BEGIN:VEVENT
UID:61646563-3235-4334-b466-653631386236
DTSTAMP:20260420T041243Z
DESCRIPTION:
DTSTART:20251124T130000Z
DTEND:20251124T150000Z
LOCATION:E1.1 2.06
SUMMARY:Cc2526: Tutorial 2
END:VEVENT
BEGIN:VEVENT
UID:63653361-6137-4436-a235-353639376337
DTSTAMP:20260420T041243Z
DESCRIPTION:
DTSTART:20251125T073000Z
DTEND:20251125T090000Z
LOCATION:HS 003 (E1.3)
SUMMARY:Cc2526: Lecture
END:VEVENT
BEGIN:VEVENT
UID:31623633-3766-4539-a665-343730653061
DTSTAMP:20260420T041243Z
DESCRIPTION:
DTSTART:20251127T111500Z
DTEND:20251127T124500Z
LOCATION:HS 003 (E1.3)
SUMMARY:Cc2526: Lecture
END:VEVENT
BEGIN:VEVENT
UID:62336365-6530-4532-b664-616231616361
DTSTAMP:20260420T041243Z
DESCRIPTION:
DTSTART:20251201T090000Z
DTEND:20251201T110000Z
LOCATION:E1.1 2.06
SUMMARY:Cc2526: Tutorial 1
END:VEVENT
BEGIN:VEVENT
UID:38336264-3839-4166-a230-346534626633
DTSTAMP:20260420T041243Z
DESCRIPTION:
DTSTART:20251201T130000Z
DTEND:20251201T150000Z
LOCATION:E1.1 2.06
SUMMARY:Cc2526: Tutorial 2
END:VEVENT
BEGIN:VEVENT
UID:30363839-3837-4565-b033-323361373562
DTSTAMP:20260420T041243Z
DESCRIPTION:
DTSTART:20251202T073000Z
DTEND:20251202T090000Z
LOCATION:HS 003 (E1.3)
SUMMARY:Cc2526: Lecture
END:VEVENT
BEGIN:VEVENT
UID:36633435-3932-4164-b362-333238613761
DTSTAMP:20260420T041243Z
DESCRIPTION:
DTSTART:20251204T111500Z
DTEND:20251204T124500Z
LOCATION:HS 003 (E1.3)
SUMMARY:Cc2526: Lecture
END:VEVENT
BEGIN:VEVENT
UID:64643339-3338-4537-b862-323039643762
DTSTAMP:20260420T041243Z
DESCRIPTION:
DTSTART:20251208T090000Z
DTEND:20251208T110000Z
LOCATION:E1.1 2.06
SUMMARY:Cc2526: Tutorial 1
END:VEVENT
BEGIN:VEVENT
UID:38386439-6135-4362-b439-323832643663
DTSTAMP:20260420T041243Z
DESCRIPTION:
DTSTART:20251208T130000Z
DTEND:20251208T150000Z
LOCATION:E1.1 2.06
SUMMARY:Cc2526: Tutorial 2
END:VEVENT
BEGIN:VEVENT
UID:65623836-3564-4336-b437-353632336161
DTSTAMP:20260420T041243Z
DESCRIPTION:
DTSTART:20251209T073000Z
DTEND:20251209T090000Z
LOCATION:HS 003 (E1.3)
SUMMARY:Cc2526: Lecture
END:VEVENT
BEGIN:VEVENT
UID:33613638-3734-4739-a238-376165636234
DTSTAMP:20260420T041243Z
DESCRIPTION:
DTSTART:20251209T090000Z
DTEND:20251209T103000Z
LOCATION:E1.3 4.01
SUMMARY:Cc2526: Office Hour - Expression Parsing & Semantic Analysis
END:VEVENT
BEGIN:VEVENT
UID:35336162-6562-4038-a135-636637663437
DTSTAMP:20260420T041243Z
DESCRIPTION:
DTSTART;VALUE=DATE:20251211
DTEND;VALUE=DATE:20260108
SUMMARY:Cc2526: CodeGen
END:VEVENT
BEGIN:VEVENT
UID:63373462-3162-4666-b063-343338336462
DTSTAMP:20260420T041243Z
DESCRIPTION:
DTSTART:20251211T111500Z
DTEND:20251211T124500Z
LOCATION:HS 003 (E1.3)
SUMMARY:Cc2526: Lecture
END:VEVENT
BEGIN:VEVENT
UID:32613531-3139-4135-b533-653066616237
DTSTAMP:20260420T041243Z
DESCRIPTION:
DTSTART:20251215T090000Z
DTEND:20251215T110000Z
LOCATION:E1.1 2.06
SUMMARY:Cc2526: Tutorial 1
END:VEVENT
BEGIN:VEVENT
UID:62306262-3832-4865-b437-373830376664
DTSTAMP:20260420T041243Z
DESCRIPTION:
DTSTART:20251215T130000Z
DTEND:20251215T150000Z
LOCATION:E1.1 2.06
SUMMARY:Cc2526: Tutorial 2
END:VEVENT
BEGIN:VEVENT
UID:36653939-3666-4865-b662-316534656338
DTSTAMP:20260420T041243Z
DESCRIPTION:
DTSTART:20251218T111500Z
DTEND:20251218T124500Z
LOCATION:HS 003 (E1.3)
SUMMARY:Cc2526: Lecture
END:VEVENT
BEGIN:VEVENT
UID:63353335-6537-4837-b837-616566613237
DTSTAMP:20260420T041243Z
DESCRIPTION:
DTSTART;VALUE=DATE:20251222
DTEND;VALUE=DATE:20260103
SUMMARY:Cc2526: Winter Break
END:VEVENT
BEGIN:VEVENT
UID:62343861-3661-4337-a133-343665343637
DTSTAMP:20260420T041243Z
DESCRIPTION:
DTSTART:20260105T090000Z
DTEND:20260105T110000Z
LOCATION:E1.1 2.06
SUMMARY:Cc2526: Tutorial 1
END:VEVENT
BEGIN:VEVENT
UID:66633332-3962-4633-b866-383465333366
DTSTAMP:20260420T041243Z
DESCRIPTION:
DTSTART:20260105T130000Z
DTEND:20260105T150000Z
LOCATION:E1.1 2.06
SUMMARY:Cc2526: Tutorial 2
END:VEVENT
BEGIN:VEVENT
UID:64613966-3361-4763-a132-326535656333
DTSTAMP:20260420T041243Z
DESCRIPTION:
DTSTART;VALUE=DATE:20260108
DTEND;VALUE=DATE:20260122
SUMMARY:Cc2526: Programm Analysis
END:VEVENT
BEGIN:VEVENT
UID:32616563-3763-4562-a661-626236313537
DTSTAMP:20260420T041243Z
DESCRIPTION:
DTSTART:20260113T073000Z
DTEND:20260113T090000Z
LOCATION:HS 003 (E1.3)
SUMMARY:Cc2526: Lecture
END:VEVENT
BEGIN:VEVENT
UID:35336536-6433-4266-b565-303031333931
DTSTAMP:20260420T041243Z
DESCRIPTION:
DTSTART:20260113T090000Z
DTEND:20260113T103000Z
LOCATION:E1.3 4.01
SUMMARY:Cc2526: Office Hour - CodeGen & Program Analysis
END:VEVENT
BEGIN:VEVENT
UID:33643166-6138-4366-b739-633738363338
DTSTAMP:20260420T041243Z
DESCRIPTION:
DTSTART:20260115T111500Z
DTEND:20260115T124500Z
LOCATION:HS 003 (E1.3)
SUMMARY:Cc2526: Lecture
END:VEVENT
BEGIN:VEVENT
UID:63666631-6235-4665-b030-363262323662
DTSTAMP:20260420T041243Z
DESCRIPTION:
DTSTART:20260119T090000Z
DTEND:20260119T110000Z
LOCATION:E1.1 2.06
SUMMARY:Cc2526: Tutorial 1
END:VEVENT
BEGIN:VEVENT
UID:66323837-6361-4463-a466-366530623234
DTSTAMP:20260420T041243Z
DESCRIPTION:
DTSTART:20260119T130000Z
DTEND:20260119T150000Z
LOCATION:E1.1 2.06
SUMMARY:Cc2526: Tutorial 2
END:VEVENT
BEGIN:VEVENT
UID:37343262-3536-4266-b565-656338353866
DTSTAMP:20260420T041243Z
DESCRIPTION:
DTSTART:20260120T073000Z
DTEND:20260120T090000Z
LOCATION:HS 003 (E1.3)
SUMMARY:Cc2526: Lecture
END:VEVENT
BEGIN:VEVENT
UID:33363239-3839-4639-b233-363730386637
DTSTAMP:20260420T041243Z
DESCRIPTION:
DTSTART;VALUE=DATE:20260122
DTEND;VALUE=DATE:20260207
SUMMARY:Cc2526: Optimization
END:VEVENT
BEGIN:VEVENT
UID:30306337-3730-4038-b335-663632666262
DTSTAMP:20260420T041243Z
DESCRIPTION:
DTSTART:20260122T111500Z
DTEND:20260122T124500Z
LOCATION:HS 003 (E1.3)
SUMMARY:Cc2526: Lecture
END:VEVENT
BEGIN:VEVENT
UID:39336165-6563-4561-b365-616135666665
DTSTAMP:20260420T041243Z
DESCRIPTION:
DTSTART:20260126T090000Z
DTEND:20260126T110000Z
LOCATION:E1.1 2.06
SUMMARY:Cc2526: Tutorial 1
END:VEVENT
BEGIN:VEVENT
UID:32613637-3063-4732-b364-353739316532
DTSTAMP:20260420T041243Z
DESCRIPTION:
DTSTART:20260126T130000Z
DTEND:20260126T150000Z
LOCATION:E1.1 2.06
SUMMARY:Cc2526: Tutorial 2
END:VEVENT
BEGIN:VEVENT
UID:64613263-3664-4362-b539-306562343736
DTSTAMP:20260420T041243Z
DESCRIPTION:
DTSTART:20260127T073000Z
DTEND:20260127T090000Z
LOCATION:HS 003 (E1.3)
SUMMARY:Cc2526: Lecture
END:VEVENT
BEGIN:VEVENT
UID:32343638-6132-4734-a663-663365623937
DTSTAMP:20260420T041243Z
DESCRIPTION:
DTSTART:20260202T090000Z
DTEND:20260202T110000Z
LOCATION:E1.1 2.06
SUMMARY:Cc2526: Tutorial 1
END:VEVENT
BEGIN:VEVENT
UID:39656530-3737-4731-a562-376537616437
DTSTAMP:20260420T041243Z
DESCRIPTION:
DTSTART:20260202T130000Z
DTEND:20260202T150000Z
LOCATION:E1.1 2.06
SUMMARY:Cc2526: Tutorial 2
END:VEVENT
BEGIN:VEVENT
UID:34333866-3436-4439-a564-636338626562
DTSTAMP:20260420T041243Z
DESCRIPTION:
DTSTART:20260203T090000Z
DTEND:20260203T103000Z
LOCATION:E1.3 4.01
SUMMARY:Cc2526: Office Hour - Optimization
END:VEVENT
BEGIN:VEVENT
UID:31353539-3961-4536-b966-333138313537
DTSTAMP:20260420T041243Z
DESCRIPTION:
DTSTART:20260205T111500Z
DTEND:20260205T124500Z
LOCATION:HS 003 (E1.3)
SUMMARY:Cc2526: Lecture
END:VEVENT
BEGIN:VEVENT
UID:36373930-3635-4462-b738-313663346439
DTSTAMP:20260420T041243Z
DESCRIPTION:
DTSTART:20260210T080000Z
DTEND:20260210T100000Z
LOCATION:E1.3 HS002
SUMMARY:Cc2526: Main Exam
END:VEVENT
BEGIN:VEVENT
UID:31646337-3561-4630-b132-616538313239
DTSTAMP:20260420T041243Z
DESCRIPTION:
DTSTART:20260213T170000Z
DTEND:20260213T170000Z
SUMMARY:Cc2526: Final Project Deadline
END:VEVENT
BEGIN:VEVENT
UID:35316264-3133-4666-a236-333334623236
DTSTAMP:20260420T041243Z
DESCRIPTION:
DTSTART;VALUE=DATE:20260219
DTEND;VALUE=DATE:20260221
SUMMARY:Cc2526: Project Discussions
END:VEVENT
BEGIN:VEVENT
UID:39363662-3530-4465-a135-666631326162
DTSTAMP:20260420T041243Z
DESCRIPTION:
DTSTART;VALUE=DATE:20260223
DTEND;VALUE=DATE:20260225
SUMMARY:Cc2526: Project Discussions
END:VEVENT
BEGIN:VEVENT
UID:30373539-3966-4733-b136-626130646363
DTSTAMP:20260420T041243Z
DESCRIPTION:
DTSTART:20260226T130000Z
DTEND:20260226T133000Z
LOCATION:E1.3 4.01 / Teams
SUMMARY:Cc2526: Project Competition Presentation
END:VEVENT
BEGIN:VEVENT
UID:61623238-3532-4066-b861-393663653662
DTSTAMP:20260420T041243Z
DESCRIPTION:
DTSTART:20260316T080000Z
DTEND:20260316T100000Z
LOCATION:E1.3 HS002
SUMMARY:Cc2526: Re-Exam
END:VEVENT
BEGIN:VEVENT
UID:37363866-3863-4436-b731-636633343963
DTSTAMP:20260420T041243Z
DESCRIPTION:
DTSTART:20260318T090000Z
DTEND:20260318T103000Z
LOCATION:E1.3 4.01
SUMMARY:Cc2526: Re-Exam Inspection
END:VEVENT
END:VCALENDAR
