BEGIN:VCALENDAR
VERSION:2.0
PRODID:-//134.96.226.213//NONSGML kigkonsult.se iCalcreator 2.41.71//
CALSCALE:GREGORIAN
METHOD:PUBLISH
UID:30373464-3033-4762-a130-333531356265
X-WR-CALNAME:Compiler Construction Calendar
X-WR-CALDESC:Events of the lecture Compiler Construction
X-WR-TIMEZONE:Europe/Berlin
BEGIN:VEVENT
UID:35396238-3263-4238-b565-306135353631
DTSTAMP:20260420T041431Z
DESCRIPTION:
DTSTART:20260318T090000Z
DTEND:20260318T103000Z
LOCATION:E1.3 4.01
SUMMARY:Cc2526: Re-Exam Inspection
END:VEVENT
END:VCALENDAR
