BEGIN:VCALENDAR
VERSION:2.0
PRODID:-//134.96.226.213//NONSGML kigkonsult.se iCalcreator 2.41.71//
CALSCALE:GREGORIAN
METHOD:PUBLISH
UID:33313432-3932-4364-b937-323666353633
X-WR-CALNAME:Compiler Construction Calendar
X-WR-CALDESC:Events of the lecture Compiler Construction
X-WR-TIMEZONE:Europe/Berlin
BEGIN:VEVENT
UID:66323563-6634-4937-a637-643464336230
DTSTAMP:20260420T053753Z
DESCRIPTION:
DTSTART:20260318T090000Z
DTEND:20260318T103000Z
LOCATION:E1.3 4.01
SUMMARY:Re-Exam Inspection
END:VEVENT
END:VCALENDAR
