BEGIN:VCALENDAR
VERSION:2.0
PRODID:-//134.96.226.213//NONSGML kigkonsult.se iCalcreator 2.41.71//
CALSCALE:GREGORIAN
METHOD:PUBLISH
UID:62663264-3135-4932-a134-643164383239
X-WR-CALNAME:Compiler Construction Calendar
X-WR-CALDESC:Events of the lecture Compiler Construction
X-WR-TIMEZONE:Europe/Berlin
BEGIN:VEVENT
UID:64343266-3835-4039-a264-383466633261
DTSTAMP:20260420T041349Z
DESCRIPTION:
DTSTART:20251019T215900Z
DTEND:20251019T215900Z
SUMMARY:CMS Registration Deadline
END:VEVENT
BEGIN:VEVENT
UID:36386562-6539-4139-a630-653433393363
DTSTAMP:20260420T041349Z
DESCRIPTION:
DTSTART:20251021T215900Z
DTEND:20251021T215900Z
SUMMARY:Solo Project Registration Deadline
END:VEVENT
BEGIN:VEVENT
UID:33376435-3864-4931-b861-366632313165
DTSTAMP:20260420T041349Z
DESCRIPTION:
DTSTART:20251109T225900Z
DTEND:20251109T225900Z
SUMMARY:Solo Project Deadline
END:VEVENT
BEGIN:VEVENT
UID:62643864-3463-4239-a338-646530636664
DTSTAMP:20260420T041349Z
DESCRIPTION:
DTSTART:20251111T225900Z
DTEND:20251111T225900Z
SUMMARY:Group Project Registration Deadline
END:VEVENT
BEGIN:VEVENT
UID:37623632-6434-4661-b830-616634316361
DTSTAMP:20260420T041349Z
DESCRIPTION:
DTSTART:20260213T170000Z
DTEND:20260213T170000Z
SUMMARY:Final Project Deadline
END:VEVENT
END:VCALENDAR
