BEGIN:VCALENDAR
VERSION:2.0
PRODID:-//134.96.226.213//NONSGML kigkonsult.se iCalcreator 2.41.71//
CALSCALE:GREGORIAN
METHOD:PUBLISH
UID:62316562-3434-4632-a464-363939326161
X-WR-CALNAME:Compiler Construction Calendar
X-WR-CALDESC:Events of the lecture Compiler Construction
X-WR-TIMEZONE:Europe/Berlin
BEGIN:VEVENT
UID:62626462-3539-4566-a530-373139643735
DTSTAMP:20260420T041452Z
DESCRIPTION:
DTSTART;VALUE=DATE:20251023
DTEND;VALUE=DATE:20251110
SUMMARY:Cc2526: Solo Project: RegEx
END:VEVENT
BEGIN:VEVENT
UID:33353032-3464-4336-a237-313531343139
DTSTAMP:20260420T041452Z
DESCRIPTION:
DTSTART;VALUE=DATE:20251112
DTEND;VALUE=DATE:20251211
SUMMARY:Cc2526: Expression Parsing & Semantic Analysis
END:VEVENT
BEGIN:VEVENT
UID:32363337-3961-4634-b436-383766393732
DTSTAMP:20260420T041452Z
DESCRIPTION:
DTSTART;VALUE=DATE:20251211
DTEND;VALUE=DATE:20260108
SUMMARY:Cc2526: CodeGen
END:VEVENT
BEGIN:VEVENT
UID:63643734-3132-4832-b730-373632323163
DTSTAMP:20260420T041452Z
DESCRIPTION:
DTSTART;VALUE=DATE:20260108
DTEND;VALUE=DATE:20260122
SUMMARY:Cc2526: Programm Analysis
END:VEVENT
BEGIN:VEVENT
UID:64613061-6463-4334-b738-356464383438
DTSTAMP:20260420T041452Z
DESCRIPTION:
DTSTART;VALUE=DATE:20260122
DTEND;VALUE=DATE:20260207
SUMMARY:Cc2526: Optimization
END:VEVENT
END:VCALENDAR
