BEGIN:VCALENDAR
VERSION:2.0
PRODID:-//134.96.226.213//NONSGML kigkonsult.se iCalcreator 2.41.71//
CALSCALE:GREGORIAN
METHOD:PUBLISH
UID:33353239-3766-4233-b138-363236313234
X-WR-CALNAME:Compiler Construction Calendar
X-WR-CALDESC:Events of the lecture Compiler Construction
X-WR-TIMEZONE:Europe/Berlin
BEGIN:VEVENT
UID:65376666-3362-4436-a164-396363333161
DTSTAMP:20260420T041309Z
DESCRIPTION:
DTSTART;VALUE=DATE:20251023
DTEND;VALUE=DATE:20251110
SUMMARY:Solo Project: RegEx
END:VEVENT
BEGIN:VEVENT
UID:36373030-3436-4830-b232-356130396238
DTSTAMP:20260420T041309Z
DESCRIPTION:
DTSTART;VALUE=DATE:20251112
DTEND;VALUE=DATE:20251211
SUMMARY:Expression Parsing & Semantic Analysis
END:VEVENT
BEGIN:VEVENT
UID:37386339-3765-4362-b830-636261373137
DTSTAMP:20260420T041309Z
DESCRIPTION:
DTSTART;VALUE=DATE:20251211
DTEND;VALUE=DATE:20260108
SUMMARY:CodeGen
END:VEVENT
BEGIN:VEVENT
UID:62623932-3961-4337-b931-386238653163
DTSTAMP:20260420T041309Z
DESCRIPTION:
DTSTART;VALUE=DATE:20260108
DTEND;VALUE=DATE:20260122
SUMMARY:Programm Analysis
END:VEVENT
BEGIN:VEVENT
UID:62666661-6365-4534-a633-623462386130
DTSTAMP:20260420T041309Z
DESCRIPTION:
DTSTART;VALUE=DATE:20260122
DTEND;VALUE=DATE:20260207
SUMMARY:Optimization
END:VEVENT
END:VCALENDAR
