BEGIN:VCALENDAR
VERSION:2.0
PRODID:-//134.96.226.213//NONSGML kigkonsult.se iCalcreator 2.41.71//
CALSCALE:GREGORIAN
METHOD:PUBLISH
UID:35366232-3165-4436-a265-336564636164
X-WR-CALNAME:Compiler Construction Calendar
X-WR-CALDESC:Events of the lecture Compiler Construction
X-WR-TIMEZONE:Europe/Berlin
BEGIN:VEVENT
UID:62373238-6238-4034-a265-383561663836
DTSTAMP:20260420T053754Z
DESCRIPTION:
DTSTART:20260210T080000Z
DTEND:20260210T100000Z
LOCATION:E1.3 HS002
SUMMARY:Main Exam
END:VEVENT
BEGIN:VEVENT
UID:65313433-6531-4632-b736-663932613139
DTSTAMP:20260420T053754Z
DESCRIPTION:
DTSTART;VALUE=DATE:20260219
DTEND;VALUE=DATE:20260221
SUMMARY:Project Discussions
END:VEVENT
BEGIN:VEVENT
UID:37356362-6132-4633-a636-653365376236
DTSTAMP:20260420T053754Z
DESCRIPTION:
DTSTART;VALUE=DATE:20260223
DTEND;VALUE=DATE:20260225
SUMMARY:Project Discussions
END:VEVENT
BEGIN:VEVENT
UID:39353862-6566-4434-b264-326539316663
DTSTAMP:20260420T053754Z
DESCRIPTION:
DTSTART:20260316T080000Z
DTEND:20260316T100000Z
LOCATION:E1.3 HS002
SUMMARY:Re-Exam
END:VEVENT
END:VCALENDAR
