BEGIN:VCALENDAR
VERSION:2.0
PRODID:-//134.96.226.213//NONSGML kigkonsult.se iCalcreator 2.41.71//
CALSCALE:GREGORIAN
METHOD:PUBLISH
UID:61623530-3361-4335-b636-356434373933
X-WR-CALNAME:Compiler Construction Calendar
X-WR-CALDESC:Events of the lecture Compiler Construction
X-WR-TIMEZONE:Europe/Berlin
BEGIN:VEVENT
UID:62666334-6533-4332-b365-303036353038
DTSTAMP:20260420T053922Z
DESCRIPTION:
DTSTART;VALUE=DATE:20251222
DTEND;VALUE=DATE:20260103
SUMMARY:Cc2526: Winter Break
END:VEVENT
END:VCALENDAR
