BEGIN:VCALENDAR
VERSION:2.0
PRODID:-//134.96.226.213//NONSGML kigkonsult.se iCalcreator 2.41.71//
CALSCALE:GREGORIAN
METHOD:PUBLISH
UID:37393766-3236-4135-a637-326463646539
X-WR-CALNAME:Compiler Construction Calendar
X-WR-CALDESC:Events of the lecture Compiler Construction
X-WR-TIMEZONE:Europe/Berlin
BEGIN:VEVENT
UID:31366637-6231-4638-b762-343738383461
DTSTAMP:20260420T041146Z
DESCRIPTION:
DTSTART:20251027T090000Z
DTEND:20251027T110000Z
LOCATION:E1.1 2.06
SUMMARY:Tutorial 1
END:VEVENT
BEGIN:VEVENT
UID:38663866-6664-4430-b662-303438663266
DTSTAMP:20260420T041146Z
DESCRIPTION:
DTSTART:20251027T130000Z
DTEND:20251027T150000Z
LOCATION:E1.1 2.06
SUMMARY:Tutorial 2
END:VEVENT
BEGIN:VEVENT
UID:33373163-3364-4466-a231-363666323937
DTSTAMP:20260420T041146Z
DESCRIPTION:
DTSTART:20251103T090000Z
DTEND:20251103T110000Z
LOCATION:E1.1 2.06
SUMMARY:Tutorial 1
END:VEVENT
BEGIN:VEVENT
UID:39303863-3039-4634-b831-633265613938
DTSTAMP:20260420T041146Z
DESCRIPTION:
DTSTART:20251103T130000Z
DTEND:20251103T150000Z
LOCATION:E1.1 2.06
SUMMARY:Tutorial 2
END:VEVENT
BEGIN:VEVENT
UID:65613466-6434-4231-b966-636464633166
DTSTAMP:20260420T041146Z
DESCRIPTION:
DTSTART:20251104T090000Z
DTEND:20251104T103000Z
LOCATION:E1.3 4.01
SUMMARY:Office Hour - RegEx
END:VEVENT
BEGIN:VEVENT
UID:33386137-3164-4237-b433-623834333764
DTSTAMP:20260420T041146Z
DESCRIPTION:
DTSTART:20251110T090000Z
DTEND:20251110T110000Z
LOCATION:E1.1 2.06
SUMMARY:Tutorial 1
END:VEVENT
BEGIN:VEVENT
UID:31336634-3966-4533-b739-666430303066
DTSTAMP:20260420T041146Z
DESCRIPTION:
DTSTART:20251110T130000Z
DTEND:20251110T150000Z
LOCATION:E1.1 2.06
SUMMARY:Tutorial 2
END:VEVENT
BEGIN:VEVENT
UID:64333430-3462-4566-b565-653934663964
DTSTAMP:20260420T041146Z
DESCRIPTION:
DTSTART:20251117T090000Z
DTEND:20251117T110000Z
LOCATION:E1.1 2.06
SUMMARY:Tutorial 1
END:VEVENT
BEGIN:VEVENT
UID:61633137-3366-4562-a266-646161376632
DTSTAMP:20260420T041146Z
DESCRIPTION:
DTSTART:20251117T130000Z
DTEND:20251117T150000Z
LOCATION:E1.1 2.06
SUMMARY:Tutorial 2
END:VEVENT
BEGIN:VEVENT
UID:30396233-6366-4166-a238-303033646664
DTSTAMP:20260420T041146Z
DESCRIPTION:
DTSTART:20251124T090000Z
DTEND:20251124T110000Z
LOCATION:E1.1 2.06
SUMMARY:Tutorial 1
END:VEVENT
BEGIN:VEVENT
UID:33663136-6233-4763-b030-656433646637
DTSTAMP:20260420T041146Z
DESCRIPTION:
DTSTART:20251124T130000Z
DTEND:20251124T150000Z
LOCATION:E1.1 2.06
SUMMARY:Tutorial 2
END:VEVENT
BEGIN:VEVENT
UID:64656530-6639-4236-b130-656463316266
DTSTAMP:20260420T041146Z
DESCRIPTION:
DTSTART:20251201T090000Z
DTEND:20251201T110000Z
LOCATION:E1.1 2.06
SUMMARY:Tutorial 1
END:VEVENT
BEGIN:VEVENT
UID:34613061-3866-4537-b038-386630663734
DTSTAMP:20260420T041146Z
DESCRIPTION:
DTSTART:20251201T130000Z
DTEND:20251201T150000Z
LOCATION:E1.1 2.06
SUMMARY:Tutorial 2
END:VEVENT
BEGIN:VEVENT
UID:62373831-3232-4163-b761-383533356566
DTSTAMP:20260420T041146Z
DESCRIPTION:
DTSTART:20251208T090000Z
DTEND:20251208T110000Z
LOCATION:E1.1 2.06
SUMMARY:Tutorial 1
END:VEVENT
BEGIN:VEVENT
UID:34383433-3661-4562-a463-346636363561
DTSTAMP:20260420T041146Z
DESCRIPTION:
DTSTART:20251208T130000Z
DTEND:20251208T150000Z
LOCATION:E1.1 2.06
SUMMARY:Tutorial 2
END:VEVENT
BEGIN:VEVENT
UID:65383162-3234-4965-b733-656637653136
DTSTAMP:20260420T041146Z
DESCRIPTION:
DTSTART:20251209T090000Z
DTEND:20251209T103000Z
LOCATION:E1.3 4.01
SUMMARY:Office Hour - Expression Parsing & Semantic Analysis
END:VEVENT
BEGIN:VEVENT
UID:63613432-3532-4162-b331-303462633563
DTSTAMP:20260420T041146Z
DESCRIPTION:
DTSTART:20251215T090000Z
DTEND:20251215T110000Z
LOCATION:E1.1 2.06
SUMMARY:Tutorial 1
END:VEVENT
BEGIN:VEVENT
UID:63653462-3236-4939-b439-333831613038
DTSTAMP:20260420T041146Z
DESCRIPTION:
DTSTART:20251215T130000Z
DTEND:20251215T150000Z
LOCATION:E1.1 2.06
SUMMARY:Tutorial 2
END:VEVENT
BEGIN:VEVENT
UID:36653731-3662-4665-b831-393464333964
DTSTAMP:20260420T041146Z
DESCRIPTION:
DTSTART:20260105T090000Z
DTEND:20260105T110000Z
LOCATION:E1.1 2.06
SUMMARY:Tutorial 1
END:VEVENT
BEGIN:VEVENT
UID:31333134-6335-4133-b863-393661666465
DTSTAMP:20260420T041146Z
DESCRIPTION:
DTSTART:20260105T130000Z
DTEND:20260105T150000Z
LOCATION:E1.1 2.06
SUMMARY:Tutorial 2
END:VEVENT
BEGIN:VEVENT
UID:33316363-6237-4131-a463-646532373162
DTSTAMP:20260420T041146Z
DESCRIPTION:
DTSTART:20260113T090000Z
DTEND:20260113T103000Z
LOCATION:E1.3 4.01
SUMMARY:Office Hour - CodeGen & Program Analysis
END:VEVENT
BEGIN:VEVENT
UID:33623931-3961-4133-b136-363431346561
DTSTAMP:20260420T041146Z
DESCRIPTION:
DTSTART:20260119T090000Z
DTEND:20260119T110000Z
LOCATION:E1.1 2.06
SUMMARY:Tutorial 1
END:VEVENT
BEGIN:VEVENT
UID:31383332-3835-4734-a562-613834663337
DTSTAMP:20260420T041146Z
DESCRIPTION:
DTSTART:20260119T130000Z
DTEND:20260119T150000Z
LOCATION:E1.1 2.06
SUMMARY:Tutorial 2
END:VEVENT
BEGIN:VEVENT
UID:31623532-6231-4435-b131-306530613337
DTSTAMP:20260420T041146Z
DESCRIPTION:
DTSTART:20260126T090000Z
DTEND:20260126T110000Z
LOCATION:E1.1 2.06
SUMMARY:Tutorial 1
END:VEVENT
BEGIN:VEVENT
UID:65663838-3864-4336-b264-303463633938
DTSTAMP:20260420T041146Z
DESCRIPTION:
DTSTART:20260126T130000Z
DTEND:20260126T150000Z
LOCATION:E1.1 2.06
SUMMARY:Tutorial 2
END:VEVENT
BEGIN:VEVENT
UID:63623535-3735-4932-b466-353764376633
DTSTAMP:20260420T041146Z
DESCRIPTION:
DTSTART:20260202T090000Z
DTEND:20260202T110000Z
LOCATION:E1.1 2.06
SUMMARY:Tutorial 1
END:VEVENT
BEGIN:VEVENT
UID:39303065-3334-4033-b465-383165316333
DTSTAMP:20260420T041146Z
DESCRIPTION:
DTSTART:20260202T130000Z
DTEND:20260202T150000Z
LOCATION:E1.1 2.06
SUMMARY:Tutorial 2
END:VEVENT
BEGIN:VEVENT
UID:65333863-3732-4937-b932-323131633835
DTSTAMP:20260420T041146Z
DESCRIPTION:
DTSTART:20260203T090000Z
DTEND:20260203T103000Z
LOCATION:E1.3 4.01
SUMMARY:Office Hour - Optimization
END:VEVENT
END:VCALENDAR
