BEGIN:VCALENDAR
VERSION:2.0
PRODID:-//134.96.226.213//NONSGML kigkonsult.se iCalcreator 2.41.71//
CALSCALE:GREGORIAN
METHOD:PUBLISH
UID:64663733-3135-4738-a564-646436323133
X-WR-CALNAME:Compiler Construction Calendar
X-WR-CALDESC:Events of the lecture Compiler Construction
X-WR-TIMEZONE:Europe/Berlin
BEGIN:VEVENT
UID:34343933-3664-4339-b065-633136343230
DTSTAMP:20260420T041425Z
DESCRIPTION:
DTSTART:20251014T063000Z
DTEND:20251014T080000Z
LOCATION:HS 003 (E1.3)
SUMMARY:Lecture
END:VEVENT
BEGIN:VEVENT
UID:66663464-6666-4835-a130-323232653334
DTSTAMP:20260420T041425Z
DESCRIPTION:
DTSTART:20251016T101500Z
DTEND:20251016T114500Z
LOCATION:HS 003 (E1.3)
SUMMARY:Lecture
END:VEVENT
BEGIN:VEVENT
UID:33663234-6236-4338-b866-373538643536
DTSTAMP:20260420T041425Z
DESCRIPTION:
DTSTART:20251021T063000Z
DTEND:20251021T080000Z
LOCATION:HS 003 (E1.3)
SUMMARY:Lecture
END:VEVENT
BEGIN:VEVENT
UID:31336530-6437-4138-b961-343866303466
DTSTAMP:20260420T041425Z
DESCRIPTION:
DTSTART:20251023T101500Z
DTEND:20251023T114500Z
LOCATION:HS 003 (E1.3)
SUMMARY:Lecture
END:VEVENT
BEGIN:VEVENT
UID:64373831-6362-4435-a235-343561366439
DTSTAMP:20260420T041425Z
DESCRIPTION:
DTSTART:20251028T073000Z
DTEND:20251028T090000Z
LOCATION:HS 003 (E1.3)
SUMMARY:Lecture
END:VEVENT
BEGIN:VEVENT
UID:65323232-3661-4235-a263-653837303532
DTSTAMP:20260420T041425Z
DESCRIPTION:
DTSTART:20251030T111500Z
DTEND:20251030T124500Z
LOCATION:HS 003 (E1.3)
SUMMARY:Lecture
END:VEVENT
BEGIN:VEVENT
UID:30356235-3364-4533-b934-336237646137
DTSTAMP:20260420T041425Z
DESCRIPTION:
DTSTART:20251104T073000Z
DTEND:20251104T090000Z
LOCATION:HS 003 (E1.3)
SUMMARY:Lecture
END:VEVENT
BEGIN:VEVENT
UID:63623938-3537-4231-b432-353332623265
DTSTAMP:20260420T041425Z
DESCRIPTION:
DTSTART:20251106T111500Z
DTEND:20251106T124500Z
LOCATION:HS 003 (E1.3)
SUMMARY:Lecture
END:VEVENT
BEGIN:VEVENT
UID:30366439-3433-4738-b239-646533656263
DTSTAMP:20260420T041425Z
DESCRIPTION:
DTSTART:20251111T073000Z
DTEND:20251111T090000Z
LOCATION:HS 003 (E1.3)
SUMMARY:Lecture
END:VEVENT
BEGIN:VEVENT
UID:32626536-6366-4630-a462-313465663136
DTSTAMP:20260420T041425Z
DESCRIPTION:
DTSTART:20251113T111500Z
DTEND:20251113T124500Z
LOCATION:HS 003 (E1.3)
SUMMARY:Lecture
END:VEVENT
BEGIN:VEVENT
UID:34323131-3334-4165-b063-316561323866
DTSTAMP:20260420T041425Z
DESCRIPTION:
DTSTART:20251118T073000Z
DTEND:20251118T090000Z
LOCATION:HS 003 (E1.3)
SUMMARY:Lecture
END:VEVENT
BEGIN:VEVENT
UID:36333530-3464-4662-b066-323261326538
DTSTAMP:20260420T041425Z
DESCRIPTION:
DTSTART:20251120T111500Z
DTEND:20251120T124500Z
LOCATION:HS 003 (E1.3)
SUMMARY:Lecture
END:VEVENT
BEGIN:VEVENT
UID:38353465-6532-4631-b166-323261336261
DTSTAMP:20260420T041425Z
DESCRIPTION:
DTSTART:20251125T073000Z
DTEND:20251125T090000Z
LOCATION:HS 003 (E1.3)
SUMMARY:Lecture
END:VEVENT
BEGIN:VEVENT
UID:65623561-6163-4564-a665-333265663230
DTSTAMP:20260420T041425Z
DESCRIPTION:
DTSTART:20251127T111500Z
DTEND:20251127T124500Z
LOCATION:HS 003 (E1.3)
SUMMARY:Lecture
END:VEVENT
BEGIN:VEVENT
UID:62663262-6666-4136-b234-643036363831
DTSTAMP:20260420T041425Z
DESCRIPTION:
DTSTART:20251202T073000Z
DTEND:20251202T090000Z
LOCATION:HS 003 (E1.3)
SUMMARY:Lecture
END:VEVENT
BEGIN:VEVENT
UID:61646238-3461-4435-b066-643663383832
DTSTAMP:20260420T041425Z
DESCRIPTION:
DTSTART:20251204T111500Z
DTEND:20251204T124500Z
LOCATION:HS 003 (E1.3)
SUMMARY:Lecture
END:VEVENT
BEGIN:VEVENT
UID:61316564-6265-4165-a262-643130623261
DTSTAMP:20260420T041425Z
DESCRIPTION:
DTSTART:20251209T073000Z
DTEND:20251209T090000Z
LOCATION:HS 003 (E1.3)
SUMMARY:Lecture
END:VEVENT
BEGIN:VEVENT
UID:30666630-6438-4133-a135-663236373430
DTSTAMP:20260420T041425Z
DESCRIPTION:
DTSTART:20251211T111500Z
DTEND:20251211T124500Z
LOCATION:HS 003 (E1.3)
SUMMARY:Lecture
END:VEVENT
BEGIN:VEVENT
UID:36653236-6465-4439-b838-613737323965
DTSTAMP:20260420T041425Z
DESCRIPTION:
DTSTART:20251218T111500Z
DTEND:20251218T124500Z
LOCATION:HS 003 (E1.3)
SUMMARY:Lecture
END:VEVENT
BEGIN:VEVENT
UID:61353866-3139-4631-b766-346361623739
DTSTAMP:20260420T041425Z
DESCRIPTION:
DTSTART:20260113T073000Z
DTEND:20260113T090000Z
LOCATION:HS 003 (E1.3)
SUMMARY:Lecture
END:VEVENT
BEGIN:VEVENT
UID:64646433-3561-4834-a433-346339636563
DTSTAMP:20260420T041425Z
DESCRIPTION:
DTSTART:20260115T111500Z
DTEND:20260115T124500Z
LOCATION:HS 003 (E1.3)
SUMMARY:Lecture
END:VEVENT
BEGIN:VEVENT
UID:38343263-3432-4139-b562-633462326438
DTSTAMP:20260420T041425Z
DESCRIPTION:
DTSTART:20260120T073000Z
DTEND:20260120T090000Z
LOCATION:HS 003 (E1.3)
SUMMARY:Lecture
END:VEVENT
BEGIN:VEVENT
UID:36633631-6338-4633-b732-636166363838
DTSTAMP:20260420T041425Z
DESCRIPTION:
DTSTART:20260122T111500Z
DTEND:20260122T124500Z
LOCATION:HS 003 (E1.3)
SUMMARY:Lecture
END:VEVENT
BEGIN:VEVENT
UID:35356431-3064-4262-b238-366432356131
DTSTAMP:20260420T041425Z
DESCRIPTION:
DTSTART:20260127T073000Z
DTEND:20260127T090000Z
LOCATION:HS 003 (E1.3)
SUMMARY:Lecture
END:VEVENT
BEGIN:VEVENT
UID:30333465-6436-4132-b034-303364646431
DTSTAMP:20260420T041425Z
DESCRIPTION:
DTSTART:20260205T111500Z
DTEND:20260205T124500Z
LOCATION:HS 003 (E1.3)
SUMMARY:Lecture
END:VEVENT
BEGIN:VEVENT
UID:66336563-6235-4735-a366-346636626261
DTSTAMP:20260420T041425Z
DESCRIPTION:
DTSTART:20260226T130000Z
DTEND:20260226T133000Z
LOCATION:E1.3 4.01 / Teams
SUMMARY:Project Competition Presentation
END:VEVENT
END:VCALENDAR
