BEGIN:VCALENDAR
VERSION:2.0
PRODID:-//134.96.226.213//NONSGML kigkonsult.se iCalcreator 2.41.92//
CALSCALE:GREGORIAN
METHOD:PUBLISH
UID:36656463-6665-4932-a534-383766653666
X-WR-CALNAME:Analysis 1 Calendar
X-WR-CALDESC:Termine der Vorlesung Analysis 1
X-WR-TIMEZONE:Europe/Berlin
BEGIN:VEVENT
UID:62663239-3631-4165-b062-623061333930
DTSTAMP:20260425T154039Z
DESCRIPTION:
DTSTART:20251015T081500Z
DTEND:20251015T100000Z
LOCATION:HS I\, E2.5
SUMMARY:Ana1: Vorlesung
END:VEVENT
BEGIN:VEVENT
UID:37643330-3538-4832-a665-316265356236
DTSTAMP:20260425T154039Z
DESCRIPTION:
DTSTART:20251020T081500Z
DTEND:20251020T100000Z
LOCATION:HS I\, E2.5
SUMMARY:Ana1: Vorlesung
END:VEVENT
BEGIN:VEVENT
UID:64656466-6334-4863-b862-393662623339
DTSTAMP:20260425T154039Z
DESCRIPTION:
DTSTART:20251020T120000Z
DTEND:20251020T140000Z
LOCATION:SR 1
SUMMARY:Ana1: Tutorium 1
END:VEVENT
BEGIN:VEVENT
UID:65366332-3731-4139-b230-306162343135
DTSTAMP:20260425T154039Z
DESCRIPTION:
DTSTART:20251020T140000Z
DTEND:20251020T160000Z
LOCATION:SR 10
SUMMARY:Ana1: Tutorium 2
END:VEVENT
BEGIN:VEVENT
UID:63356533-3035-4763-b930-373431336131
DTSTAMP:20260425T154039Z
DESCRIPTION:
DTSTART:20251021T120000Z
DTEND:20251021T140000Z
LOCATION:SR 10
SUMMARY:Ana1: Tutorium 3
END:VEVENT
BEGIN:VEVENT
UID:33326131-6366-4936-b839-333738373364
DTSTAMP:20260425T154039Z
DESCRIPTION:
DTSTART:20251021T140000Z
DTEND:20251021T160000Z
LOCATION:SR 10
SUMMARY:Ana1: Tutorium 4
END:VEVENT
BEGIN:VEVENT
UID:39393933-3236-4362-a534-633239333139
DTSTAMP:20260425T154039Z
DESCRIPTION:
DTSTART:20251022T060000Z
DTEND:20251022T080000Z
LOCATION:Zeichensaal
SUMMARY:Ana1: Tutorium 5
END:VEVENT
BEGIN:VEVENT
UID:37613736-6439-4238-b838-356538396565
DTSTAMP:20260425T154039Z
DESCRIPTION:
DTSTART:20251022T081500Z
DTEND:20251022T100000Z
LOCATION:HS I\, E2.5
SUMMARY:Ana1: Vorlesung
END:VEVENT
BEGIN:VEVENT
UID:31323365-6366-4663-b261-666137666535
DTSTAMP:20260425T154039Z
DESCRIPTION:
DTSTART:20251022T140000Z
DTEND:20251022T160000Z
LOCATION:SR 6
SUMMARY:Ana1: Tutorium 6
END:VEVENT
BEGIN:VEVENT
UID:32303563-6436-4364-b135-373630346235
DTSTAMP:20260425T154039Z
DESCRIPTION:
DTSTART:20251027T091500Z
DTEND:20251027T110000Z
LOCATION:HS I\, E2.5
SUMMARY:Ana1: Vorlesung
END:VEVENT
BEGIN:VEVENT
UID:34393666-3865-4338-b738-653634643038
DTSTAMP:20260425T154039Z
DESCRIPTION:
DTSTART:20251027T130000Z
DTEND:20251027T150000Z
LOCATION:SR 1
SUMMARY:Ana1: Tutorium 1
END:VEVENT
BEGIN:VEVENT
UID:38336632-3330-4833-b338-316336326466
DTSTAMP:20260425T154039Z
DESCRIPTION:
DTSTART:20251027T150000Z
DTEND:20251027T170000Z
LOCATION:SR 10
SUMMARY:Ana1: Tutorium 2
END:VEVENT
BEGIN:VEVENT
UID:36333061-6638-4637-b139-333132366536
DTSTAMP:20260425T154039Z
DESCRIPTION:
DTSTART:20251028T130000Z
DTEND:20251028T150000Z
LOCATION:SR 10
SUMMARY:Ana1: Tutorium 3
END:VEVENT
BEGIN:VEVENT
UID:32306132-3761-4835-b866-373565643634
DTSTAMP:20260425T154039Z
DESCRIPTION:
DTSTART:20251028T150000Z
DTEND:20251028T170000Z
LOCATION:SR 10
SUMMARY:Ana1: Tutorium 4
END:VEVENT
BEGIN:VEVENT
UID:37306539-3732-4333-b938-386633313737
DTSTAMP:20260425T154039Z
DESCRIPTION:
DTSTART:20251029T070000Z
DTEND:20251029T090000Z
LOCATION:Zeichensaal
SUMMARY:Ana1: Tutorium 5
END:VEVENT
BEGIN:VEVENT
UID:36363836-3735-4266-b661-383364356630
DTSTAMP:20260425T154039Z
DESCRIPTION:
DTSTART:20251029T091500Z
DTEND:20251029T110000Z
LOCATION:HS I\, E2.5
SUMMARY:Ana1: Vorlesung
END:VEVENT
BEGIN:VEVENT
UID:35303738-3461-4364-a264-373163663863
DTSTAMP:20260425T154039Z
DESCRIPTION:
DTSTART:20251029T131500Z
DTEND:20251029T150000Z
LOCATION:HS I\, E2.5
SUMMARY:Ana1: Hörsaalübung
END:VEVENT
BEGIN:VEVENT
UID:30383734-3135-4930-b839-623636396564
DTSTAMP:20260425T154039Z
DESCRIPTION:
DTSTART:20251029T150000Z
DTEND:20251029T170000Z
LOCATION:SR 6
SUMMARY:Ana1: Tutorium 6
END:VEVENT
BEGIN:VEVENT
UID:31363561-3333-4662-b633-366137373366
DTSTAMP:20260425T154039Z
DESCRIPTION:
DTSTART:20251103T091500Z
DTEND:20251103T110000Z
LOCATION:HS I\, E2.5
SUMMARY:Ana1: Vorlesung
END:VEVENT
BEGIN:VEVENT
UID:63326630-3530-4438-b263-353432373864
DTSTAMP:20260425T154039Z
DESCRIPTION:
DTSTART:20251103T130000Z
DTEND:20251103T150000Z
LOCATION:SR 1
SUMMARY:Ana1: Tutorium 1
END:VEVENT
BEGIN:VEVENT
UID:65656230-3838-4130-b533-333039343165
DTSTAMP:20260425T154039Z
DESCRIPTION:
DTSTART:20251103T150000Z
DTEND:20251103T170000Z
LOCATION:SR 10
SUMMARY:Ana1: Tutorium 2
END:VEVENT
BEGIN:VEVENT
UID:62636562-3132-4032-b432-343464353336
DTSTAMP:20260425T154039Z
DESCRIPTION:
DTSTART:20251104T130000Z
DTEND:20251104T150000Z
LOCATION:SR 10
SUMMARY:Ana1: Tutorium 3
END:VEVENT
BEGIN:VEVENT
UID:31363430-6434-4336-a663-626432356635
DTSTAMP:20260425T154039Z
DESCRIPTION:
DTSTART:20251104T150000Z
DTEND:20251104T170000Z
LOCATION:SR 10
SUMMARY:Ana1: Tutorium 4
END:VEVENT
BEGIN:VEVENT
UID:31353036-3761-4337-b162-396137616335
DTSTAMP:20260425T154039Z
DESCRIPTION:
DTSTART:20251105T070000Z
DTEND:20251105T090000Z
LOCATION:Zeichensaal
SUMMARY:Ana1: Tutorium 5
END:VEVENT
BEGIN:VEVENT
UID:39613137-3666-4463-b430-363961383463
DTSTAMP:20260425T154039Z
DESCRIPTION:
DTSTART:20251105T091500Z
DTEND:20251105T110000Z
LOCATION:HS I\, E2.5
SUMMARY:Ana1: Vorlesung
END:VEVENT
BEGIN:VEVENT
UID:38613961-3030-4162-b163-653436386239
DTSTAMP:20260425T154039Z
DESCRIPTION:
DTSTART:20251105T131500Z
DTEND:20251105T150000Z
LOCATION:HS I\, E2.5
SUMMARY:Ana1: Hörsaalübung
END:VEVENT
BEGIN:VEVENT
UID:38613537-6531-4539-b162-383166333232
DTSTAMP:20260425T154039Z
DESCRIPTION:
DTSTART:20251105T150000Z
DTEND:20251105T170000Z
LOCATION:SR 6
SUMMARY:Ana1: Tutorium 6
END:VEVENT
BEGIN:VEVENT
UID:61666637-6264-4264-a431-653665313631
DTSTAMP:20260425T154039Z
DESCRIPTION:
DTSTART:20251110T091500Z
DTEND:20251110T110000Z
LOCATION:HS I\, E2.5
SUMMARY:Ana1: Vorlesung
END:VEVENT
BEGIN:VEVENT
UID:65653532-3533-4632-a634-383062656161
DTSTAMP:20260425T154039Z
DESCRIPTION:
DTSTART:20251110T130000Z
DTEND:20251110T150000Z
LOCATION:SR 1
SUMMARY:Ana1: Tutorium 1
END:VEVENT
BEGIN:VEVENT
UID:34356437-6564-4434-a662-333864623433
DTSTAMP:20260425T154039Z
DESCRIPTION:
DTSTART:20251110T150000Z
DTEND:20251110T170000Z
LOCATION:SR 10
SUMMARY:Ana1: Tutorium 2
END:VEVENT
BEGIN:VEVENT
UID:35613338-3635-4538-b561-396365613864
DTSTAMP:20260425T154039Z
DESCRIPTION:
DTSTART:20251111T130000Z
DTEND:20251111T150000Z
LOCATION:SR 10
SUMMARY:Ana1: Tutorium 3
END:VEVENT
BEGIN:VEVENT
UID:37396466-6434-4264-b163-353636383336
DTSTAMP:20260425T154039Z
DESCRIPTION:
DTSTART:20251111T150000Z
DTEND:20251111T170000Z
LOCATION:SR 10
SUMMARY:Ana1: Tutorium 4
END:VEVENT
BEGIN:VEVENT
UID:35303165-6333-4366-a638-616434323039
DTSTAMP:20260425T154039Z
DESCRIPTION:
DTSTART:20251112T070000Z
DTEND:20251112T090000Z
LOCATION:Zeichensaal
SUMMARY:Ana1: Tutorium 5
END:VEVENT
BEGIN:VEVENT
UID:36653863-3738-4166-a138-623939366561
DTSTAMP:20260425T154039Z
DESCRIPTION:
DTSTART:20251112T091500Z
DTEND:20251112T110000Z
LOCATION:HS I\, E2.5
SUMMARY:Ana1: Vorlesung
END:VEVENT
BEGIN:VEVENT
UID:32363631-6138-4832-b734-376339643035
DTSTAMP:20260425T154039Z
DESCRIPTION:
DTSTART:20251112T131500Z
DTEND:20251112T150000Z
LOCATION:HS I\, E2.5
SUMMARY:Ana1: Hörsaalübung
END:VEVENT
BEGIN:VEVENT
UID:62383837-3538-4065-a234-336131386339
DTSTAMP:20260425T154039Z
DESCRIPTION:
DTSTART:20251112T150000Z
DTEND:20251112T170000Z
LOCATION:SR 6
SUMMARY:Ana1: Tutorium 6
END:VEVENT
BEGIN:VEVENT
UID:33613366-6562-4537-b835-303832373839
DTSTAMP:20260425T154039Z
DESCRIPTION:
DTSTART:20251117T091500Z
DTEND:20251117T110000Z
LOCATION:HS I\, E2.5
SUMMARY:Ana1: Vorlesung
END:VEVENT
BEGIN:VEVENT
UID:61303363-3363-4865-b333-333666333238
DTSTAMP:20260425T154039Z
DESCRIPTION:
DTSTART:20251117T130000Z
DTEND:20251117T150000Z
LOCATION:SR 1
SUMMARY:Ana1: Tutorium 1
END:VEVENT
BEGIN:VEVENT
UID:62633530-3862-4561-a434-386162376639
DTSTAMP:20260425T154039Z
DESCRIPTION:
DTSTART:20251117T150000Z
DTEND:20251117T170000Z
LOCATION:SR 10
SUMMARY:Ana1: Tutorium 2
END:VEVENT
BEGIN:VEVENT
UID:35323531-3762-4833-a162-363635363064
DTSTAMP:20260425T154039Z
DESCRIPTION:
DTSTART:20251118T130000Z
DTEND:20251118T150000Z
LOCATION:SR 10
SUMMARY:Ana1: Tutorium 3
END:VEVENT
BEGIN:VEVENT
UID:64366336-3436-4536-a334-663136656238
DTSTAMP:20260425T154039Z
DESCRIPTION:
DTSTART:20251118T150000Z
DTEND:20251118T170000Z
LOCATION:SR 10
SUMMARY:Ana1: Tutorium 4
END:VEVENT
BEGIN:VEVENT
UID:66666235-3965-4066-b736-666431616662
DTSTAMP:20260425T154039Z
DESCRIPTION:
DTSTART:20251119T070000Z
DTEND:20251119T090000Z
LOCATION:Zeichensaal
SUMMARY:Ana1: Tutorium 5
END:VEVENT
BEGIN:VEVENT
UID:65323664-3833-4035-a265-326661666536
DTSTAMP:20260425T154039Z
DESCRIPTION:
DTSTART:20251119T091500Z
DTEND:20251119T110000Z
LOCATION:HS I\, E2.5
SUMMARY:Ana1: Vorlesung
END:VEVENT
BEGIN:VEVENT
UID:61343239-3936-4630-b632-343039346266
DTSTAMP:20260425T154039Z
DESCRIPTION:
DTSTART:20251119T131500Z
DTEND:20251119T150000Z
LOCATION:HS I\, E2.5
SUMMARY:Ana1: Hörsaalübung
END:VEVENT
BEGIN:VEVENT
UID:62653834-3632-4436-b337-393832666637
DTSTAMP:20260425T154039Z
DESCRIPTION:
DTSTART:20251119T150000Z
DTEND:20251119T170000Z
LOCATION:SR 6
SUMMARY:Ana1: Tutorium 6
END:VEVENT
BEGIN:VEVENT
UID:35393031-3735-4136-b830-303338393536
DTSTAMP:20260425T154039Z
DESCRIPTION:
DTSTART:20251124T091500Z
DTEND:20251124T110000Z
LOCATION:HS I\, E2.5
SUMMARY:Ana1: Vorlesung
END:VEVENT
BEGIN:VEVENT
UID:36386561-3262-4565-b439-376638393762
DTSTAMP:20260425T154039Z
DESCRIPTION:
DTSTART:20251124T130000Z
DTEND:20251124T150000Z
LOCATION:SR 1
SUMMARY:Ana1: Tutorium 1
END:VEVENT
BEGIN:VEVENT
UID:33643638-3037-4365-b362-356234383436
DTSTAMP:20260425T154039Z
DESCRIPTION:
DTSTART:20251124T150000Z
DTEND:20251124T170000Z
LOCATION:SR 10
SUMMARY:Ana1: Tutorium 2
END:VEVENT
BEGIN:VEVENT
UID:36646263-3364-4466-a639-623166653731
DTSTAMP:20260425T154039Z
DESCRIPTION:
DTSTART:20251125T130000Z
DTEND:20251125T150000Z
LOCATION:SR 10
SUMMARY:Ana1: Tutorium 3
END:VEVENT
BEGIN:VEVENT
UID:38376533-3637-4630-b939-356338376234
DTSTAMP:20260425T154039Z
DESCRIPTION:
DTSTART:20251125T150000Z
DTEND:20251125T170000Z
LOCATION:SR 10
SUMMARY:Ana1: Tutorium 4
END:VEVENT
BEGIN:VEVENT
UID:61376366-6633-4739-a662-386634643736
DTSTAMP:20260425T154039Z
DESCRIPTION:
DTSTART:20251126T070000Z
DTEND:20251126T090000Z
LOCATION:Zeichensaal
SUMMARY:Ana1: Tutorium 5
END:VEVENT
BEGIN:VEVENT
UID:37373263-3165-4431-a234-383666316461
DTSTAMP:20260425T154039Z
DESCRIPTION:
DTSTART:20251126T091500Z
DTEND:20251126T110000Z
LOCATION:HS I\, E2.5
SUMMARY:Ana1: Vorlesung
END:VEVENT
BEGIN:VEVENT
UID:35613561-3634-4530-a432-643033613938
DTSTAMP:20260425T154039Z
DESCRIPTION:
DTSTART:20251126T131500Z
DTEND:20251126T150000Z
LOCATION:HS I\, E2.5
SUMMARY:Ana1: Hörsaalübung
END:VEVENT
BEGIN:VEVENT
UID:37303532-6139-4330-b462-643663336662
DTSTAMP:20260425T154039Z
DESCRIPTION:
DTSTART:20251126T150000Z
DTEND:20251126T170000Z
LOCATION:SR 6
SUMMARY:Ana1: Tutorium 6
END:VEVENT
BEGIN:VEVENT
UID:62366339-3130-4364-b232-663562666232
DTSTAMP:20260425T154039Z
DESCRIPTION:
DTSTART:20251201T091500Z
DTEND:20251201T110000Z
LOCATION:HS I\, E2.5
SUMMARY:Ana1: Vorlesung
END:VEVENT
BEGIN:VEVENT
UID:37363236-6566-4262-b336-336165613264
DTSTAMP:20260425T154039Z
DESCRIPTION:
DTSTART:20251201T130000Z
DTEND:20251201T150000Z
LOCATION:SR 1
SUMMARY:Ana1: Tutorium 1
END:VEVENT
BEGIN:VEVENT
UID:32363236-3938-4433-a438-643435663237
DTSTAMP:20260425T154039Z
DESCRIPTION:
DTSTART:20251201T150000Z
DTEND:20251201T170000Z
LOCATION:SR 10
SUMMARY:Ana1: Tutorium 2
END:VEVENT
BEGIN:VEVENT
UID:39363932-3338-4336-a565-306565633462
DTSTAMP:20260425T154039Z
DESCRIPTION:
DTSTART:20251202T130000Z
DTEND:20251202T150000Z
LOCATION:SR 10
SUMMARY:Ana1: Tutorium 3
END:VEVENT
BEGIN:VEVENT
UID:32646137-3633-4364-b730-363538313162
DTSTAMP:20260425T154039Z
DESCRIPTION:
DTSTART:20251202T150000Z
DTEND:20251202T170000Z
LOCATION:SR 10
SUMMARY:Ana1: Tutorium 4
END:VEVENT
BEGIN:VEVENT
UID:30383736-3863-4564-b737-663165616133
DTSTAMP:20260425T154039Z
DESCRIPTION:
DTSTART:20251203T070000Z
DTEND:20251203T090000Z
LOCATION:Zeichensaal
SUMMARY:Ana1: Tutorium 5
END:VEVENT
BEGIN:VEVENT
UID:65656239-3263-4432-b236-613265373362
DTSTAMP:20260425T154039Z
DESCRIPTION:
DTSTART:20251203T091500Z
DTEND:20251203T110000Z
LOCATION:HS I\, E2.5
SUMMARY:Ana1: Vorlesung
END:VEVENT
BEGIN:VEVENT
UID:36303136-6438-4662-b538-303037323737
DTSTAMP:20260425T154039Z
DESCRIPTION:
DTSTART:20251203T131500Z
DTEND:20251203T150000Z
LOCATION:HS I\, E2.5
SUMMARY:Ana1: Hörsaalübung
END:VEVENT
BEGIN:VEVENT
UID:31653936-3236-4735-b064-623737333862
DTSTAMP:20260425T154039Z
DESCRIPTION:
DTSTART:20251203T150000Z
DTEND:20251203T170000Z
LOCATION:SR 6
SUMMARY:Ana1: Tutorium 6
END:VEVENT
BEGIN:VEVENT
UID:34613833-3239-4430-b334-663134316362
DTSTAMP:20260425T154039Z
DESCRIPTION:
DTSTART:20251208T091500Z
DTEND:20251208T110000Z
LOCATION:HS I\, E2.5
SUMMARY:Ana1: Vorlesung
END:VEVENT
BEGIN:VEVENT
UID:61663735-6465-4464-b466-353765313233
DTSTAMP:20260425T154039Z
DESCRIPTION:
DTSTART:20251208T130000Z
DTEND:20251208T150000Z
LOCATION:SR 1
SUMMARY:Ana1: Tutorium 1
END:VEVENT
BEGIN:VEVENT
UID:37393434-3364-4631-b537-656464633762
DTSTAMP:20260425T154039Z
DESCRIPTION:
DTSTART:20251208T150000Z
DTEND:20251208T170000Z
LOCATION:SR 10
SUMMARY:Ana1: Tutorium 2
END:VEVENT
BEGIN:VEVENT
UID:35373261-6332-4439-a633-386165623533
DTSTAMP:20260425T154039Z
DESCRIPTION:
DTSTART:20251209T130000Z
DTEND:20251209T150000Z
LOCATION:SR 10
SUMMARY:Ana1: Tutorium 3
END:VEVENT
BEGIN:VEVENT
UID:36653066-3630-4663-b532-323735316461
DTSTAMP:20260425T154039Z
DESCRIPTION:
DTSTART:20251209T150000Z
DTEND:20251209T170000Z
LOCATION:SR 10
SUMMARY:Ana1: Tutorium 4
END:VEVENT
BEGIN:VEVENT
UID:30353735-3265-4130-b038-616139323634
DTSTAMP:20260425T154039Z
DESCRIPTION:
DTSTART:20251210T070000Z
DTEND:20251210T090000Z
LOCATION:Zeichensaal
SUMMARY:Ana1: Tutorium 5
END:VEVENT
BEGIN:VEVENT
UID:64663563-6633-4461-a363-306535623839
DTSTAMP:20260425T154039Z
DESCRIPTION:
DTSTART:20251210T091500Z
DTEND:20251210T110000Z
LOCATION:HS I\, E2.5
SUMMARY:Ana1: Vorlesung
END:VEVENT
BEGIN:VEVENT
UID:35326264-3164-4331-a164-343037383133
DTSTAMP:20260425T154039Z
DESCRIPTION:
DTSTART:20251210T131500Z
DTEND:20251210T150000Z
LOCATION:HS I\, E2.5
SUMMARY:Ana1: Hörsaalübung
END:VEVENT
BEGIN:VEVENT
UID:63336339-6234-4161-a330-393163656430
DTSTAMP:20260425T154039Z
DESCRIPTION:
DTSTART:20251210T150000Z
DTEND:20251210T170000Z
LOCATION:SR 6
SUMMARY:Ana1: Tutorium 6
END:VEVENT
BEGIN:VEVENT
UID:63613937-6462-4833-a532-386236303363
DTSTAMP:20260425T154039Z
DESCRIPTION:
DTSTART:20251215T091500Z
DTEND:20251215T110000Z
LOCATION:HS I\, E2.5
SUMMARY:Ana1: Vorlesung
END:VEVENT
BEGIN:VEVENT
UID:65313439-6237-4531-a563-336637353332
DTSTAMP:20260425T154039Z
DESCRIPTION:
DTSTART:20251215T130000Z
DTEND:20251215T150000Z
LOCATION:SR 1
SUMMARY:Ana1: Tutorium 1
END:VEVENT
BEGIN:VEVENT
UID:31656465-3137-4230-b435-626663303637
DTSTAMP:20260425T154039Z
DESCRIPTION:
DTSTART:20251215T150000Z
DTEND:20251215T170000Z
LOCATION:SR 10
SUMMARY:Ana1: Tutorium 2
END:VEVENT
BEGIN:VEVENT
UID:35643436-3937-4530-a634-323730333738
DTSTAMP:20260425T154039Z
DESCRIPTION:
DTSTART:20251216T130000Z
DTEND:20251216T150000Z
LOCATION:SR 10
SUMMARY:Ana1: Tutorium 3
END:VEVENT
BEGIN:VEVENT
UID:66626266-3737-4230-b837-396238313432
DTSTAMP:20260425T154039Z
DESCRIPTION:
DTSTART:20251216T150000Z
DTEND:20251216T170000Z
LOCATION:SR 10
SUMMARY:Ana1: Tutorium 4
END:VEVENT
BEGIN:VEVENT
UID:33326163-3634-4264-b336-636137333334
DTSTAMP:20260425T154039Z
DESCRIPTION:
DTSTART:20251217T070000Z
DTEND:20251217T090000Z
LOCATION:Zeichensaal
SUMMARY:Ana1: Tutorium 5
END:VEVENT
BEGIN:VEVENT
UID:37656537-3233-4262-b463-666365383366
DTSTAMP:20260425T154039Z
DESCRIPTION:
DTSTART:20251217T091500Z
DTEND:20251217T110000Z
LOCATION:HS I\, E2.5
SUMMARY:Ana1: Vorlesung
END:VEVENT
BEGIN:VEVENT
UID:64613030-6137-4139-b163-336463353965
DTSTAMP:20260425T154039Z
DESCRIPTION:
DTSTART:20251217T131500Z
DTEND:20251217T150000Z
LOCATION:HS I\, E2.5
SUMMARY:Ana1: Hörsaalübung
END:VEVENT
BEGIN:VEVENT
UID:62656233-3361-4832-a136-653637313363
DTSTAMP:20260425T154039Z
DESCRIPTION:
DTSTART:20251217T150000Z
DTEND:20251217T170000Z
LOCATION:SR 6
SUMMARY:Ana1: Tutorium 6
END:VEVENT
BEGIN:VEVENT
UID:65373539-6564-4133-b733-643134393765
DTSTAMP:20260425T154039Z
DESCRIPTION:
DTSTART:20260105T091500Z
DTEND:20260105T110000Z
LOCATION:HS I\, E2.5
SUMMARY:Ana1: Vorlesung
END:VEVENT
BEGIN:VEVENT
UID:66656232-6665-4661-a532-643531626532
DTSTAMP:20260425T154039Z
DESCRIPTION:
DTSTART:20260105T130000Z
DTEND:20260105T150000Z
LOCATION:SR 1
SUMMARY:Ana1: Tutorium 1
END:VEVENT
BEGIN:VEVENT
UID:65323136-6362-4336-b133-326363613334
DTSTAMP:20260425T154039Z
DESCRIPTION:
DTSTART:20260105T150000Z
DTEND:20260105T170000Z
LOCATION:SR 10
SUMMARY:Ana1: Tutorium 2
END:VEVENT
BEGIN:VEVENT
UID:39373461-6434-4231-a133-643933333662
DTSTAMP:20260425T154039Z
DESCRIPTION:
DTSTART:20260106T130000Z
DTEND:20260106T150000Z
LOCATION:SR 10
SUMMARY:Ana1: Tutorium 3
END:VEVENT
BEGIN:VEVENT
UID:64376565-3763-4263-a463-303936623664
DTSTAMP:20260425T154039Z
DESCRIPTION:
DTSTART:20260106T150000Z
DTEND:20260106T170000Z
LOCATION:SR 10
SUMMARY:Ana1: Tutorium 4
END:VEVENT
BEGIN:VEVENT
UID:31653464-3634-4763-b133-353865373736
DTSTAMP:20260425T154039Z
DESCRIPTION:
DTSTART:20260107T070000Z
DTEND:20260107T090000Z
LOCATION:Zeichensaal
SUMMARY:Ana1: Tutorium 5
END:VEVENT
BEGIN:VEVENT
UID:39626663-3533-4539-b133-313461623237
DTSTAMP:20260425T154039Z
DESCRIPTION:
DTSTART:20260107T091500Z
DTEND:20260107T110000Z
LOCATION:HS I\, E2.5
SUMMARY:Ana1: Vorlesung
END:VEVENT
BEGIN:VEVENT
UID:66373032-3138-4361-b630-643237646232
DTSTAMP:20260425T154039Z
DESCRIPTION:
DTSTART:20260107T131500Z
DTEND:20260107T150000Z
LOCATION:HS I\, E2.5
SUMMARY:Ana1: Hörsaalübung
END:VEVENT
BEGIN:VEVENT
UID:39336662-3763-4831-a339-363032616564
DTSTAMP:20260425T154039Z
DESCRIPTION:
DTSTART:20260107T150000Z
DTEND:20260107T170000Z
LOCATION:SR 6
SUMMARY:Ana1: Tutorium 6
END:VEVENT
BEGIN:VEVENT
UID:31303738-3364-4265-b862-353337666639
DTSTAMP:20260425T154039Z
DESCRIPTION:
DTSTART:20260112T091500Z
DTEND:20260112T110000Z
LOCATION:HS I\, E2.5
SUMMARY:Ana1: Vorlesung
END:VEVENT
BEGIN:VEVENT
UID:34356263-3437-4165-b265-636430343438
DTSTAMP:20260425T154039Z
DESCRIPTION:
DTSTART:20260112T130000Z
DTEND:20260112T150000Z
LOCATION:SR 1
SUMMARY:Ana1: Tutorium 1
END:VEVENT
BEGIN:VEVENT
UID:63633431-3162-4433-b266-383135393333
DTSTAMP:20260425T154039Z
DESCRIPTION:
DTSTART:20260112T150000Z
DTEND:20260112T170000Z
LOCATION:SR 10
SUMMARY:Ana1: Tutorium 2
END:VEVENT
BEGIN:VEVENT
UID:39366631-6564-4736-a362-643035316632
DTSTAMP:20260425T154039Z
DESCRIPTION:
DTSTART:20260113T130000Z
DTEND:20260113T150000Z
LOCATION:SR 10
SUMMARY:Ana1: Tutorium 3
END:VEVENT
BEGIN:VEVENT
UID:32353735-3036-4439-a137-376436306661
DTSTAMP:20260425T154039Z
DESCRIPTION:
DTSTART:20260113T150000Z
DTEND:20260113T170000Z
LOCATION:SR 10
SUMMARY:Ana1: Tutorium 4
END:VEVENT
BEGIN:VEVENT
UID:36636335-3862-4130-b536-396565353634
DTSTAMP:20260425T154039Z
DESCRIPTION:
DTSTART:20260114T070000Z
DTEND:20260114T090000Z
LOCATION:Zeichensaal
SUMMARY:Ana1: Tutorium 5
END:VEVENT
BEGIN:VEVENT
UID:64386231-3530-4564-b663-333738383434
DTSTAMP:20260425T154039Z
DESCRIPTION:
DTSTART:20260114T091500Z
DTEND:20260114T110000Z
LOCATION:HS I\, E2.5
SUMMARY:Ana1: Vorlesung
END:VEVENT
BEGIN:VEVENT
UID:31616139-6265-4566-a364-353233646135
DTSTAMP:20260425T154039Z
DESCRIPTION:
DTSTART:20260114T131500Z
DTEND:20260114T150000Z
LOCATION:HS I\, E2.5
SUMMARY:Ana1: Hörsaalübung
END:VEVENT
BEGIN:VEVENT
UID:30626666-3365-4435-b435-663839646635
DTSTAMP:20260425T154039Z
DESCRIPTION:
DTSTART:20260114T150000Z
DTEND:20260114T170000Z
LOCATION:SR 6
SUMMARY:Ana1: Tutorium 6
END:VEVENT
BEGIN:VEVENT
UID:39663135-3266-4230-b666-313966666133
DTSTAMP:20260425T154039Z
DESCRIPTION:
DTSTART:20260119T091500Z
DTEND:20260119T110000Z
LOCATION:HS I\, E2.5
SUMMARY:Ana1: Vorlesung
END:VEVENT
BEGIN:VEVENT
UID:32376332-3866-4532-b735-616335356637
DTSTAMP:20260425T154039Z
DESCRIPTION:
DTSTART:20260119T130000Z
DTEND:20260119T150000Z
LOCATION:SR 1
SUMMARY:Ana1: Tutorium 1
END:VEVENT
BEGIN:VEVENT
UID:32393332-6637-4664-b861-343761666363
DTSTAMP:20260425T154039Z
DESCRIPTION:
DTSTART:20260119T150000Z
DTEND:20260119T170000Z
LOCATION:SR 10
SUMMARY:Ana1: Tutorium 2
END:VEVENT
BEGIN:VEVENT
UID:34386439-6430-4065-b430-363365393932
DTSTAMP:20260425T154039Z
DESCRIPTION:
DTSTART:20260120T130000Z
DTEND:20260120T150000Z
LOCATION:SR 10
SUMMARY:Ana1: Tutorium 3
END:VEVENT
BEGIN:VEVENT
UID:34383635-3765-4537-a235-323638613833
DTSTAMP:20260425T154039Z
DESCRIPTION:
DTSTART:20260120T150000Z
DTEND:20260120T170000Z
LOCATION:SR 10
SUMMARY:Ana1: Tutorium 4
END:VEVENT
BEGIN:VEVENT
UID:32633435-3438-4462-b634-383334306331
DTSTAMP:20260425T154039Z
DESCRIPTION:
DTSTART:20260121T070000Z
DTEND:20260121T090000Z
LOCATION:Zeichensaal
SUMMARY:Ana1: Tutorium 5
END:VEVENT
BEGIN:VEVENT
UID:64653161-3266-4331-a230-386137646538
DTSTAMP:20260425T154039Z
DESCRIPTION:
DTSTART:20260121T091500Z
DTEND:20260121T110000Z
LOCATION:HS I\, E2.5
SUMMARY:Ana1: Vorlesung
END:VEVENT
BEGIN:VEVENT
UID:64353739-3636-4433-b864-666365643134
DTSTAMP:20260425T154039Z
DESCRIPTION:
DTSTART:20260121T131500Z
DTEND:20260121T150000Z
LOCATION:HS I\, E2.5
SUMMARY:Ana1: Hörsaalübung
END:VEVENT
BEGIN:VEVENT
UID:61633738-3662-4239-b339-666138646563
DTSTAMP:20260425T154039Z
DESCRIPTION:
DTSTART:20260121T150000Z
DTEND:20260121T170000Z
LOCATION:SR 6
SUMMARY:Ana1: Tutorium 6
END:VEVENT
BEGIN:VEVENT
UID:32623732-6434-4938-a434-653161643934
DTSTAMP:20260425T154039Z
DESCRIPTION:
DTSTART:20260126T091500Z
DTEND:20260126T110000Z
LOCATION:HS I\, E2.5
SUMMARY:Ana1: Vorlesung
END:VEVENT
BEGIN:VEVENT
UID:39316532-3462-4430-a263-366133623836
DTSTAMP:20260425T154039Z
DESCRIPTION:
DTSTART:20260126T130000Z
DTEND:20260126T150000Z
LOCATION:SR 1
SUMMARY:Ana1: Tutorium 1
END:VEVENT
BEGIN:VEVENT
UID:30353963-3733-4631-b563-653238663663
DTSTAMP:20260425T154039Z
DESCRIPTION:
DTSTART:20260126T150000Z
DTEND:20260126T170000Z
LOCATION:SR 10
SUMMARY:Ana1: Tutorium 2
END:VEVENT
BEGIN:VEVENT
UID:30313063-6366-4163-a564-623566626662
DTSTAMP:20260425T154039Z
DESCRIPTION:
DTSTART:20260127T130000Z
DTEND:20260127T150000Z
LOCATION:SR 10
SUMMARY:Ana1: Tutorium 3
END:VEVENT
BEGIN:VEVENT
UID:30373735-3939-4638-a636-353066323464
DTSTAMP:20260425T154039Z
DESCRIPTION:
DTSTART:20260127T150000Z
DTEND:20260127T170000Z
LOCATION:SR 10
SUMMARY:Ana1: Tutorium 4
END:VEVENT
BEGIN:VEVENT
UID:33343562-3261-4239-b364-353266383932
DTSTAMP:20260425T154039Z
DESCRIPTION:
DTSTART:20260128T070000Z
DTEND:20260128T090000Z
LOCATION:Zeichensaal
SUMMARY:Ana1: Tutorium 5
END:VEVENT
BEGIN:VEVENT
UID:61343730-3432-4666-b335-626638653230
DTSTAMP:20260425T154039Z
DESCRIPTION:
DTSTART:20260128T091500Z
DTEND:20260128T110000Z
LOCATION:HS I\, E2.5
SUMMARY:Ana1: Vorlesung
END:VEVENT
BEGIN:VEVENT
UID:66643661-6539-4838-b632-363731303262
DTSTAMP:20260425T154039Z
DESCRIPTION:
DTSTART:20260128T131500Z
DTEND:20260128T150000Z
LOCATION:HS I\, E2.5
SUMMARY:Ana1: Hörsaalübung
END:VEVENT
BEGIN:VEVENT
UID:36346235-3930-4366-a137-343132623264
DTSTAMP:20260425T154039Z
DESCRIPTION:
DTSTART:20260128T150000Z
DTEND:20260128T170000Z
LOCATION:SR 6
SUMMARY:Ana1: Tutorium 6
END:VEVENT
BEGIN:VEVENT
UID:66313561-3733-4133-a361-633561346630
DTSTAMP:20260425T154039Z
DESCRIPTION:
DTSTART:20260202T091500Z
DTEND:20260202T110000Z
LOCATION:HS I\, E2.5
SUMMARY:Ana1: Vorlesung
END:VEVENT
BEGIN:VEVENT
UID:65333038-3862-4637-b063-343631336264
DTSTAMP:20260425T154039Z
DESCRIPTION:
DTSTART:20260202T130000Z
DTEND:20260202T150000Z
LOCATION:SR 1
SUMMARY:Ana1: Tutorium 1
END:VEVENT
BEGIN:VEVENT
UID:37393366-6365-4539-b736-363965386239
DTSTAMP:20260425T154039Z
DESCRIPTION:
DTSTART:20260202T150000Z
DTEND:20260202T170000Z
LOCATION:SR 10
SUMMARY:Ana1: Tutorium 2
END:VEVENT
BEGIN:VEVENT
UID:35366433-3733-4131-b137-656334653765
DTSTAMP:20260425T154039Z
DESCRIPTION:
DTSTART:20260203T130000Z
DTEND:20260203T150000Z
LOCATION:SR 10
SUMMARY:Ana1: Tutorium 3
END:VEVENT
BEGIN:VEVENT
UID:31333737-6161-4834-a332-316131646366
DTSTAMP:20260425T154039Z
DESCRIPTION:
DTSTART:20260203T150000Z
DTEND:20260203T170000Z
LOCATION:SR 10
SUMMARY:Ana1: Tutorium 4
END:VEVENT
BEGIN:VEVENT
UID:62373566-3065-4230-b866-633665636161
DTSTAMP:20260425T154039Z
DESCRIPTION:
DTSTART:20260204T070000Z
DTEND:20260204T090000Z
LOCATION:Zeichensaal
SUMMARY:Ana1: Tutorium 5
END:VEVENT
BEGIN:VEVENT
UID:62666662-3365-4537-b031-356337346635
DTSTAMP:20260425T154039Z
DESCRIPTION:
DTSTART:20260204T091500Z
DTEND:20260204T110000Z
LOCATION:HS I\, E2.5
SUMMARY:Ana1: Vorlesung
END:VEVENT
BEGIN:VEVENT
UID:34623862-3861-4665-a463-326239313562
DTSTAMP:20260425T154039Z
DESCRIPTION:
DTSTART:20260204T131500Z
DTEND:20260204T150000Z
LOCATION:HS I\, E2.5
SUMMARY:Ana1: Hörsaalübung
END:VEVENT
BEGIN:VEVENT
UID:30383166-3030-4230-b461-373039333663
DTSTAMP:20260425T154039Z
DESCRIPTION:
DTSTART:20260204T150000Z
DTEND:20260204T170000Z
LOCATION:SR 6
SUMMARY:Ana1: Tutorium 6
END:VEVENT
BEGIN:VEVENT
UID:38343166-6333-4134-a563-333539346462
DTSTAMP:20260425T154039Z
DESCRIPTION:
DTSTART:20260225T083000Z
DTEND:20260225T120000Z
SUMMARY:Ana1: Erste Klausur
END:VEVENT
BEGIN:VEVENT
UID:30323630-6336-4235-b239-363061356435
DTSTAMP:20260425T154039Z
DESCRIPTION:
DTSTART:20260325T083000Z
DTEND:20260325T120000Z
SUMMARY:Ana1: Zweite Klausur
END:VEVENT
END:VCALENDAR
