BEGIN:VCALENDAR
VERSION:2.0
PRODID:-//134.96.226.213//NONSGML kigkonsult.se iCalcreator 2.41.92//
CALSCALE:GREGORIAN
METHOD:PUBLISH
UID:64386338-3238-4364-b231-316236333839
X-WR-CALNAME:Analysis 1 Calendar
X-WR-CALDESC:Termine der Vorlesung Analysis 1
X-WR-TIMEZONE:Europe/Berlin
BEGIN:VEVENT
UID:38386135-3966-4835-a233-323031383031
DTSTAMP:20260425T170054Z
DESCRIPTION:
DTSTART:20251020T120000Z
DTEND:20251020T140000Z
LOCATION:SR 1
SUMMARY:Tutorium 1
END:VEVENT
BEGIN:VEVENT
UID:39336464-3838-4465-b166-663536393133
DTSTAMP:20260425T170054Z
DESCRIPTION:
DTSTART:20251020T140000Z
DTEND:20251020T160000Z
LOCATION:SR 10
SUMMARY:Tutorium 2
END:VEVENT
BEGIN:VEVENT
UID:39313866-6332-4661-a539-376537616632
DTSTAMP:20260425T170054Z
DESCRIPTION:
DTSTART:20251021T120000Z
DTEND:20251021T140000Z
LOCATION:SR 10
SUMMARY:Tutorium 3
END:VEVENT
BEGIN:VEVENT
UID:63656436-6264-4338-b032-623863616335
DTSTAMP:20260425T170054Z
DESCRIPTION:
DTSTART:20251021T140000Z
DTEND:20251021T160000Z
LOCATION:SR 10
SUMMARY:Tutorium 4
END:VEVENT
BEGIN:VEVENT
UID:38333263-6466-4835-a262-353238393263
DTSTAMP:20260425T170054Z
DESCRIPTION:
DTSTART:20251022T060000Z
DTEND:20251022T080000Z
LOCATION:Zeichensaal
SUMMARY:Tutorium 5
END:VEVENT
BEGIN:VEVENT
UID:30323666-3836-4861-a463-353932666135
DTSTAMP:20260425T170054Z
DESCRIPTION:
DTSTART:20251022T140000Z
DTEND:20251022T160000Z
LOCATION:SR 6
SUMMARY:Tutorium 6
END:VEVENT
BEGIN:VEVENT
UID:61353165-6237-4632-b237-636430633866
DTSTAMP:20260425T170054Z
DESCRIPTION:
DTSTART:20251027T130000Z
DTEND:20251027T150000Z
LOCATION:SR 1
SUMMARY:Tutorium 1
END:VEVENT
BEGIN:VEVENT
UID:31343734-3132-4135-b635-646438663932
DTSTAMP:20260425T170054Z
DESCRIPTION:
DTSTART:20251027T150000Z
DTEND:20251027T170000Z
LOCATION:SR 10
SUMMARY:Tutorium 2
END:VEVENT
BEGIN:VEVENT
UID:63626163-3036-4138-b935-656465343839
DTSTAMP:20260425T170054Z
DESCRIPTION:
DTSTART:20251028T130000Z
DTEND:20251028T150000Z
LOCATION:SR 10
SUMMARY:Tutorium 3
END:VEVENT
BEGIN:VEVENT
UID:33636466-3031-4132-b330-396336386633
DTSTAMP:20260425T170054Z
DESCRIPTION:
DTSTART:20251028T150000Z
DTEND:20251028T170000Z
LOCATION:SR 10
SUMMARY:Tutorium 4
END:VEVENT
BEGIN:VEVENT
UID:33343861-3037-4564-b433-653130613463
DTSTAMP:20260425T170054Z
DESCRIPTION:
DTSTART:20251029T070000Z
DTEND:20251029T090000Z
LOCATION:Zeichensaal
SUMMARY:Tutorium 5
END:VEVENT
BEGIN:VEVENT
UID:31386638-3733-4535-a561-316166316234
DTSTAMP:20260425T170054Z
DESCRIPTION:
DTSTART:20251029T150000Z
DTEND:20251029T170000Z
LOCATION:SR 6
SUMMARY:Tutorium 6
END:VEVENT
BEGIN:VEVENT
UID:62366137-6364-4639-b638-333435353165
DTSTAMP:20260425T170054Z
DESCRIPTION:
DTSTART:20251103T130000Z
DTEND:20251103T150000Z
LOCATION:SR 1
SUMMARY:Tutorium 1
END:VEVENT
BEGIN:VEVENT
UID:65653732-3730-4263-b863-353830333933
DTSTAMP:20260425T170054Z
DESCRIPTION:
DTSTART:20251103T150000Z
DTEND:20251103T170000Z
LOCATION:SR 10
SUMMARY:Tutorium 2
END:VEVENT
BEGIN:VEVENT
UID:66353761-6335-4763-b832-313430336635
DTSTAMP:20260425T170054Z
DESCRIPTION:
DTSTART:20251104T130000Z
DTEND:20251104T150000Z
LOCATION:SR 10
SUMMARY:Tutorium 3
END:VEVENT
BEGIN:VEVENT
UID:64363063-6238-4830-b663-653831366432
DTSTAMP:20260425T170054Z
DESCRIPTION:
DTSTART:20251104T150000Z
DTEND:20251104T170000Z
LOCATION:SR 10
SUMMARY:Tutorium 4
END:VEVENT
BEGIN:VEVENT
UID:37636538-3465-4630-b833-323763306466
DTSTAMP:20260425T170054Z
DESCRIPTION:
DTSTART:20251105T070000Z
DTEND:20251105T090000Z
LOCATION:Zeichensaal
SUMMARY:Tutorium 5
END:VEVENT
BEGIN:VEVENT
UID:34633665-3331-4863-a362-663063333865
DTSTAMP:20260425T170054Z
DESCRIPTION:
DTSTART:20251105T150000Z
DTEND:20251105T170000Z
LOCATION:SR 6
SUMMARY:Tutorium 6
END:VEVENT
BEGIN:VEVENT
UID:61366262-3134-4762-b830-373331336130
DTSTAMP:20260425T170054Z
DESCRIPTION:
DTSTART:20251110T130000Z
DTEND:20251110T150000Z
LOCATION:SR 1
SUMMARY:Tutorium 1
END:VEVENT
BEGIN:VEVENT
UID:38346137-6232-4430-b964-333739386636
DTSTAMP:20260425T170054Z
DESCRIPTION:
DTSTART:20251110T150000Z
DTEND:20251110T170000Z
LOCATION:SR 10
SUMMARY:Tutorium 2
END:VEVENT
BEGIN:VEVENT
UID:63333166-6131-4633-b235-316261373139
DTSTAMP:20260425T170054Z
DESCRIPTION:
DTSTART:20251111T130000Z
DTEND:20251111T150000Z
LOCATION:SR 10
SUMMARY:Tutorium 3
END:VEVENT
BEGIN:VEVENT
UID:34373237-3639-4839-a336-653933383339
DTSTAMP:20260425T170054Z
DESCRIPTION:
DTSTART:20251111T150000Z
DTEND:20251111T170000Z
LOCATION:SR 10
SUMMARY:Tutorium 4
END:VEVENT
BEGIN:VEVENT
UID:65396165-3764-4538-a534-373964336230
DTSTAMP:20260425T170054Z
DESCRIPTION:
DTSTART:20251112T070000Z
DTEND:20251112T090000Z
LOCATION:Zeichensaal
SUMMARY:Tutorium 5
END:VEVENT
BEGIN:VEVENT
UID:64316239-3639-4162-b434-616165353165
DTSTAMP:20260425T170054Z
DESCRIPTION:
DTSTART:20251112T150000Z
DTEND:20251112T170000Z
LOCATION:SR 6
SUMMARY:Tutorium 6
END:VEVENT
BEGIN:VEVENT
UID:61333839-3033-4361-b031-323234626561
DTSTAMP:20260425T170054Z
DESCRIPTION:
DTSTART:20251117T130000Z
DTEND:20251117T150000Z
LOCATION:SR 1
SUMMARY:Tutorium 1
END:VEVENT
BEGIN:VEVENT
UID:30323633-6439-4365-b664-346161663963
DTSTAMP:20260425T170054Z
DESCRIPTION:
DTSTART:20251117T150000Z
DTEND:20251117T170000Z
LOCATION:SR 10
SUMMARY:Tutorium 2
END:VEVENT
BEGIN:VEVENT
UID:38623361-6136-4564-b133-306437613632
DTSTAMP:20260425T170054Z
DESCRIPTION:
DTSTART:20251118T130000Z
DTEND:20251118T150000Z
LOCATION:SR 10
SUMMARY:Tutorium 3
END:VEVENT
BEGIN:VEVENT
UID:63313635-3166-4236-b761-663165376364
DTSTAMP:20260425T170054Z
DESCRIPTION:
DTSTART:20251118T150000Z
DTEND:20251118T170000Z
LOCATION:SR 10
SUMMARY:Tutorium 4
END:VEVENT
BEGIN:VEVENT
UID:66323939-3236-4866-b130-343735346563
DTSTAMP:20260425T170054Z
DESCRIPTION:
DTSTART:20251119T070000Z
DTEND:20251119T090000Z
LOCATION:Zeichensaal
SUMMARY:Tutorium 5
END:VEVENT
BEGIN:VEVENT
UID:38376466-3538-4063-b035-313132383362
DTSTAMP:20260425T170054Z
DESCRIPTION:
DTSTART:20251119T150000Z
DTEND:20251119T170000Z
LOCATION:SR 6
SUMMARY:Tutorium 6
END:VEVENT
BEGIN:VEVENT
UID:62613039-6439-4664-b435-666338636439
DTSTAMP:20260425T170054Z
DESCRIPTION:
DTSTART:20251124T130000Z
DTEND:20251124T150000Z
LOCATION:SR 1
SUMMARY:Tutorium 1
END:VEVENT
BEGIN:VEVENT
UID:33346634-6562-4461-b334-633339373265
DTSTAMP:20260425T170054Z
DESCRIPTION:
DTSTART:20251124T150000Z
DTEND:20251124T170000Z
LOCATION:SR 10
SUMMARY:Tutorium 2
END:VEVENT
BEGIN:VEVENT
UID:65393765-3633-4363-b561-356634383635
DTSTAMP:20260425T170054Z
DESCRIPTION:
DTSTART:20251125T130000Z
DTEND:20251125T150000Z
LOCATION:SR 10
SUMMARY:Tutorium 3
END:VEVENT
BEGIN:VEVENT
UID:64326436-3263-4463-a334-643365396265
DTSTAMP:20260425T170054Z
DESCRIPTION:
DTSTART:20251125T150000Z
DTEND:20251125T170000Z
LOCATION:SR 10
SUMMARY:Tutorium 4
END:VEVENT
BEGIN:VEVENT
UID:66346265-3030-4836-b065-646661333932
DTSTAMP:20260425T170054Z
DESCRIPTION:
DTSTART:20251126T070000Z
DTEND:20251126T090000Z
LOCATION:Zeichensaal
SUMMARY:Tutorium 5
END:VEVENT
BEGIN:VEVENT
UID:39306434-6134-4661-b336-643537306637
DTSTAMP:20260425T170054Z
DESCRIPTION:
DTSTART:20251126T150000Z
DTEND:20251126T170000Z
LOCATION:SR 6
SUMMARY:Tutorium 6
END:VEVENT
BEGIN:VEVENT
UID:62356135-6538-4937-b161-373834336434
DTSTAMP:20260425T170054Z
DESCRIPTION:
DTSTART:20251201T130000Z
DTEND:20251201T150000Z
LOCATION:SR 1
SUMMARY:Tutorium 1
END:VEVENT
BEGIN:VEVENT
UID:32666135-3834-4132-a538-623132316162
DTSTAMP:20260425T170054Z
DESCRIPTION:
DTSTART:20251201T150000Z
DTEND:20251201T170000Z
LOCATION:SR 10
SUMMARY:Tutorium 2
END:VEVENT
BEGIN:VEVENT
UID:63353235-3663-4232-b737-626565323662
DTSTAMP:20260425T170054Z
DESCRIPTION:
DTSTART:20251202T130000Z
DTEND:20251202T150000Z
LOCATION:SR 10
SUMMARY:Tutorium 3
END:VEVENT
BEGIN:VEVENT
UID:64346238-6465-4836-b934-663935363964
DTSTAMP:20260425T170054Z
DESCRIPTION:
DTSTART:20251202T150000Z
DTEND:20251202T170000Z
LOCATION:SR 10
SUMMARY:Tutorium 4
END:VEVENT
BEGIN:VEVENT
UID:30323061-6164-4236-a163-616131346133
DTSTAMP:20260425T170054Z
DESCRIPTION:
DTSTART:20251203T070000Z
DTEND:20251203T090000Z
LOCATION:Zeichensaal
SUMMARY:Tutorium 5
END:VEVENT
BEGIN:VEVENT
UID:31633534-3864-4464-b130-623661313765
DTSTAMP:20260425T170054Z
DESCRIPTION:
DTSTART:20251203T150000Z
DTEND:20251203T170000Z
LOCATION:SR 6
SUMMARY:Tutorium 6
END:VEVENT
BEGIN:VEVENT
UID:65666539-6230-4437-a166-613466343464
DTSTAMP:20260425T170054Z
DESCRIPTION:
DTSTART:20251208T130000Z
DTEND:20251208T150000Z
LOCATION:SR 1
SUMMARY:Tutorium 1
END:VEVENT
BEGIN:VEVENT
UID:62383066-3636-4137-b136-383532663231
DTSTAMP:20260425T170054Z
DESCRIPTION:
DTSTART:20251208T150000Z
DTEND:20251208T170000Z
LOCATION:SR 10
SUMMARY:Tutorium 2
END:VEVENT
BEGIN:VEVENT
UID:64343138-3238-4634-a231-613534396437
DTSTAMP:20260425T170054Z
DESCRIPTION:
DTSTART:20251209T130000Z
DTEND:20251209T150000Z
LOCATION:SR 10
SUMMARY:Tutorium 3
END:VEVENT
BEGIN:VEVENT
UID:33616230-6139-4039-b738-373265393266
DTSTAMP:20260425T170054Z
DESCRIPTION:
DTSTART:20251209T150000Z
DTEND:20251209T170000Z
LOCATION:SR 10
SUMMARY:Tutorium 4
END:VEVENT
BEGIN:VEVENT
UID:38633939-6637-4362-b937-646338373932
DTSTAMP:20260425T170054Z
DESCRIPTION:
DTSTART:20251210T070000Z
DTEND:20251210T090000Z
LOCATION:Zeichensaal
SUMMARY:Tutorium 5
END:VEVENT
BEGIN:VEVENT
UID:30623233-3963-4232-a632-306238636530
DTSTAMP:20260425T170054Z
DESCRIPTION:
DTSTART:20251210T150000Z
DTEND:20251210T170000Z
LOCATION:SR 6
SUMMARY:Tutorium 6
END:VEVENT
BEGIN:VEVENT
UID:31626639-6165-4133-a266-613939396461
DTSTAMP:20260425T170054Z
DESCRIPTION:
DTSTART:20251215T130000Z
DTEND:20251215T150000Z
LOCATION:SR 1
SUMMARY:Tutorium 1
END:VEVENT
BEGIN:VEVENT
UID:31323662-3765-4534-b064-316531643133
DTSTAMP:20260425T170054Z
DESCRIPTION:
DTSTART:20251215T150000Z
DTEND:20251215T170000Z
LOCATION:SR 10
SUMMARY:Tutorium 2
END:VEVENT
BEGIN:VEVENT
UID:64396234-6165-4032-a132-663962376533
DTSTAMP:20260425T170054Z
DESCRIPTION:
DTSTART:20251216T130000Z
DTEND:20251216T150000Z
LOCATION:SR 10
SUMMARY:Tutorium 3
END:VEVENT
BEGIN:VEVENT
UID:63323566-3765-4534-b866-663963336438
DTSTAMP:20260425T170054Z
DESCRIPTION:
DTSTART:20251216T150000Z
DTEND:20251216T170000Z
LOCATION:SR 10
SUMMARY:Tutorium 4
END:VEVENT
BEGIN:VEVENT
UID:37303439-3265-4630-b964-326334636632
DTSTAMP:20260425T170054Z
DESCRIPTION:
DTSTART:20251217T070000Z
DTEND:20251217T090000Z
LOCATION:Zeichensaal
SUMMARY:Tutorium 5
END:VEVENT
BEGIN:VEVENT
UID:65396132-6339-4531-b633-353039653264
DTSTAMP:20260425T170054Z
DESCRIPTION:
DTSTART:20251217T150000Z
DTEND:20251217T170000Z
LOCATION:SR 6
SUMMARY:Tutorium 6
END:VEVENT
BEGIN:VEVENT
UID:31636637-6135-4432-a334-386465363730
DTSTAMP:20260425T170054Z
DESCRIPTION:
DTSTART:20260105T130000Z
DTEND:20260105T150000Z
LOCATION:SR 1
SUMMARY:Tutorium 1
END:VEVENT
BEGIN:VEVENT
UID:33326535-3463-4663-a563-353333633735
DTSTAMP:20260425T170054Z
DESCRIPTION:
DTSTART:20260105T150000Z
DTEND:20260105T170000Z
LOCATION:SR 10
SUMMARY:Tutorium 2
END:VEVENT
BEGIN:VEVENT
UID:64306335-6637-4362-a161-346365663036
DTSTAMP:20260425T170054Z
DESCRIPTION:
DTSTART:20260106T130000Z
DTEND:20260106T150000Z
LOCATION:SR 10
SUMMARY:Tutorium 3
END:VEVENT
BEGIN:VEVENT
UID:30326532-3035-4136-a239-383935623731
DTSTAMP:20260425T170054Z
DESCRIPTION:
DTSTART:20260106T150000Z
DTEND:20260106T170000Z
LOCATION:SR 10
SUMMARY:Tutorium 4
END:VEVENT
BEGIN:VEVENT
UID:39333338-3230-4265-b465-376436633166
DTSTAMP:20260425T170054Z
DESCRIPTION:
DTSTART:20260107T070000Z
DTEND:20260107T090000Z
LOCATION:Zeichensaal
SUMMARY:Tutorium 5
END:VEVENT
BEGIN:VEVENT
UID:62373231-6436-4538-b461-306231313033
DTSTAMP:20260425T170054Z
DESCRIPTION:
DTSTART:20260107T150000Z
DTEND:20260107T170000Z
LOCATION:SR 6
SUMMARY:Tutorium 6
END:VEVENT
BEGIN:VEVENT
UID:65363462-3861-4033-b837-626237373063
DTSTAMP:20260425T170054Z
DESCRIPTION:
DTSTART:20260112T130000Z
DTEND:20260112T150000Z
LOCATION:SR 1
SUMMARY:Tutorium 1
END:VEVENT
BEGIN:VEVENT
UID:34376465-6361-4864-b330-393163303965
DTSTAMP:20260425T170054Z
DESCRIPTION:
DTSTART:20260112T150000Z
DTEND:20260112T170000Z
LOCATION:SR 10
SUMMARY:Tutorium 2
END:VEVENT
BEGIN:VEVENT
UID:36623537-6365-4233-a464-353831333637
DTSTAMP:20260425T170054Z
DESCRIPTION:
DTSTART:20260113T130000Z
DTEND:20260113T150000Z
LOCATION:SR 10
SUMMARY:Tutorium 3
END:VEVENT
BEGIN:VEVENT
UID:62383062-3635-4938-b736-303764306233
DTSTAMP:20260425T170054Z
DESCRIPTION:
DTSTART:20260113T150000Z
DTEND:20260113T170000Z
LOCATION:SR 10
SUMMARY:Tutorium 4
END:VEVENT
BEGIN:VEVENT
UID:62666333-3639-4238-a433-653938613432
DTSTAMP:20260425T170054Z
DESCRIPTION:
DTSTART:20260114T070000Z
DTEND:20260114T090000Z
LOCATION:Zeichensaal
SUMMARY:Tutorium 5
END:VEVENT
BEGIN:VEVENT
UID:37353539-3432-4030-b133-363566636134
DTSTAMP:20260425T170054Z
DESCRIPTION:
DTSTART:20260114T150000Z
DTEND:20260114T170000Z
LOCATION:SR 6
SUMMARY:Tutorium 6
END:VEVENT
BEGIN:VEVENT
UID:62643666-3364-4936-a566-653835616432
DTSTAMP:20260425T170054Z
DESCRIPTION:
DTSTART:20260119T130000Z
DTEND:20260119T150000Z
LOCATION:SR 1
SUMMARY:Tutorium 1
END:VEVENT
BEGIN:VEVENT
UID:63343661-6665-4563-b465-633934623638
DTSTAMP:20260425T170054Z
DESCRIPTION:
DTSTART:20260119T150000Z
DTEND:20260119T170000Z
LOCATION:SR 10
SUMMARY:Tutorium 2
END:VEVENT
BEGIN:VEVENT
UID:39396433-6563-4465-a463-656334616539
DTSTAMP:20260425T170054Z
DESCRIPTION:
DTSTART:20260120T130000Z
DTEND:20260120T150000Z
LOCATION:SR 10
SUMMARY:Tutorium 3
END:VEVENT
BEGIN:VEVENT
UID:30323233-6262-4063-b434-613330383730
DTSTAMP:20260425T170054Z
DESCRIPTION:
DTSTART:20260120T150000Z
DTEND:20260120T170000Z
LOCATION:SR 10
SUMMARY:Tutorium 4
END:VEVENT
BEGIN:VEVENT
UID:65643463-3331-4738-b434-613263313234
DTSTAMP:20260425T170054Z
DESCRIPTION:
DTSTART:20260121T070000Z
DTEND:20260121T090000Z
LOCATION:Zeichensaal
SUMMARY:Tutorium 5
END:VEVENT
BEGIN:VEVENT
UID:35646364-3237-4162-b166-623632333130
DTSTAMP:20260425T170054Z
DESCRIPTION:
DTSTART:20260121T150000Z
DTEND:20260121T170000Z
LOCATION:SR 6
SUMMARY:Tutorium 6
END:VEVENT
BEGIN:VEVENT
UID:34303131-6338-4130-b166-313561366338
DTSTAMP:20260425T170054Z
DESCRIPTION:
DTSTART:20260126T130000Z
DTEND:20260126T150000Z
LOCATION:SR 1
SUMMARY:Tutorium 1
END:VEVENT
BEGIN:VEVENT
UID:35333739-6361-4631-a565-616639343139
DTSTAMP:20260425T170054Z
DESCRIPTION:
DTSTART:20260126T150000Z
DTEND:20260126T170000Z
LOCATION:SR 10
SUMMARY:Tutorium 2
END:VEVENT
BEGIN:VEVENT
UID:62303466-3337-4636-b335-636635663130
DTSTAMP:20260425T170054Z
DESCRIPTION:
DTSTART:20260127T130000Z
DTEND:20260127T150000Z
LOCATION:SR 10
SUMMARY:Tutorium 3
END:VEVENT
BEGIN:VEVENT
UID:30633465-6235-4162-b531-616330383263
DTSTAMP:20260425T170054Z
DESCRIPTION:
DTSTART:20260127T150000Z
DTEND:20260127T170000Z
LOCATION:SR 10
SUMMARY:Tutorium 4
END:VEVENT
BEGIN:VEVENT
UID:37616666-3765-4532-b335-356535663062
DTSTAMP:20260425T170054Z
DESCRIPTION:
DTSTART:20260128T070000Z
DTEND:20260128T090000Z
LOCATION:Zeichensaal
SUMMARY:Tutorium 5
END:VEVENT
BEGIN:VEVENT
UID:65313464-3137-4739-a437-366337353765
DTSTAMP:20260425T170054Z
DESCRIPTION:
DTSTART:20260128T150000Z
DTEND:20260128T170000Z
LOCATION:SR 6
SUMMARY:Tutorium 6
END:VEVENT
BEGIN:VEVENT
UID:32643866-3537-4835-a365-333864363666
DTSTAMP:20260425T170054Z
DESCRIPTION:
DTSTART:20260202T130000Z
DTEND:20260202T150000Z
LOCATION:SR 1
SUMMARY:Tutorium 1
END:VEVENT
BEGIN:VEVENT
UID:39343333-6539-4531-a433-633065623736
DTSTAMP:20260425T170054Z
DESCRIPTION:
DTSTART:20260202T150000Z
DTEND:20260202T170000Z
LOCATION:SR 10
SUMMARY:Tutorium 2
END:VEVENT
BEGIN:VEVENT
UID:30386430-3839-4464-a537-336363626363
DTSTAMP:20260425T170054Z
DESCRIPTION:
DTSTART:20260203T130000Z
DTEND:20260203T150000Z
LOCATION:SR 10
SUMMARY:Tutorium 3
END:VEVENT
BEGIN:VEVENT
UID:33363337-6534-4162-b364-353530343831
DTSTAMP:20260425T170054Z
DESCRIPTION:
DTSTART:20260203T150000Z
DTEND:20260203T170000Z
LOCATION:SR 10
SUMMARY:Tutorium 4
END:VEVENT
BEGIN:VEVENT
UID:66363966-3335-4334-b632-646432663361
DTSTAMP:20260425T170054Z
DESCRIPTION:
DTSTART:20260204T070000Z
DTEND:20260204T090000Z
LOCATION:Zeichensaal
SUMMARY:Tutorium 5
END:VEVENT
BEGIN:VEVENT
UID:30333463-6264-4134-b865-323634316631
DTSTAMP:20260425T170054Z
DESCRIPTION:
DTSTART:20260204T150000Z
DTEND:20260204T170000Z
LOCATION:SR 6
SUMMARY:Tutorium 6
END:VEVENT
END:VCALENDAR
