BEGIN:VCALENDAR
VERSION:2.0
PRODID:-//134.96.226.213//NONSGML kigkonsult.se iCalcreator 2.41.92//
CALSCALE:GREGORIAN
METHOD:PUBLISH
UID:64356365-6439-4262-a662-336566393438
X-WR-CALNAME:Analysis 1 Calendar
X-WR-CALDESC:Termine der Vorlesung Analysis 1
X-WR-TIMEZONE:Europe/Berlin
BEGIN:VEVENT
UID:30326237-3635-4539-b163-643363383133
DTSTAMP:20260422T212741Z
DESCRIPTION:
DTSTART:20230222T083000Z
DTEND:20230222T113000Z
LOCATION:Hörsaal 1 + 2
SUMMARY:Ana1: Hauptklausur
END:VEVENT
BEGIN:VEVENT
UID:64666231-3331-4966-b535-666163313566
DTSTAMP:20260422T212741Z
DESCRIPTION:
DTSTART:20230330T120000Z
DTEND:20230330T150000Z
LOCATION:Hörsaal 001\, 002\, 003\, Geb. E1.3
SUMMARY:Ana1: Nachklausur
END:VEVENT
END:VCALENDAR
