BEGIN:VCALENDAR
VERSION:2.0
PRODID:-//134.96.226.213//NONSGML kigkonsult.se iCalcreator 2.41.92//
CALSCALE:GREGORIAN
METHOD:PUBLISH
UID:36363230-6261-4261-b232-633666336165
X-WR-CALNAME:Analysis 1 Calendar
X-WR-CALDESC:Termine der Vorlesung Analysis 1
X-WR-TIMEZONE:Europe/Berlin
BEGIN:VEVENT
UID:31313730-3264-4464-b362-313039356462
DTSTAMP:20260422T195524Z
DESCRIPTION:
DTSTART:20230222T083000Z
DTEND:20230222T113000Z
LOCATION:Hörsaal 1 + 2
SUMMARY:Hauptklausur
END:VEVENT
BEGIN:VEVENT
UID:39383732-3335-4733-a536-663764393430
DTSTAMP:20260422T195524Z
DESCRIPTION:
DTSTART:20230330T120000Z
DTEND:20230330T150000Z
LOCATION:Hörsaal 001\, 002\, 003\, Geb. E1.3
SUMMARY:Nachklausur
END:VEVENT
END:VCALENDAR
