BEGIN:VCALENDAR
VERSION:2.0
PRODID:-//134.96.226.213//NONSGML kigkonsult.se iCalcreator 2.41.92//
CALSCALE:GREGORIAN
METHOD:PUBLISH
UID:65303130-6562-4632-a433-613138663536
X-WR-CALNAME:Analysis 1 Calendar
X-WR-CALDESC:Termine der Vorlesung Analysis 1
X-WR-TIMEZONE:Europe/Berlin
BEGIN:VEVENT
UID:39353032-6436-4132-a431-336537393832
DTSTAMP:20260422T212742Z
DESCRIPTION:Tutor: Maxmilian Tornes
DTSTART:20221031T120000Z
DTEND:20221031T130000Z
LOCATION:Gruppenarbeitsraum (Raum 317 Geb. E2.4)
SUMMARY:Ana1: Sprechstunde
END:VEVENT
BEGIN:VEVENT
UID:66643031-3934-4362-b534-646537633238
DTSTAMP:20260422T212742Z
DESCRIPTION:Tutorin: Laura Fritz
DTSTART:20221102T110000Z
DTEND:20221102T120000Z
LOCATION:Gruppenarbeitsraum (Raum 317 Geb. E2.4)
SUMMARY:Ana1: Sprechstunde
END:VEVENT
BEGIN:VEVENT
UID:30363738-3632-4039-b936-313837356432
DTSTAMP:20260422T212742Z
DESCRIPTION:Tutor: Arne Berrens
DTSTART:20221103T090000Z
DTEND:20221103T100000Z
LOCATION:Gruppenarbeitsraum (Raum 317 Geb. E2.4)
SUMMARY:Ana1: Sprechstunde
END:VEVENT
BEGIN:VEVENT
UID:33663764-3561-4864-a534-663539333130
DTSTAMP:20260422T212742Z
DESCRIPTION:Tutor: Maxmilian Tornes
DTSTART:20221107T120000Z
DTEND:20221107T130000Z
LOCATION:Gruppenarbeitsraum (Raum 317 Geb. E2.4)
SUMMARY:Ana1: Sprechstunde
END:VEVENT
BEGIN:VEVENT
UID:36313464-6530-4961-a633-333133373939
DTSTAMP:20260422T212742Z
DESCRIPTION:
DTSTART:20221108T160000Z
DTEND:20221108T170000Z
LOCATION:Büro 3.21\, Gebäude E2 4
SUMMARY:Ana1: Sprechstunde des Dozenten
END:VEVENT
BEGIN:VEVENT
UID:30656236-3337-4430-b566-363563643732
DTSTAMP:20260422T212742Z
DESCRIPTION:Tutorin: Laura Fritz
DTSTART:20221109T110000Z
DTEND:20221109T120000Z
LOCATION:Gruppenarbeitsraum (Raum 317 Geb. E2.4)
SUMMARY:Ana1: Sprechstunde
END:VEVENT
BEGIN:VEVENT
UID:65383832-6636-4235-a663-373862656566
DTSTAMP:20260422T212742Z
DESCRIPTION:Tutor: Arne Berrens
DTSTART:20221110T090000Z
DTEND:20221110T100000Z
LOCATION:Gruppenarbeitsraum (Raum 317 Geb. E2.4)
SUMMARY:Ana1: Sprechstunde
END:VEVENT
BEGIN:VEVENT
UID:36356465-3331-4636-b532-353162356532
DTSTAMP:20260422T212742Z
DESCRIPTION:Tutor: Maximilian Leist
DTSTART:20221114T110000Z
DTEND:20221114T120000Z
LOCATION:Gruppenarbeitsraum (Raum 317 Geb. E2.4)
SUMMARY:Ana1: Sprechstunde
END:VEVENT
BEGIN:VEVENT
UID:63613462-3934-4761-a638-393235383865
DTSTAMP:20260422T212742Z
DESCRIPTION:Tutor: Maxmilian Tornes
DTSTART:20221114T120000Z
DTEND:20221114T130000Z
LOCATION:Gruppenarbeitsraum (Raum 317 Geb. E2.4)
SUMMARY:Ana1: Sprechstunde
END:VEVENT
BEGIN:VEVENT
UID:61653635-3632-4465-a233-306463316538
DTSTAMP:20260422T212742Z
DESCRIPTION:
DTSTART:20221115T130000Z
DTEND:20221115T140000Z
LOCATION:Büro 3.21\, Gebäude E2 4
SUMMARY:Ana1: Sprechstunde des Dozenten
END:VEVENT
BEGIN:VEVENT
UID:62316432-3235-4131-b231-373463623663
DTSTAMP:20260422T212742Z
DESCRIPTION:Tutor: Friedrich Günther
DTSTART:20221116T080000Z
DTEND:20221116T090000Z
LOCATION:Gruppenarbeitsraum (Raum 317 Geb. E2.4)
SUMMARY:Ana1: Sprechstunde
END:VEVENT
BEGIN:VEVENT
UID:65613937-3238-4462-b835-336162336634
DTSTAMP:20260422T212742Z
DESCRIPTION:Tutorin: Laura Fritz
DTSTART:20221116T110000Z
DTEND:20221116T120000Z
LOCATION:Gruppenarbeitsraum (Raum 317 Geb. E2.4)
SUMMARY:Ana1: Sprechstunde
END:VEVENT
BEGIN:VEVENT
UID:31666139-3737-4866-b439-353538373265
DTSTAMP:20260422T212742Z
DESCRIPTION:Tutor: Arne Berrens
DTSTART:20221117T090000Z
DTEND:20221117T100000Z
LOCATION:Gruppenarbeitsraum (Raum 317 Geb. E2.4)
SUMMARY:Ana1: Sprechstunde
END:VEVENT
BEGIN:VEVENT
UID:63613133-3736-4162-b964-666565666366
DTSTAMP:20260422T212742Z
DESCRIPTION:Tutor: Moritz Speicher
DTSTART:20221117T110000Z
DTEND:20221117T120000Z
LOCATION:Gruppenarbeitsraum (Raum 317 Geb. E2.4)
SUMMARY:Ana1: Sprechstunde
END:VEVENT
BEGIN:VEVENT
UID:37363437-3862-4665-a333-313033303364
DTSTAMP:20260422T212742Z
DESCRIPTION:Tutor: Maximilian Leist
DTSTART:20221121T110000Z
DTEND:20221121T120000Z
LOCATION:Gruppenarbeitsraum (Raum 317 Geb. E2.4)
SUMMARY:Ana1: Sprechstunde
END:VEVENT
BEGIN:VEVENT
UID:65333330-3331-4130-b938-303563303164
DTSTAMP:20260422T212742Z
DESCRIPTION:Tutor: Maxmilian Tornes
DTSTART:20221121T120000Z
DTEND:20221121T130000Z
LOCATION:Gruppenarbeitsraum (Raum 317 Geb. E2.4)
SUMMARY:Ana1: Sprechstunde
END:VEVENT
BEGIN:VEVENT
UID:61663635-3931-4131-b138-346465393763
DTSTAMP:20260422T212742Z
DESCRIPTION:
DTSTART:20221122T130000Z
DTEND:20221122T140000Z
LOCATION:Büro 3.21\, Gebäude E2 4
SUMMARY:Ana1: Sprechstunde des Dozenten
END:VEVENT
BEGIN:VEVENT
UID:61336565-3738-4537-b036-646135353339
DTSTAMP:20260422T212742Z
DESCRIPTION:Tutor: Friedrich Günther
DTSTART:20221123T080000Z
DTEND:20221123T090000Z
LOCATION:Gruppenarbeitsraum (Raum 317 Geb. E2.4)
SUMMARY:Ana1: Sprechstunde
END:VEVENT
BEGIN:VEVENT
UID:62363833-6638-4363-b630-646639383635
DTSTAMP:20260422T212742Z
DESCRIPTION:Tutorin: Laura Fritz
DTSTART:20221123T110000Z
DTEND:20221123T120000Z
LOCATION:Gruppenarbeitsraum (Raum 317 Geb. E2.4)
SUMMARY:Ana1: Sprechstunde
END:VEVENT
BEGIN:VEVENT
UID:62626338-6161-4865-b632-623764356531
DTSTAMP:20260422T212742Z
DESCRIPTION:Tutor: Arne Berrens
DTSTART:20221124T090000Z
DTEND:20221124T100000Z
LOCATION:Gruppenarbeitsraum (Raum 317 Geb. E2.4)
SUMMARY:Ana1: Sprechstunde
END:VEVENT
BEGIN:VEVENT
UID:62353739-6337-4563-b935-313239613062
DTSTAMP:20260422T212742Z
DESCRIPTION:Tutor: Moritz Speicher
DTSTART:20221124T110000Z
DTEND:20221124T120000Z
LOCATION:Gruppenarbeitsraum (Raum 317 Geb. E2.4)
SUMMARY:Ana1: Sprechstunde
END:VEVENT
BEGIN:VEVENT
UID:31636531-3434-4532-a433-626363663464
DTSTAMP:20260422T212742Z
DESCRIPTION:Tutor: Maximilian Leist
DTSTART:20221128T110000Z
DTEND:20221128T120000Z
LOCATION:Gruppenarbeitsraum (Raum 317 Geb. E2.4)
SUMMARY:Ana1: Sprechstunde
END:VEVENT
BEGIN:VEVENT
UID:62633537-3330-4837-b334-353037306163
DTSTAMP:20260422T212742Z
DESCRIPTION:Tutor: Maxmilian Tornes
DTSTART:20221128T120000Z
DTEND:20221128T130000Z
LOCATION:Gruppenarbeitsraum (Raum 317 Geb. E2.4)
SUMMARY:Ana1: Sprechstunde
END:VEVENT
BEGIN:VEVENT
UID:32303431-3030-4665-b766-346366386330
DTSTAMP:20260422T212742Z
DESCRIPTION:
DTSTART:20221129T130000Z
DTEND:20221129T140000Z
LOCATION:Büro 3.21\, Gebäude E2 4
SUMMARY:Ana1: Sprechstunde des Dozenten
END:VEVENT
BEGIN:VEVENT
UID:30313637-3836-4630-b531-353063326433
DTSTAMP:20260422T212742Z
DESCRIPTION:Tutor: Friedrich Günther
DTSTART:20221130T080000Z
DTEND:20221130T090000Z
LOCATION:Gruppenarbeitsraum (Raum 317 Geb. E2.4)
SUMMARY:Ana1: Sprechstunde
END:VEVENT
BEGIN:VEVENT
UID:61396631-6335-4130-b330-373062316166
DTSTAMP:20260422T212742Z
DESCRIPTION:Tutorin: Laura Fritz
DTSTART:20221130T110000Z
DTEND:20221130T120000Z
LOCATION:Gruppenarbeitsraum (Raum 317 Geb. E2.4)
SUMMARY:Ana1: Sprechstunde
END:VEVENT
BEGIN:VEVENT
UID:63663132-6236-4563-a537-303530613235
DTSTAMP:20260422T212742Z
DESCRIPTION:Tutor: Arne Berrens
DTSTART:20221201T090000Z
DTEND:20221201T100000Z
LOCATION:Gruppenarbeitsraum (Raum 317 Geb. E2.4)
SUMMARY:Ana1: Sprechstunde
END:VEVENT
BEGIN:VEVENT
UID:65303038-3837-4532-a634-393731363965
DTSTAMP:20260422T212742Z
DESCRIPTION:Tutor: Moritz Speicher
DTSTART:20221201T110000Z
DTEND:20221201T120000Z
LOCATION:Gruppenarbeitsraum (Raum 317 Geb. E2.4)
SUMMARY:Ana1: Sprechstunde
END:VEVENT
BEGIN:VEVENT
UID:39356131-3831-4837-a139-346335333330
DTSTAMP:20260422T212742Z
DESCRIPTION:Tutor: Maximilian Leist
DTSTART:20221205T110000Z
DTEND:20221205T120000Z
LOCATION:Gruppenarbeitsraum (Raum 317 Geb. E2.4)
SUMMARY:Ana1: Sprechstunde
END:VEVENT
BEGIN:VEVENT
UID:38376266-3762-4062-b834-373563643131
DTSTAMP:20260422T212742Z
DESCRIPTION:Tutor: Maxmilian Tornes
DTSTART:20221205T120000Z
DTEND:20221205T130000Z
LOCATION:Gruppenarbeitsraum (Raum 317 Geb. E2.4)
SUMMARY:Ana1: Sprechstunde
END:VEVENT
BEGIN:VEVENT
UID:36633132-3534-4338-b437-343538623762
DTSTAMP:20260422T212742Z
DESCRIPTION:
DTSTART:20221206T130000Z
DTEND:20221206T140000Z
LOCATION:Büro 3.21\, Gebäude E2 4
SUMMARY:Ana1: Sprechstunde des Dozenten
END:VEVENT
BEGIN:VEVENT
UID:62613033-6630-4632-b232-303230366365
DTSTAMP:20260422T212742Z
DESCRIPTION:Tutor: Friedrich Günther
DTSTART:20221207T080000Z
DTEND:20221207T090000Z
LOCATION:Gruppenarbeitsraum (Raum 317 Geb. E2.4)
SUMMARY:Ana1: Sprechstunde
END:VEVENT
BEGIN:VEVENT
UID:31646566-3265-4739-b166-396631343135
DTSTAMP:20260422T212742Z
DESCRIPTION:Tutorin: Laura Fritz
DTSTART:20221207T110000Z
DTEND:20221207T120000Z
LOCATION:Gruppenarbeitsraum (Raum 317 Geb. E2.4)
SUMMARY:Ana1: Sprechstunde
END:VEVENT
BEGIN:VEVENT
UID:35643565-6333-4663-a236-303732643531
DTSTAMP:20260422T212742Z
DESCRIPTION:Tutor: Arne Berrens
DTSTART:20221208T090000Z
DTEND:20221208T100000Z
LOCATION:Gruppenarbeitsraum (Raum 317 Geb. E2.4)
SUMMARY:Ana1: Sprechstunde
END:VEVENT
BEGIN:VEVENT
UID:64306239-3834-4165-b565-376437353534
DTSTAMP:20260422T212742Z
DESCRIPTION:Tutor: Moritz Speicher
DTSTART:20221208T110000Z
DTEND:20221208T120000Z
LOCATION:Gruppenarbeitsraum (Raum 317 Geb. E2.4)
SUMMARY:Ana1: Sprechstunde
END:VEVENT
BEGIN:VEVENT
UID:30633232-3234-4239-a562-363966353363
DTSTAMP:20260422T212742Z
DESCRIPTION:Tutor: Maximilian Leist
DTSTART:20221212T110000Z
DTEND:20221212T120000Z
LOCATION:Gruppenarbeitsraum (Raum 317 Geb. E2.4)
SUMMARY:Ana1: Sprechstunde
END:VEVENT
BEGIN:VEVENT
UID:33366335-6130-4730-b235-303332623037
DTSTAMP:20260422T212742Z
DESCRIPTION:Tutor: Maxmilian Tornes
DTSTART:20221212T120000Z
DTEND:20221212T130000Z
LOCATION:Gruppenarbeitsraum (Raum 317 Geb. E2.4)
SUMMARY:Ana1: Sprechstunde
END:VEVENT
BEGIN:VEVENT
UID:35653430-3633-4937-b764-376230303066
DTSTAMP:20260422T212742Z
DESCRIPTION:
DTSTART:20221213T130000Z
DTEND:20221213T140000Z
LOCATION:Büro 3.21\, Gebäude E2 4
SUMMARY:Ana1: Sprechstunde des Dozenten
END:VEVENT
BEGIN:VEVENT
UID:63613863-6664-4333-b764-633264376338
DTSTAMP:20260422T212742Z
DESCRIPTION:Tutor: Friedrich Günther
DTSTART:20221214T080000Z
DTEND:20221214T090000Z
LOCATION:Gruppenarbeitsraum (Raum 317 Geb. E2.4)
SUMMARY:Ana1: Sprechstunde
END:VEVENT
BEGIN:VEVENT
UID:65363639-6464-4264-b764-616535663635
DTSTAMP:20260422T212742Z
DESCRIPTION:Tutorin: Laura Fritz
DTSTART:20221214T110000Z
DTEND:20221214T120000Z
LOCATION:Gruppenarbeitsraum (Raum 317 Geb. E2.4)
SUMMARY:Ana1: Sprechstunde
END:VEVENT
BEGIN:VEVENT
UID:31633739-6364-4438-b132-313762306230
DTSTAMP:20260422T212742Z
DESCRIPTION:Tutor: Arne Berrens
DTSTART:20221215T090000Z
DTEND:20221215T100000Z
LOCATION:Gruppenarbeitsraum (Raum 317 Geb. E2.4)
SUMMARY:Ana1: Sprechstunde
END:VEVENT
BEGIN:VEVENT
UID:35366432-6232-4237-b761-353532653664
DTSTAMP:20260422T212742Z
DESCRIPTION:Tutor: Moritz Speicher
DTSTART:20221215T110000Z
DTEND:20221215T120000Z
LOCATION:Gruppenarbeitsraum (Raum 317 Geb. E2.4)
SUMMARY:Ana1: Sprechstunde
END:VEVENT
BEGIN:VEVENT
UID:62393139-3238-4237-b864-353664646632
DTSTAMP:20260422T212742Z
DESCRIPTION:Tutor: Maximilian Leist
DTSTART:20221219T110000Z
DTEND:20221219T120000Z
LOCATION:MS Teams (online)
SUMMARY:Ana1: Sprechstunde
END:VEVENT
BEGIN:VEVENT
UID:64356432-3932-4061-b065-393730393839
DTSTAMP:20260422T212742Z
DESCRIPTION:Tutor: Maxmilian Tornes
DTSTART:20221219T120000Z
DTEND:20221219T130000Z
LOCATION:MS Teams (online)
SUMMARY:Ana1: Sprechstunde
END:VEVENT
BEGIN:VEVENT
UID:31336335-3765-4335-a361-393330323036
DTSTAMP:20260422T212742Z
DESCRIPTION:
DTSTART:20221220T130000Z
DTEND:20221220T140000Z
LOCATION:MS Teams (online)
SUMMARY:Ana1: Sprechstunde des Dozenten
END:VEVENT
BEGIN:VEVENT
UID:31623932-6236-4439-a236-313433626564
DTSTAMP:20260422T212742Z
DESCRIPTION:Tutor: Friedrich Günther
DTSTART:20221221T080000Z
DTEND:20221221T090000Z
LOCATION:MS Teams (online)
SUMMARY:Ana1: Sprechstunde
END:VEVENT
BEGIN:VEVENT
UID:37373634-3762-4430-b531-323631623437
DTSTAMP:20260422T212742Z
DESCRIPTION:Tutor: Friedrich Günther
DTSTART:20230104T080000Z
DTEND:20230104T090000Z
LOCATION:MS Teams (online)
SUMMARY:Ana1: Sprechstunde
END:VEVENT
BEGIN:VEVENT
UID:34376661-6261-4039-b035-393931393532
DTSTAMP:20260422T212742Z
DESCRIPTION:Tutorin: Laura Fritz
DTSTART:20230104T110000Z
DTEND:20230104T120000Z
LOCATION:MS Teams (online)
SUMMARY:Ana1: Sprechstunde
END:VEVENT
BEGIN:VEVENT
UID:39646631-6539-4934-a336-636661643730
DTSTAMP:20260422T212742Z
DESCRIPTION:Tutor: Arne Berrens
DTSTART:20230105T090000Z
DTEND:20230105T100000Z
LOCATION:MS Teams (online)
SUMMARY:Ana1: Sprechstunde
END:VEVENT
BEGIN:VEVENT
UID:36353633-3031-4531-b230-623332323063
DTSTAMP:20260422T212742Z
DESCRIPTION:Tutor: Moritz Speicher
DTSTART:20230105T110000Z
DTEND:20230105T120000Z
LOCATION:MS Teams (online)
SUMMARY:Ana1: Sprechstunde
END:VEVENT
BEGIN:VEVENT
UID:35343932-3265-4262-a632-363438656235
DTSTAMP:20260422T212742Z
DESCRIPTION:Tutor: Maximilian Leist
DTSTART:20230109T110000Z
DTEND:20230109T120000Z
LOCATION:Gruppenarbeitsraum (Raum 317 Geb. E2.4)
SUMMARY:Ana1: Sprechstunde
END:VEVENT
BEGIN:VEVENT
UID:33303437-6166-4238-a163-656166326630
DTSTAMP:20260422T212742Z
DESCRIPTION:Tutor: Maxmilian Tornes
DTSTART:20230109T120000Z
DTEND:20230109T130000Z
LOCATION:Gruppenarbeitsraum (Raum 317 Geb. E2.4)
SUMMARY:Ana1: Sprechstunde
END:VEVENT
BEGIN:VEVENT
UID:30363931-3432-4866-b565-356163623632
DTSTAMP:20260422T212742Z
DESCRIPTION:
DTSTART:20230110T130000Z
DTEND:20230110T140000Z
LOCATION:Büro 3.21\, Gebäude E2 4
SUMMARY:Ana1: Sprechstunde des Dozenten
END:VEVENT
BEGIN:VEVENT
UID:35346138-3061-4332-a138-643662356366
DTSTAMP:20260422T212742Z
DESCRIPTION:Tutor: Friedrich Günther
DTSTART:20230111T080000Z
DTEND:20230111T090000Z
LOCATION:Gruppenarbeitsraum (Raum 317 Geb. E2.4)
SUMMARY:Ana1: Sprechstunde
END:VEVENT
BEGIN:VEVENT
UID:37363266-6565-4137-b330-333634633365
DTSTAMP:20260422T212742Z
DESCRIPTION:Tutorin: Laura Fritz
DTSTART:20230111T110000Z
DTEND:20230111T120000Z
LOCATION:Gruppenarbeitsraum (Raum 317 Geb. E2.4)
SUMMARY:Ana1: Sprechstunde
END:VEVENT
BEGIN:VEVENT
UID:33313266-3935-4962-a661-333030313130
DTSTAMP:20260422T212742Z
DESCRIPTION:Tutor: Arne Berrens
DTSTART:20230112T090000Z
DTEND:20230112T100000Z
LOCATION:Gruppenarbeitsraum (Raum 317 Geb. E2.4)
SUMMARY:Ana1: Sprechstunde
END:VEVENT
BEGIN:VEVENT
UID:62303366-3364-4132-b630-323438303936
DTSTAMP:20260422T212742Z
DESCRIPTION:Tutor: Moritz Speicher
DTSTART:20230112T110000Z
DTEND:20230112T120000Z
LOCATION:Gruppenarbeitsraum (Raum 317 Geb. E2.4)
SUMMARY:Ana1: Sprechstunde
END:VEVENT
BEGIN:VEVENT
UID:34333763-3135-4033-b731-353936663563
DTSTAMP:20260422T212742Z
DESCRIPTION:Tutor: Maximilian Leist
DTSTART:20230116T110000Z
DTEND:20230116T120000Z
LOCATION:Gruppenarbeitsraum (Raum 317 Geb. E2.4)
SUMMARY:Ana1: Sprechstunde
END:VEVENT
BEGIN:VEVENT
UID:37373632-3663-4532-b930-333733313030
DTSTAMP:20260422T212742Z
DESCRIPTION:Tutor: Maxmilian Tornes
DTSTART:20230116T120000Z
DTEND:20230116T130000Z
LOCATION:Gruppenarbeitsraum (Raum 317 Geb. E2.4)
SUMMARY:Ana1: Sprechstunde
END:VEVENT
BEGIN:VEVENT
UID:63613866-6134-4966-b039-303439626264
DTSTAMP:20260422T212742Z
DESCRIPTION:Tutor: Friedrich Günther
DTSTART:20230118T080000Z
DTEND:20230118T090000Z
LOCATION:Gruppenarbeitsraum (Raum 317 Geb. E2.4)
SUMMARY:Ana1: Sprechstunde
END:VEVENT
BEGIN:VEVENT
UID:62656139-3165-4338-a630-376432396232
DTSTAMP:20260422T212742Z
DESCRIPTION:Tutorin: Laura Fritz
DTSTART:20230118T110000Z
DTEND:20230118T120000Z
LOCATION:Gruppenarbeitsraum (Raum 317 Geb. E2.4)
SUMMARY:Ana1: Sprechstunde
END:VEVENT
BEGIN:VEVENT
UID:65393466-6633-4263-a539-323564303462
DTSTAMP:20260422T212742Z
DESCRIPTION:Tutor: Arne Berrens
DTSTART:20230119T090000Z
DTEND:20230119T100000Z
LOCATION:Gruppenarbeitsraum (Raum 317 Geb. E2.4)
SUMMARY:Ana1: Sprechstunde
END:VEVENT
BEGIN:VEVENT
UID:39663932-3032-4030-b330-366663646435
DTSTAMP:20260422T212742Z
DESCRIPTION:Tutor: Moritz Speicher
DTSTART:20230119T110000Z
DTEND:20230119T120000Z
LOCATION:Gruppenarbeitsraum (Raum 317 Geb. E2.4)
SUMMARY:Ana1: Sprechstunde
END:VEVENT
BEGIN:VEVENT
UID:38376634-6366-4464-b465-373737633131
DTSTAMP:20260422T212742Z
DESCRIPTION:Tutor: Maximilian Leist
DTSTART:20230123T110000Z
DTEND:20230123T120000Z
LOCATION:Gruppenarbeitsraum (Raum 317 Geb. E2.4)
SUMMARY:Ana1: Sprechstunde
END:VEVENT
BEGIN:VEVENT
UID:65623861-6437-4164-b036-626365316666
DTSTAMP:20260422T212742Z
DESCRIPTION:Tutor: Maxmilian Tornes
DTSTART:20230123T120000Z
DTEND:20230123T130000Z
LOCATION:Gruppenarbeitsraum (Raum 317 Geb. E2.4)
SUMMARY:Ana1: Sprechstunde
END:VEVENT
BEGIN:VEVENT
UID:37313635-3865-4136-b334-623866316564
DTSTAMP:20260422T212742Z
DESCRIPTION:
DTSTART:20230124T130000Z
DTEND:20230124T140000Z
LOCATION:Büro 3.21\, Gebäude E2 4
SUMMARY:Ana1: Sprechstunde des Dozenten
END:VEVENT
BEGIN:VEVENT
UID:39653937-3961-4532-b366-626664336239
DTSTAMP:20260422T212742Z
DESCRIPTION:Tutor: Friedrich Günther
DTSTART:20230125T080000Z
DTEND:20230125T090000Z
LOCATION:Gruppenarbeitsraum (Raum 317 Geb. E2.4)
SUMMARY:Ana1: Sprechstunde
END:VEVENT
BEGIN:VEVENT
UID:36336136-3739-4136-a162-373731373531
DTSTAMP:20260422T212742Z
DESCRIPTION:Tutorin: Laura Fritz
DTSTART:20230125T110000Z
DTEND:20230125T120000Z
LOCATION:Gruppenarbeitsraum (Raum 317 Geb. E2.4)
SUMMARY:Ana1: Sprechstunde
END:VEVENT
BEGIN:VEVENT
UID:61383236-3361-4264-a664-373937303139
DTSTAMP:20260422T212742Z
DESCRIPTION:Tutor: Arne Berrens
DTSTART:20230126T090000Z
DTEND:20230126T100000Z
LOCATION:Gruppenarbeitsraum (Raum 317 Geb. E2.4)
SUMMARY:Ana1: Sprechstunde
END:VEVENT
BEGIN:VEVENT
UID:63653864-6662-4264-b836-323537323864
DTSTAMP:20260422T212742Z
DESCRIPTION:Tutor: Moritz Speicher
DTSTART:20230126T110000Z
DTEND:20230126T120000Z
LOCATION:Gruppenarbeitsraum (Raum 317 Geb. E2.4)
SUMMARY:Ana1: Sprechstunde
END:VEVENT
BEGIN:VEVENT
UID:34346266-3263-4034-b065-356633623634
DTSTAMP:20260422T212742Z
DESCRIPTION:Tutor: Maximilian Leist
DTSTART:20230130T110000Z
DTEND:20230130T120000Z
LOCATION:Gruppenarbeitsraum (Raum 317 Geb. E2.4)
SUMMARY:Ana1: Sprechstunde
END:VEVENT
BEGIN:VEVENT
UID:61396261-3465-4866-a138-633762636565
DTSTAMP:20260422T212742Z
DESCRIPTION:Tutor: Maxmilian Tornes
DTSTART:20230130T120000Z
DTEND:20230130T130000Z
LOCATION:Gruppenarbeitsraum (Raum 317 Geb. E2.4)
SUMMARY:Ana1: Sprechstunde
END:VEVENT
BEGIN:VEVENT
UID:63653239-6266-4830-a339-613961653337
DTSTAMP:20260422T212742Z
DESCRIPTION:
DTSTART:20230131T130000Z
DTEND:20230131T140000Z
LOCATION:Büro 3.21\, Gebäude E2 4
SUMMARY:Ana1: Sprechstunde des Dozenten
END:VEVENT
BEGIN:VEVENT
UID:61613662-3261-4534-a634-386264616465
DTSTAMP:20260422T212742Z
DESCRIPTION:Tutor: Friedrich Günther
DTSTART:20230201T080000Z
DTEND:20230201T090000Z
LOCATION:Gruppenarbeitsraum (Raum 317 Geb. E2.4)
SUMMARY:Ana1: Sprechstunde
END:VEVENT
BEGIN:VEVENT
UID:34326133-6635-4566-b165-666265353533
DTSTAMP:20260422T212742Z
DESCRIPTION:Tutorin: Laura Fritz
DTSTART:20230201T110000Z
DTEND:20230201T120000Z
LOCATION:Gruppenarbeitsraum (Raum 317 Geb. E2.4)
SUMMARY:Ana1: Sprechstunde
END:VEVENT
BEGIN:VEVENT
UID:36613234-3531-4431-b835-636330343030
DTSTAMP:20260422T212742Z
DESCRIPTION:Tutor: Arne Berrens
DTSTART:20230202T090000Z
DTEND:20230202T100000Z
LOCATION:Gruppenarbeitsraum (Raum 317 Geb. E2.4)
SUMMARY:Ana1: Sprechstunde
END:VEVENT
BEGIN:VEVENT
UID:61633930-6635-4866-a637-653661646334
DTSTAMP:20260422T212742Z
DESCRIPTION:Tutor: Moritz Speicher
DTSTART:20230202T110000Z
DTEND:20230202T120000Z
LOCATION:Gruppenarbeitsraum (Raum 317 Geb. E2.4)
SUMMARY:Ana1: Sprechstunde
END:VEVENT
BEGIN:VEVENT
UID:38323133-3138-4539-a363-623532613931
DTSTAMP:20260422T212742Z
DESCRIPTION:Tutor: Maximilian Leist
DTSTART:20230206T110000Z
DTEND:20230206T120000Z
LOCATION:Gruppenarbeitsraum (Raum 317 Geb. E2.4)
SUMMARY:Ana1: Sprechstunde
END:VEVENT
BEGIN:VEVENT
UID:39663963-3166-4263-a434-356462373032
DTSTAMP:20260422T212742Z
DESCRIPTION:Tutor: Maxmilian Tornes
DTSTART:20230206T120000Z
DTEND:20230206T130000Z
LOCATION:Gruppenarbeitsraum (Raum 317 Geb. E2.4)
SUMMARY:Ana1: Sprechstunde
END:VEVENT
BEGIN:VEVENT
UID:65363763-3530-4630-b937-636332333734
DTSTAMP:20260422T212742Z
DESCRIPTION:
DTSTART:20230207T130000Z
DTEND:20230207T140000Z
LOCATION:Büro 3.21\, Gebäude E2 4
SUMMARY:Ana1: Sprechstunde des Dozenten
END:VEVENT
BEGIN:VEVENT
UID:65343733-3764-4161-b131-616666663638
DTSTAMP:20260422T212742Z
DESCRIPTION:Tutor: Friedrich Günther
DTSTART:20230208T080000Z
DTEND:20230208T090000Z
LOCATION:Gruppenarbeitsraum (Raum 317 Geb. E2.4)
SUMMARY:Ana1: Sprechstunde
END:VEVENT
BEGIN:VEVENT
UID:39643938-6131-4336-b862-323062386561
DTSTAMP:20260422T212742Z
DESCRIPTION:Tutorin: Laura Fritz
DTSTART:20230208T110000Z
DTEND:20230208T120000Z
LOCATION:Gruppenarbeitsraum (Raum 317 Geb. E2.4)
SUMMARY:Ana1: Sprechstunde
END:VEVENT
BEGIN:VEVENT
UID:39633539-3333-4330-b532-653234343839
DTSTAMP:20260422T212742Z
DESCRIPTION:Tutor: Arne Berrens
DTSTART:20230209T090000Z
DTEND:20230209T100000Z
LOCATION:Gruppenarbeitsraum (Raum 317 Geb. E2.4)
SUMMARY:Ana1: Sprechstunde
END:VEVENT
BEGIN:VEVENT
UID:63353465-3331-4931-b962-336432323564
DTSTAMP:20260422T212742Z
DESCRIPTION:Tutor: Moritz Speicher
DTSTART:20230209T110000Z
DTEND:20230209T120000Z
LOCATION:Gruppenarbeitsraum (Raum 317 Geb. E2.4)
SUMMARY:Ana1: Sprechstunde
END:VEVENT
BEGIN:VEVENT
UID:64313530-3537-4637-a636-666135626365
DTSTAMP:20260422T212742Z
DESCRIPTION:
DTSTART:20230214T130000Z
DTEND:20230214T140000Z
LOCATION:Gebäude E 2 4\, Raum 3.21
SUMMARY:Ana1: Sprechstunde des Dozenten
END:VEVENT
BEGIN:VEVENT
UID:65623634-3839-4263-a339-666535626332
DTSTAMP:20260422T212742Z
DESCRIPTION:
DTSTART:20230217T100000Z
DTEND:20230217T110000Z
LOCATION:Raum 305 Gebäude E2.4
SUMMARY:Ana1: Sprechstunde des Assistenten
END:VEVENT
BEGIN:VEVENT
UID:30323765-3264-4237-a531-336662663562
DTSTAMP:20260422T212742Z
DESCRIPTION:
DTSTART:20230220T130000Z
DTEND:20230220T140000Z
LOCATION:MS Teams
SUMMARY:Ana1: Sprechstunde des Dozenten
END:VEVENT
END:VCALENDAR
