BEGIN:VCALENDAR
VERSION:2.0
PRODID:-//134.96.226.213//NONSGML kigkonsult.se iCalcreator 2.41.92//
CALSCALE:GREGORIAN
METHOD:PUBLISH
UID:32663333-3735-4038-b964-316464633366
X-WR-CALNAME:Analysis 1 Calendar
X-WR-CALDESC:Termine der Vorlesung Analysis 1
X-WR-TIMEZONE:Europe/Berlin
BEGIN:VEVENT
UID:65393432-6565-4537-b062-346239316266
DTSTAMP:20260422T212724Z
DESCRIPTION:Tutor: Maxmilian Tornes
DTSTART:20221031T120000Z
DTEND:20221031T130000Z
LOCATION:Gruppenarbeitsraum (Raum 317 Geb. E2.4)
SUMMARY:Sprechstunde
END:VEVENT
BEGIN:VEVENT
UID:65343264-3336-4461-b766-383663626463
DTSTAMP:20260422T212724Z
DESCRIPTION:Tutorin: Laura Fritz
DTSTART:20221102T110000Z
DTEND:20221102T120000Z
LOCATION:Gruppenarbeitsraum (Raum 317 Geb. E2.4)
SUMMARY:Sprechstunde
END:VEVENT
BEGIN:VEVENT
UID:37346232-3936-4334-a438-333366383832
DTSTAMP:20260422T212724Z
DESCRIPTION:Tutor: Arne Berrens
DTSTART:20221103T090000Z
DTEND:20221103T100000Z
LOCATION:Gruppenarbeitsraum (Raum 317 Geb. E2.4)
SUMMARY:Sprechstunde
END:VEVENT
BEGIN:VEVENT
UID:32643833-3632-4363-a331-356566616433
DTSTAMP:20260422T212724Z
DESCRIPTION:Tutor: Maxmilian Tornes
DTSTART:20221107T120000Z
DTEND:20221107T130000Z
LOCATION:Gruppenarbeitsraum (Raum 317 Geb. E2.4)
SUMMARY:Sprechstunde
END:VEVENT
BEGIN:VEVENT
UID:66393135-6163-4265-b836-653232393162
DTSTAMP:20260422T212724Z
DESCRIPTION:
DTSTART:20221108T160000Z
DTEND:20221108T170000Z
LOCATION:Büro 3.21\, Gebäude E2 4
SUMMARY:Sprechstunde des Dozenten
END:VEVENT
BEGIN:VEVENT
UID:65333664-3538-4433-b638-383334336134
DTSTAMP:20260422T212724Z
DESCRIPTION:Tutorin: Laura Fritz
DTSTART:20221109T110000Z
DTEND:20221109T120000Z
LOCATION:Gruppenarbeitsraum (Raum 317 Geb. E2.4)
SUMMARY:Sprechstunde
END:VEVENT
BEGIN:VEVENT
UID:66343763-3562-4435-a634-356331323138
DTSTAMP:20260422T212724Z
DESCRIPTION:Tutor: Arne Berrens
DTSTART:20221110T090000Z
DTEND:20221110T100000Z
LOCATION:Gruppenarbeitsraum (Raum 317 Geb. E2.4)
SUMMARY:Sprechstunde
END:VEVENT
BEGIN:VEVENT
UID:36383434-3537-4439-a431-326436383463
DTSTAMP:20260422T212724Z
DESCRIPTION:Tutor: Maximilian Leist
DTSTART:20221114T110000Z
DTEND:20221114T120000Z
LOCATION:Gruppenarbeitsraum (Raum 317 Geb. E2.4)
SUMMARY:Sprechstunde
END:VEVENT
BEGIN:VEVENT
UID:34346432-6662-4938-b734-343338666533
DTSTAMP:20260422T212724Z
DESCRIPTION:Tutor: Maxmilian Tornes
DTSTART:20221114T120000Z
DTEND:20221114T130000Z
LOCATION:Gruppenarbeitsraum (Raum 317 Geb. E2.4)
SUMMARY:Sprechstunde
END:VEVENT
BEGIN:VEVENT
UID:39653539-3534-4661-b639-313530383965
DTSTAMP:20260422T212724Z
DESCRIPTION:
DTSTART:20221115T130000Z
DTEND:20221115T140000Z
LOCATION:Büro 3.21\, Gebäude E2 4
SUMMARY:Sprechstunde des Dozenten
END:VEVENT
BEGIN:VEVENT
UID:36616332-6437-4461-b031-373830396465
DTSTAMP:20260422T212724Z
DESCRIPTION:Tutor: Friedrich Günther
DTSTART:20221116T080000Z
DTEND:20221116T090000Z
LOCATION:Gruppenarbeitsraum (Raum 317 Geb. E2.4)
SUMMARY:Sprechstunde
END:VEVENT
BEGIN:VEVENT
UID:32613961-3635-4664-b333-633438383831
DTSTAMP:20260422T212724Z
DESCRIPTION:Tutorin: Laura Fritz
DTSTART:20221116T110000Z
DTEND:20221116T120000Z
LOCATION:Gruppenarbeitsraum (Raum 317 Geb. E2.4)
SUMMARY:Sprechstunde
END:VEVENT
BEGIN:VEVENT
UID:61646336-6230-4662-a139-643864373537
DTSTAMP:20260422T212724Z
DESCRIPTION:Tutor: Arne Berrens
DTSTART:20221117T090000Z
DTEND:20221117T100000Z
LOCATION:Gruppenarbeitsraum (Raum 317 Geb. E2.4)
SUMMARY:Sprechstunde
END:VEVENT
BEGIN:VEVENT
UID:61313863-3637-4230-b135-613266336462
DTSTAMP:20260422T212724Z
DESCRIPTION:Tutor: Moritz Speicher
DTSTART:20221117T110000Z
DTEND:20221117T120000Z
LOCATION:Gruppenarbeitsraum (Raum 317 Geb. E2.4)
SUMMARY:Sprechstunde
END:VEVENT
BEGIN:VEVENT
UID:38343535-3333-4238-a635-376434626566
DTSTAMP:20260422T212724Z
DESCRIPTION:Tutor: Maximilian Leist
DTSTART:20221121T110000Z
DTEND:20221121T120000Z
LOCATION:Gruppenarbeitsraum (Raum 317 Geb. E2.4)
SUMMARY:Sprechstunde
END:VEVENT
BEGIN:VEVENT
UID:33383836-3336-4637-a231-366136303561
DTSTAMP:20260422T212724Z
DESCRIPTION:Tutor: Maxmilian Tornes
DTSTART:20221121T120000Z
DTEND:20221121T130000Z
LOCATION:Gruppenarbeitsraum (Raum 317 Geb. E2.4)
SUMMARY:Sprechstunde
END:VEVENT
BEGIN:VEVENT
UID:34343238-6564-4432-b963-633539616362
DTSTAMP:20260422T212724Z
DESCRIPTION:
DTSTART:20221122T130000Z
DTEND:20221122T140000Z
LOCATION:Büro 3.21\, Gebäude E2 4
SUMMARY:Sprechstunde des Dozenten
END:VEVENT
BEGIN:VEVENT
UID:30653465-6265-4435-b230-393836623033
DTSTAMP:20260422T212724Z
DESCRIPTION:Tutor: Friedrich Günther
DTSTART:20221123T080000Z
DTEND:20221123T090000Z
LOCATION:Gruppenarbeitsraum (Raum 317 Geb. E2.4)
SUMMARY:Sprechstunde
END:VEVENT
BEGIN:VEVENT
UID:32623762-3139-4338-b939-633237306231
DTSTAMP:20260422T212724Z
DESCRIPTION:Tutorin: Laura Fritz
DTSTART:20221123T110000Z
DTEND:20221123T120000Z
LOCATION:Gruppenarbeitsraum (Raum 317 Geb. E2.4)
SUMMARY:Sprechstunde
END:VEVENT
BEGIN:VEVENT
UID:35613537-3261-4134-b434-376436303739
DTSTAMP:20260422T212724Z
DESCRIPTION:Tutor: Arne Berrens
DTSTART:20221124T090000Z
DTEND:20221124T100000Z
LOCATION:Gruppenarbeitsraum (Raum 317 Geb. E2.4)
SUMMARY:Sprechstunde
END:VEVENT
BEGIN:VEVENT
UID:63393262-3033-4534-b062-393838633835
DTSTAMP:20260422T212724Z
DESCRIPTION:Tutor: Moritz Speicher
DTSTART:20221124T110000Z
DTEND:20221124T120000Z
LOCATION:Gruppenarbeitsraum (Raum 317 Geb. E2.4)
SUMMARY:Sprechstunde
END:VEVENT
BEGIN:VEVENT
UID:63613761-3336-4432-b064-666536633162
DTSTAMP:20260422T212724Z
DESCRIPTION:Tutor: Maximilian Leist
DTSTART:20221128T110000Z
DTEND:20221128T120000Z
LOCATION:Gruppenarbeitsraum (Raum 317 Geb. E2.4)
SUMMARY:Sprechstunde
END:VEVENT
BEGIN:VEVENT
UID:63376232-3239-4230-b766-376630616233
DTSTAMP:20260422T212724Z
DESCRIPTION:Tutor: Maxmilian Tornes
DTSTART:20221128T120000Z
DTEND:20221128T130000Z
LOCATION:Gruppenarbeitsraum (Raum 317 Geb. E2.4)
SUMMARY:Sprechstunde
END:VEVENT
BEGIN:VEVENT
UID:63393630-3037-4665-b964-326161346432
DTSTAMP:20260422T212724Z
DESCRIPTION:
DTSTART:20221129T130000Z
DTEND:20221129T140000Z
LOCATION:Büro 3.21\, Gebäude E2 4
SUMMARY:Sprechstunde des Dozenten
END:VEVENT
BEGIN:VEVENT
UID:33353363-3636-4363-b839-373138353132
DTSTAMP:20260422T212724Z
DESCRIPTION:Tutor: Friedrich Günther
DTSTART:20221130T080000Z
DTEND:20221130T090000Z
LOCATION:Gruppenarbeitsraum (Raum 317 Geb. E2.4)
SUMMARY:Sprechstunde
END:VEVENT
BEGIN:VEVENT
UID:36343165-6336-4537-a663-366633333331
DTSTAMP:20260422T212724Z
DESCRIPTION:Tutorin: Laura Fritz
DTSTART:20221130T110000Z
DTEND:20221130T120000Z
LOCATION:Gruppenarbeitsraum (Raum 317 Geb. E2.4)
SUMMARY:Sprechstunde
END:VEVENT
BEGIN:VEVENT
UID:39646163-3566-4364-b865-313731643430
DTSTAMP:20260422T212724Z
DESCRIPTION:Tutor: Arne Berrens
DTSTART:20221201T090000Z
DTEND:20221201T100000Z
LOCATION:Gruppenarbeitsraum (Raum 317 Geb. E2.4)
SUMMARY:Sprechstunde
END:VEVENT
BEGIN:VEVENT
UID:63323362-3130-4137-b862-643739633530
DTSTAMP:20260422T212724Z
DESCRIPTION:Tutor: Moritz Speicher
DTSTART:20221201T110000Z
DTEND:20221201T120000Z
LOCATION:Gruppenarbeitsraum (Raum 317 Geb. E2.4)
SUMMARY:Sprechstunde
END:VEVENT
BEGIN:VEVENT
UID:30343935-3364-4762-a638-343434326465
DTSTAMP:20260422T212724Z
DESCRIPTION:Tutor: Maximilian Leist
DTSTART:20221205T110000Z
DTEND:20221205T120000Z
LOCATION:Gruppenarbeitsraum (Raum 317 Geb. E2.4)
SUMMARY:Sprechstunde
END:VEVENT
BEGIN:VEVENT
UID:65383030-3036-4266-b638-323164626339
DTSTAMP:20260422T212724Z
DESCRIPTION:Tutor: Maxmilian Tornes
DTSTART:20221205T120000Z
DTEND:20221205T130000Z
LOCATION:Gruppenarbeitsraum (Raum 317 Geb. E2.4)
SUMMARY:Sprechstunde
END:VEVENT
BEGIN:VEVENT
UID:34336562-3065-4531-a263-376339373763
DTSTAMP:20260422T212724Z
DESCRIPTION:
DTSTART:20221206T130000Z
DTEND:20221206T140000Z
LOCATION:Büro 3.21\, Gebäude E2 4
SUMMARY:Sprechstunde des Dozenten
END:VEVENT
BEGIN:VEVENT
UID:38373664-3364-4637-b665-656262656535
DTSTAMP:20260422T212724Z
DESCRIPTION:Tutor: Friedrich Günther
DTSTART:20221207T080000Z
DTEND:20221207T090000Z
LOCATION:Gruppenarbeitsraum (Raum 317 Geb. E2.4)
SUMMARY:Sprechstunde
END:VEVENT
BEGIN:VEVENT
UID:39643637-6466-4431-b135-386162323536
DTSTAMP:20260422T212724Z
DESCRIPTION:Tutorin: Laura Fritz
DTSTART:20221207T110000Z
DTEND:20221207T120000Z
LOCATION:Gruppenarbeitsraum (Raum 317 Geb. E2.4)
SUMMARY:Sprechstunde
END:VEVENT
BEGIN:VEVENT
UID:36666339-3633-4433-b239-643066323938
DTSTAMP:20260422T212724Z
DESCRIPTION:Tutor: Arne Berrens
DTSTART:20221208T090000Z
DTEND:20221208T100000Z
LOCATION:Gruppenarbeitsraum (Raum 317 Geb. E2.4)
SUMMARY:Sprechstunde
END:VEVENT
BEGIN:VEVENT
UID:32316364-3238-4530-a135-333836316136
DTSTAMP:20260422T212724Z
DESCRIPTION:Tutor: Moritz Speicher
DTSTART:20221208T110000Z
DTEND:20221208T120000Z
LOCATION:Gruppenarbeitsraum (Raum 317 Geb. E2.4)
SUMMARY:Sprechstunde
END:VEVENT
BEGIN:VEVENT
UID:32313039-6333-4662-b737-336433353862
DTSTAMP:20260422T212724Z
DESCRIPTION:Tutor: Maximilian Leist
DTSTART:20221212T110000Z
DTEND:20221212T120000Z
LOCATION:Gruppenarbeitsraum (Raum 317 Geb. E2.4)
SUMMARY:Sprechstunde
END:VEVENT
BEGIN:VEVENT
UID:39343531-3733-4837-b739-666639303235
DTSTAMP:20260422T212724Z
DESCRIPTION:Tutor: Maxmilian Tornes
DTSTART:20221212T120000Z
DTEND:20221212T130000Z
LOCATION:Gruppenarbeitsraum (Raum 317 Geb. E2.4)
SUMMARY:Sprechstunde
END:VEVENT
BEGIN:VEVENT
UID:31343830-3934-4434-a430-343034353833
DTSTAMP:20260422T212724Z
DESCRIPTION:
DTSTART:20221213T130000Z
DTEND:20221213T140000Z
LOCATION:Büro 3.21\, Gebäude E2 4
SUMMARY:Sprechstunde des Dozenten
END:VEVENT
BEGIN:VEVENT
UID:62363262-3563-4964-b362-616363386530
DTSTAMP:20260422T212724Z
DESCRIPTION:Tutor: Friedrich Günther
DTSTART:20221214T080000Z
DTEND:20221214T090000Z
LOCATION:Gruppenarbeitsraum (Raum 317 Geb. E2.4)
SUMMARY:Sprechstunde
END:VEVENT
BEGIN:VEVENT
UID:63386162-6164-4530-a264-376466653539
DTSTAMP:20260422T212724Z
DESCRIPTION:Tutorin: Laura Fritz
DTSTART:20221214T110000Z
DTEND:20221214T120000Z
LOCATION:Gruppenarbeitsraum (Raum 317 Geb. E2.4)
SUMMARY:Sprechstunde
END:VEVENT
BEGIN:VEVENT
UID:31636637-6261-4361-a236-643634356336
DTSTAMP:20260422T212724Z
DESCRIPTION:Tutor: Arne Berrens
DTSTART:20221215T090000Z
DTEND:20221215T100000Z
LOCATION:Gruppenarbeitsraum (Raum 317 Geb. E2.4)
SUMMARY:Sprechstunde
END:VEVENT
BEGIN:VEVENT
UID:37386531-6266-4862-b131-353232383731
DTSTAMP:20260422T212724Z
DESCRIPTION:Tutor: Moritz Speicher
DTSTART:20221215T110000Z
DTEND:20221215T120000Z
LOCATION:Gruppenarbeitsraum (Raum 317 Geb. E2.4)
SUMMARY:Sprechstunde
END:VEVENT
BEGIN:VEVENT
UID:64346436-3763-4638-a464-393637353763
DTSTAMP:20260422T212724Z
DESCRIPTION:Tutor: Maximilian Leist
DTSTART:20221219T110000Z
DTEND:20221219T120000Z
LOCATION:MS Teams (online)
SUMMARY:Sprechstunde
END:VEVENT
BEGIN:VEVENT
UID:33626130-3736-4437-a232-326439323230
DTSTAMP:20260422T212724Z
DESCRIPTION:Tutor: Maxmilian Tornes
DTSTART:20221219T120000Z
DTEND:20221219T130000Z
LOCATION:MS Teams (online)
SUMMARY:Sprechstunde
END:VEVENT
BEGIN:VEVENT
UID:30613432-6431-4030-b862-633634663662
DTSTAMP:20260422T212724Z
DESCRIPTION:
DTSTART:20221220T130000Z
DTEND:20221220T140000Z
LOCATION:MS Teams (online)
SUMMARY:Sprechstunde des Dozenten
END:VEVENT
BEGIN:VEVENT
UID:30383466-3563-4730-b737-623833626136
DTSTAMP:20260422T212724Z
DESCRIPTION:Tutor: Friedrich Günther
DTSTART:20221221T080000Z
DTEND:20221221T090000Z
LOCATION:MS Teams (online)
SUMMARY:Sprechstunde
END:VEVENT
BEGIN:VEVENT
UID:38386466-3165-4666-a533-333764313161
DTSTAMP:20260422T212724Z
DESCRIPTION:Tutor: Friedrich Günther
DTSTART:20230104T080000Z
DTEND:20230104T090000Z
LOCATION:MS Teams (online)
SUMMARY:Sprechstunde
END:VEVENT
BEGIN:VEVENT
UID:36623164-3636-4262-b631-333330336631
DTSTAMP:20260422T212724Z
DESCRIPTION:Tutorin: Laura Fritz
DTSTART:20230104T110000Z
DTEND:20230104T120000Z
LOCATION:MS Teams (online)
SUMMARY:Sprechstunde
END:VEVENT
BEGIN:VEVENT
UID:33616364-6163-4966-b265-396335333964
DTSTAMP:20260422T212724Z
DESCRIPTION:Tutor: Arne Berrens
DTSTART:20230105T090000Z
DTEND:20230105T100000Z
LOCATION:MS Teams (online)
SUMMARY:Sprechstunde
END:VEVENT
BEGIN:VEVENT
UID:35666331-6632-4139-b164-643130383066
DTSTAMP:20260422T212724Z
DESCRIPTION:Tutor: Moritz Speicher
DTSTART:20230105T110000Z
DTEND:20230105T120000Z
LOCATION:MS Teams (online)
SUMMARY:Sprechstunde
END:VEVENT
BEGIN:VEVENT
UID:37393166-6164-4066-b738-306433376130
DTSTAMP:20260422T212724Z
DESCRIPTION:Tutor: Maximilian Leist
DTSTART:20230109T110000Z
DTEND:20230109T120000Z
LOCATION:Gruppenarbeitsraum (Raum 317 Geb. E2.4)
SUMMARY:Sprechstunde
END:VEVENT
BEGIN:VEVENT
UID:63353734-3238-4139-a461-373833616335
DTSTAMP:20260422T212724Z
DESCRIPTION:Tutor: Maxmilian Tornes
DTSTART:20230109T120000Z
DTEND:20230109T130000Z
LOCATION:Gruppenarbeitsraum (Raum 317 Geb. E2.4)
SUMMARY:Sprechstunde
END:VEVENT
BEGIN:VEVENT
UID:66653161-3062-4261-a666-666664663039
DTSTAMP:20260422T212724Z
DESCRIPTION:
DTSTART:20230110T130000Z
DTEND:20230110T140000Z
LOCATION:Büro 3.21\, Gebäude E2 4
SUMMARY:Sprechstunde des Dozenten
END:VEVENT
BEGIN:VEVENT
UID:31616663-6662-4363-b335-653963643466
DTSTAMP:20260422T212724Z
DESCRIPTION:Tutor: Friedrich Günther
DTSTART:20230111T080000Z
DTEND:20230111T090000Z
LOCATION:Gruppenarbeitsraum (Raum 317 Geb. E2.4)
SUMMARY:Sprechstunde
END:VEVENT
BEGIN:VEVENT
UID:34366639-3563-4361-a439-626138353261
DTSTAMP:20260422T212724Z
DESCRIPTION:Tutorin: Laura Fritz
DTSTART:20230111T110000Z
DTEND:20230111T120000Z
LOCATION:Gruppenarbeitsraum (Raum 317 Geb. E2.4)
SUMMARY:Sprechstunde
END:VEVENT
BEGIN:VEVENT
UID:30616334-6338-4534-a365-366535316531
DTSTAMP:20260422T212724Z
DESCRIPTION:Tutor: Arne Berrens
DTSTART:20230112T090000Z
DTEND:20230112T100000Z
LOCATION:Gruppenarbeitsraum (Raum 317 Geb. E2.4)
SUMMARY:Sprechstunde
END:VEVENT
BEGIN:VEVENT
UID:65616165-3535-4134-a561-363631353936
DTSTAMP:20260422T212724Z
DESCRIPTION:Tutor: Moritz Speicher
DTSTART:20230112T110000Z
DTEND:20230112T120000Z
LOCATION:Gruppenarbeitsraum (Raum 317 Geb. E2.4)
SUMMARY:Sprechstunde
END:VEVENT
BEGIN:VEVENT
UID:33643162-3831-4936-a461-393361666133
DTSTAMP:20260422T212724Z
DESCRIPTION:Tutor: Maximilian Leist
DTSTART:20230116T110000Z
DTEND:20230116T120000Z
LOCATION:Gruppenarbeitsraum (Raum 317 Geb. E2.4)
SUMMARY:Sprechstunde
END:VEVENT
BEGIN:VEVENT
UID:63656666-3638-4864-b562-313461353033
DTSTAMP:20260422T212724Z
DESCRIPTION:Tutor: Maxmilian Tornes
DTSTART:20230116T120000Z
DTEND:20230116T130000Z
LOCATION:Gruppenarbeitsraum (Raum 317 Geb. E2.4)
SUMMARY:Sprechstunde
END:VEVENT
BEGIN:VEVENT
UID:38386161-3539-4231-b430-333137336264
DTSTAMP:20260422T212724Z
DESCRIPTION:Tutor: Friedrich Günther
DTSTART:20230118T080000Z
DTEND:20230118T090000Z
LOCATION:Gruppenarbeitsraum (Raum 317 Geb. E2.4)
SUMMARY:Sprechstunde
END:VEVENT
BEGIN:VEVENT
UID:65306333-6533-4436-b139-633535313135
DTSTAMP:20260422T212724Z
DESCRIPTION:Tutorin: Laura Fritz
DTSTART:20230118T110000Z
DTEND:20230118T120000Z
LOCATION:Gruppenarbeitsraum (Raum 317 Geb. E2.4)
SUMMARY:Sprechstunde
END:VEVENT
BEGIN:VEVENT
UID:63653732-6535-4638-b331-623665623766
DTSTAMP:20260422T212724Z
DESCRIPTION:Tutor: Arne Berrens
DTSTART:20230119T090000Z
DTEND:20230119T100000Z
LOCATION:Gruppenarbeitsraum (Raum 317 Geb. E2.4)
SUMMARY:Sprechstunde
END:VEVENT
BEGIN:VEVENT
UID:31343732-3063-4965-b062-613739346636
DTSTAMP:20260422T212724Z
DESCRIPTION:Tutor: Moritz Speicher
DTSTART:20230119T110000Z
DTEND:20230119T120000Z
LOCATION:Gruppenarbeitsraum (Raum 317 Geb. E2.4)
SUMMARY:Sprechstunde
END:VEVENT
BEGIN:VEVENT
UID:61633633-3035-4531-b837-396663623038
DTSTAMP:20260422T212724Z
DESCRIPTION:Tutor: Maximilian Leist
DTSTART:20230123T110000Z
DTEND:20230123T120000Z
LOCATION:Gruppenarbeitsraum (Raum 317 Geb. E2.4)
SUMMARY:Sprechstunde
END:VEVENT
BEGIN:VEVENT
UID:39356265-6264-4839-b966-333163323338
DTSTAMP:20260422T212724Z
DESCRIPTION:Tutor: Maxmilian Tornes
DTSTART:20230123T120000Z
DTEND:20230123T130000Z
LOCATION:Gruppenarbeitsraum (Raum 317 Geb. E2.4)
SUMMARY:Sprechstunde
END:VEVENT
BEGIN:VEVENT
UID:61313036-3739-4831-a165-353330393766
DTSTAMP:20260422T212724Z
DESCRIPTION:
DTSTART:20230124T130000Z
DTEND:20230124T140000Z
LOCATION:Büro 3.21\, Gebäude E2 4
SUMMARY:Sprechstunde des Dozenten
END:VEVENT
BEGIN:VEVENT
UID:62343864-6562-4262-a236-366632343134
DTSTAMP:20260422T212724Z
DESCRIPTION:Tutor: Friedrich Günther
DTSTART:20230125T080000Z
DTEND:20230125T090000Z
LOCATION:Gruppenarbeitsraum (Raum 317 Geb. E2.4)
SUMMARY:Sprechstunde
END:VEVENT
BEGIN:VEVENT
UID:63633031-3137-4563-b331-623634653461
DTSTAMP:20260422T212724Z
DESCRIPTION:Tutorin: Laura Fritz
DTSTART:20230125T110000Z
DTEND:20230125T120000Z
LOCATION:Gruppenarbeitsraum (Raum 317 Geb. E2.4)
SUMMARY:Sprechstunde
END:VEVENT
BEGIN:VEVENT
UID:37386439-6566-4833-b163-303666313065
DTSTAMP:20260422T212724Z
DESCRIPTION:Tutor: Arne Berrens
DTSTART:20230126T090000Z
DTEND:20230126T100000Z
LOCATION:Gruppenarbeitsraum (Raum 317 Geb. E2.4)
SUMMARY:Sprechstunde
END:VEVENT
BEGIN:VEVENT
UID:33383231-3161-4031-a634-353363643363
DTSTAMP:20260422T212724Z
DESCRIPTION:Tutor: Moritz Speicher
DTSTART:20230126T110000Z
DTEND:20230126T120000Z
LOCATION:Gruppenarbeitsraum (Raum 317 Geb. E2.4)
SUMMARY:Sprechstunde
END:VEVENT
BEGIN:VEVENT
UID:35623339-3339-4632-b639-653062373038
DTSTAMP:20260422T212724Z
DESCRIPTION:Tutor: Maximilian Leist
DTSTART:20230130T110000Z
DTEND:20230130T120000Z
LOCATION:Gruppenarbeitsraum (Raum 317 Geb. E2.4)
SUMMARY:Sprechstunde
END:VEVENT
BEGIN:VEVENT
UID:37653535-3662-4664-b434-323663306665
DTSTAMP:20260422T212724Z
DESCRIPTION:Tutor: Maxmilian Tornes
DTSTART:20230130T120000Z
DTEND:20230130T130000Z
LOCATION:Gruppenarbeitsraum (Raum 317 Geb. E2.4)
SUMMARY:Sprechstunde
END:VEVENT
BEGIN:VEVENT
UID:61383166-6364-4530-b333-623039343138
DTSTAMP:20260422T212724Z
DESCRIPTION:
DTSTART:20230131T130000Z
DTEND:20230131T140000Z
LOCATION:Büro 3.21\, Gebäude E2 4
SUMMARY:Sprechstunde des Dozenten
END:VEVENT
BEGIN:VEVENT
UID:31316262-6537-4033-a539-366531373838
DTSTAMP:20260422T212724Z
DESCRIPTION:Tutor: Friedrich Günther
DTSTART:20230201T080000Z
DTEND:20230201T090000Z
LOCATION:Gruppenarbeitsraum (Raum 317 Geb. E2.4)
SUMMARY:Sprechstunde
END:VEVENT
BEGIN:VEVENT
UID:63663533-6435-4130-b134-323331303662
DTSTAMP:20260422T212724Z
DESCRIPTION:Tutorin: Laura Fritz
DTSTART:20230201T110000Z
DTEND:20230201T120000Z
LOCATION:Gruppenarbeitsraum (Raum 317 Geb. E2.4)
SUMMARY:Sprechstunde
END:VEVENT
BEGIN:VEVENT
UID:35636233-6136-4962-a232-613231613561
DTSTAMP:20260422T212724Z
DESCRIPTION:Tutor: Arne Berrens
DTSTART:20230202T090000Z
DTEND:20230202T100000Z
LOCATION:Gruppenarbeitsraum (Raum 317 Geb. E2.4)
SUMMARY:Sprechstunde
END:VEVENT
BEGIN:VEVENT
UID:62323161-3663-4530-b739-633935396533
DTSTAMP:20260422T212724Z
DESCRIPTION:Tutor: Moritz Speicher
DTSTART:20230202T110000Z
DTEND:20230202T120000Z
LOCATION:Gruppenarbeitsraum (Raum 317 Geb. E2.4)
SUMMARY:Sprechstunde
END:VEVENT
BEGIN:VEVENT
UID:65623063-6538-4233-b234-333465376436
DTSTAMP:20260422T212724Z
DESCRIPTION:Tutor: Maximilian Leist
DTSTART:20230206T110000Z
DTEND:20230206T120000Z
LOCATION:Gruppenarbeitsraum (Raum 317 Geb. E2.4)
SUMMARY:Sprechstunde
END:VEVENT
BEGIN:VEVENT
UID:31343132-3739-4430-a561-653664393466
DTSTAMP:20260422T212724Z
DESCRIPTION:Tutor: Maxmilian Tornes
DTSTART:20230206T120000Z
DTEND:20230206T130000Z
LOCATION:Gruppenarbeitsraum (Raum 317 Geb. E2.4)
SUMMARY:Sprechstunde
END:VEVENT
BEGIN:VEVENT
UID:35363531-3462-4339-a636-373330623363
DTSTAMP:20260422T212724Z
DESCRIPTION:
DTSTART:20230207T130000Z
DTEND:20230207T140000Z
LOCATION:Büro 3.21\, Gebäude E2 4
SUMMARY:Sprechstunde des Dozenten
END:VEVENT
BEGIN:VEVENT
UID:66393065-3763-4133-a431-313761366335
DTSTAMP:20260422T212724Z
DESCRIPTION:Tutor: Friedrich Günther
DTSTART:20230208T080000Z
DTEND:20230208T090000Z
LOCATION:Gruppenarbeitsraum (Raum 317 Geb. E2.4)
SUMMARY:Sprechstunde
END:VEVENT
BEGIN:VEVENT
UID:61353935-6337-4132-b466-306463356661
DTSTAMP:20260422T212724Z
DESCRIPTION:Tutorin: Laura Fritz
DTSTART:20230208T110000Z
DTEND:20230208T120000Z
LOCATION:Gruppenarbeitsraum (Raum 317 Geb. E2.4)
SUMMARY:Sprechstunde
END:VEVENT
BEGIN:VEVENT
UID:63653331-6239-4061-a239-356635656665
DTSTAMP:20260422T212724Z
DESCRIPTION:Tutor: Arne Berrens
DTSTART:20230209T090000Z
DTEND:20230209T100000Z
LOCATION:Gruppenarbeitsraum (Raum 317 Geb. E2.4)
SUMMARY:Sprechstunde
END:VEVENT
BEGIN:VEVENT
UID:38633630-3165-4366-b633-323934323035
DTSTAMP:20260422T212724Z
DESCRIPTION:Tutor: Moritz Speicher
DTSTART:20230209T110000Z
DTEND:20230209T120000Z
LOCATION:Gruppenarbeitsraum (Raum 317 Geb. E2.4)
SUMMARY:Sprechstunde
END:VEVENT
BEGIN:VEVENT
UID:30373032-3139-4261-b865-303439303733
DTSTAMP:20260422T212724Z
DESCRIPTION:
DTSTART:20230214T130000Z
DTEND:20230214T140000Z
LOCATION:Gebäude E 2 4\, Raum 3.21
SUMMARY:Sprechstunde des Dozenten
END:VEVENT
BEGIN:VEVENT
UID:65353237-6236-4262-a636-316365353262
DTSTAMP:20260422T212724Z
DESCRIPTION:
DTSTART:20230217T100000Z
DTEND:20230217T110000Z
LOCATION:Raum 305 Gebäude E2.4
SUMMARY:Sprechstunde des Assistenten
END:VEVENT
BEGIN:VEVENT
UID:66373466-3562-4561-a134-303063306330
DTSTAMP:20260422T212724Z
DESCRIPTION:
DTSTART:20230220T130000Z
DTEND:20230220T140000Z
LOCATION:MS Teams
SUMMARY:Sprechstunde des Dozenten
END:VEVENT
END:VCALENDAR
