BEGIN:VCALENDAR
VERSION:2.0
PRODID:-//134.96.226.213//NONSGML kigkonsult.se iCalcreator 2.41.92//
CALSCALE:GREGORIAN
METHOD:PUBLISH
UID:65346361-6231-4230-a139-353633386331
X-WR-CALNAME:Analysis 1 Calendar
X-WR-CALDESC:Termine der Vorlesung Analysis 1
X-WR-TIMEZONE:Europe/Berlin
BEGIN:VEVENT
UID:30613738-3765-4262-a131-643135303630
DTSTAMP:20260422T212724Z
DESCRIPTION:Tutorin: Laura Fritz
DTSTART:20221107T073000Z
DTEND:20221107T090000Z
LOCATION:Seminarraum 6 (Geb. E2.4)
SUMMARY:Ana1: Tutorium 1
END:VEVENT
BEGIN:VEVENT
UID:65656263-3564-4433-a234-646561656134
DTSTAMP:20260422T212724Z
DESCRIPTION:Tutor: Arne Berrens
DTSTART:20221107T111500Z
DTEND:20221107T124500Z
LOCATION:Seminarraum 6 (Geb. E2.4)
SUMMARY:Ana1: Tutorium 2
END:VEVENT
BEGIN:VEVENT
UID:33363832-3330-4332-a234-343639613265
DTSTAMP:20260422T212724Z
DESCRIPTION:Tutor: Maximilian Leist
DTSTART:20221108T111500Z
DTEND:20221108T124500Z
LOCATION:Hörsaal 1 (Geb. E2.5)
SUMMARY:Ana1: Tutorium 3
END:VEVENT
BEGIN:VEVENT
UID:66396464-3639-4133-a236-356139616230
DTSTAMP:20260422T212724Z
DESCRIPTION:Tutor: Moritz Speicher
DTSTART:20221109T111500Z
DTEND:20221109T124500Z
LOCATION:Seminarraum 5 (Geb. E2.4)
SUMMARY:Ana1: Tutorium 4
END:VEVENT
BEGIN:VEVENT
UID:39303331-6638-4236-b530-333039313933
DTSTAMP:20260422T212724Z
DESCRIPTION:Tutor: Maximilian Tornes
DTSTART:20221109T131500Z
DTEND:20221109T144500Z
LOCATION:Hörsaal 4 (Geb. E2.4)
SUMMARY:Ana1: Tutorium 5
END:VEVENT
BEGIN:VEVENT
UID:38656366-3737-4236-b836-656431643063
DTSTAMP:20260422T212724Z
DESCRIPTION:Tutor: Friedrich Günther
DTSTART:20221110T151500Z
DTEND:20221110T164500Z
LOCATION:Seminarraum 10 (Geb. E2.4)
SUMMARY:Ana1: Tutorium 6
END:VEVENT
BEGIN:VEVENT
UID:33626231-3633-4139-b331-353331343632
DTSTAMP:20260422T212724Z
DESCRIPTION:Tutor: Moritz Speicher
DTSTART:20221111T073000Z
DTEND:20221111T084500Z
LOCATION:Seminarraum 10 (Geb. E2.4)
SUMMARY:Ana1: Tutorium 7
END:VEVENT
BEGIN:VEVENT
UID:64613035-3162-4666-a138-326134653432
DTSTAMP:20260422T212724Z
DESCRIPTION:Tutorin: Laura Fritz
DTSTART:20221114T073000Z
DTEND:20221114T090000Z
LOCATION:Seminarraum 6 (Geb. E2.4)
SUMMARY:Ana1: Tutorium 1
END:VEVENT
BEGIN:VEVENT
UID:39623365-3933-4561-b838-393431663461
DTSTAMP:20260422T212724Z
DESCRIPTION:Tutor: Arne Berrens
DTSTART:20221114T111500Z
DTEND:20221114T124500Z
LOCATION:Seminarraum 6 (Geb. E2.4)
SUMMARY:Ana1: Tutorium 2
END:VEVENT
BEGIN:VEVENT
UID:66336366-6366-4239-a234-393636373132
DTSTAMP:20260422T212724Z
DESCRIPTION:Tutor: Maximilian Leist
DTSTART:20221115T111500Z
DTEND:20221115T124500Z
LOCATION:Hörsaal 1 (Geb. E2.5)
SUMMARY:Ana1: Tutorium 3
END:VEVENT
BEGIN:VEVENT
UID:35643262-3562-4961-a539-353038373161
DTSTAMP:20260422T212724Z
DESCRIPTION:Tutor: Moritz Speicher
DTSTART:20221116T111500Z
DTEND:20221116T124500Z
LOCATION:Seminarraum 5 (Geb. E2.4)
SUMMARY:Ana1: Tutorium 4
END:VEVENT
BEGIN:VEVENT
UID:37366563-6662-4337-a663-376662356465
DTSTAMP:20260422T212724Z
DESCRIPTION:Tutor: Maximilian Tornes
DTSTART:20221116T131500Z
DTEND:20221116T144500Z
LOCATION:Hörsaal 4 (Geb. E2.4)
SUMMARY:Ana1: Tutorium 5
END:VEVENT
BEGIN:VEVENT
UID:31656533-3835-4337-a230-633332636166
DTSTAMP:20260422T212724Z
DESCRIPTION:Tutor: Friedrich Günther
DTSTART:20221117T151500Z
DTEND:20221117T164500Z
LOCATION:Seminarraum 10 (Geb. E2.4)
SUMMARY:Ana1: Tutorium 6
END:VEVENT
BEGIN:VEVENT
UID:38653730-3661-4764-a632-363832633134
DTSTAMP:20260422T212724Z
DESCRIPTION:Tutor: Moritz Speicher
DTSTART:20221118T073000Z
DTEND:20221118T084500Z
LOCATION:Seminarraum 10 (Geb. E2.4)
SUMMARY:Ana1: Tutorium 7
END:VEVENT
BEGIN:VEVENT
UID:63333538-3030-4464-a662-633639353535
DTSTAMP:20260422T212724Z
DESCRIPTION:Tutorin: Laura Fritz
DTSTART:20221121T073000Z
DTEND:20221121T090000Z
LOCATION:Seminarraum 6 (Geb. E2.4)
SUMMARY:Ana1: Tutorium 1
END:VEVENT
BEGIN:VEVENT
UID:34343632-6330-4664-a262-626237323738
DTSTAMP:20260422T212724Z
DESCRIPTION:Tutor: Arne Berrens
DTSTART:20221121T111500Z
DTEND:20221121T124500Z
LOCATION:Seminarraum 6 (Geb. E2.4)
SUMMARY:Ana1: Tutorium 2
END:VEVENT
BEGIN:VEVENT
UID:64366233-6230-4362-a436-656534396437
DTSTAMP:20260422T212724Z
DESCRIPTION:Tutor: Maximilian Leist
DTSTART:20221122T111500Z
DTEND:20221122T124500Z
LOCATION:Hörsaal 1 (Geb. E2.5)
SUMMARY:Ana1: Tutorium 3
END:VEVENT
BEGIN:VEVENT
UID:38373233-3338-4933-a132-663233643564
DTSTAMP:20260422T212724Z
DESCRIPTION:Tutor: Moritz Speicher
DTSTART:20221123T111500Z
DTEND:20221123T124500Z
LOCATION:Seminarraum 5 (Geb. E2.4)
SUMMARY:Ana1: Tutorium 4
END:VEVENT
BEGIN:VEVENT
UID:38323263-3039-4639-a161-393237373439
DTSTAMP:20260422T212724Z
DESCRIPTION:Tutor: Maximilian Tornes
DTSTART:20221123T131500Z
DTEND:20221123T144500Z
LOCATION:Hörsaal 4 (Geb. E2.4)
SUMMARY:Ana1: Tutorium 5
END:VEVENT
BEGIN:VEVENT
UID:63613134-3333-4731-b834-336337653964
DTSTAMP:20260422T212724Z
DESCRIPTION:Tutor: Friedrich Günther
DTSTART:20221124T151500Z
DTEND:20221124T164500Z
LOCATION:Seminarraum 10 (Geb. E2.4)
SUMMARY:Ana1: Tutorium 6
END:VEVENT
BEGIN:VEVENT
UID:62303333-3966-4530-b832-623633303538
DTSTAMP:20260422T212724Z
DESCRIPTION:Tutor: Moritz Speicher
DTSTART:20221125T073000Z
DTEND:20221125T084500Z
LOCATION:Seminarraum 10 (Geb. E2.4)
SUMMARY:Ana1: Tutorium 7
END:VEVENT
BEGIN:VEVENT
UID:36613966-6234-4961-b463-626537616464
DTSTAMP:20260422T212724Z
DESCRIPTION:Tutorin: Laura Fritz
DTSTART:20221128T073000Z
DTEND:20221128T090000Z
LOCATION:Seminarraum 6 (Geb. E2.4)
SUMMARY:Ana1: Tutorium 1
END:VEVENT
BEGIN:VEVENT
UID:31373933-3839-4464-b262-646262383334
DTSTAMP:20260422T212724Z
DESCRIPTION:Tutor: Arne Berrens
DTSTART:20221128T111500Z
DTEND:20221128T124500Z
LOCATION:Seminarraum 6 (Geb. E2.4)
SUMMARY:Ana1: Tutorium 2
END:VEVENT
BEGIN:VEVENT
UID:65396262-3064-4438-a532-343432626161
DTSTAMP:20260422T212724Z
DESCRIPTION:Tutor: Maximilian Leist
DTSTART:20221129T111500Z
DTEND:20221129T124500Z
LOCATION:Hörsaal 1 (Geb. E2.5)
SUMMARY:Ana1: Tutorium 3
END:VEVENT
BEGIN:VEVENT
UID:66616432-3262-4166-a636-303561343230
DTSTAMP:20260422T212724Z
DESCRIPTION:Tutor: Moritz Speicher
DTSTART:20221130T111500Z
DTEND:20221130T124500Z
LOCATION:Seminarraum 5 (Geb. E2.4)
SUMMARY:Ana1: Tutorium 4
END:VEVENT
BEGIN:VEVENT
UID:63646636-3132-4433-a139-323164626330
DTSTAMP:20260422T212724Z
DESCRIPTION:Tutor: Maximilian Tornes
DTSTART:20221130T131500Z
DTEND:20221130T144500Z
LOCATION:Hörsaal 4 (Geb. E2.4)
SUMMARY:Ana1: Tutorium 5
END:VEVENT
BEGIN:VEVENT
UID:66313236-3762-4165-b232-363262333938
DTSTAMP:20260422T212724Z
DESCRIPTION:Tutor: Friedrich Günther
DTSTART:20221201T151500Z
DTEND:20221201T164500Z
LOCATION:Seminarraum 10 (Geb. E2.4)
SUMMARY:Ana1: Tutorium 6
END:VEVENT
BEGIN:VEVENT
UID:39333739-3230-4537-b762-386332323439
DTSTAMP:20260422T212724Z
DESCRIPTION:Tutor: Moritz Speicher
DTSTART:20221202T073000Z
DTEND:20221202T084500Z
LOCATION:Seminarraum 10 (Geb. E2.4)
SUMMARY:Ana1: Tutorium 7
END:VEVENT
BEGIN:VEVENT
UID:30396465-6166-4232-b964-656266636337
DTSTAMP:20260422T212724Z
DESCRIPTION:Tutorin: Laura Fritz
DTSTART:20221205T073000Z
DTEND:20221205T090000Z
LOCATION:Seminarraum 6 (Geb. E2.4)
SUMMARY:Ana1: Tutorium 1
END:VEVENT
BEGIN:VEVENT
UID:66613333-3062-4438-b634-316530656132
DTSTAMP:20260422T212724Z
DESCRIPTION:Tutor: Arne Berrens
DTSTART:20221205T111500Z
DTEND:20221205T124500Z
LOCATION:Seminarraum 6 (Geb. E2.4)
SUMMARY:Ana1: Tutorium 2
END:VEVENT
BEGIN:VEVENT
UID:31303762-6365-4139-b731-643563333361
DTSTAMP:20260422T212724Z
DESCRIPTION:Tutor: Maximilian Leist
DTSTART:20221206T111500Z
DTEND:20221206T124500Z
LOCATION:Hörsaal 1 (Geb. E2.5)
SUMMARY:Ana1: Tutorium 3
END:VEVENT
BEGIN:VEVENT
UID:31386566-3730-4464-b066-366662653862
DTSTAMP:20260422T212724Z
DESCRIPTION:Tutor: Moritz Speicher
DTSTART:20221207T111500Z
DTEND:20221207T124500Z
LOCATION:Seminarraum 5 (Geb. E2.4)
SUMMARY:Ana1: Tutorium 4
END:VEVENT
BEGIN:VEVENT
UID:36343332-6333-4634-a364-343235643136
DTSTAMP:20260422T212724Z
DESCRIPTION:Tutor: Maximilian Tornes
DTSTART:20221207T131500Z
DTEND:20221207T144500Z
LOCATION:Hörsaal 4 (Geb. E2.4)
SUMMARY:Ana1: Tutorium 5
END:VEVENT
BEGIN:VEVENT
UID:66363531-3864-4634-b137-303662353936
DTSTAMP:20260422T212724Z
DESCRIPTION:Tutor: Friedrich Günther
DTSTART:20221208T151500Z
DTEND:20221208T164500Z
LOCATION:Seminarraum 10 (Geb. E2.4)
SUMMARY:Ana1: Tutorium 6
END:VEVENT
BEGIN:VEVENT
UID:61356230-3165-4031-b334-646162633162
DTSTAMP:20260422T212724Z
DESCRIPTION:Tutor: Moritz Speicher
DTSTART:20221209T073000Z
DTEND:20221209T084500Z
LOCATION:Seminarraum 10 (Geb. E2.4)
SUMMARY:Ana1: Tutorium 7
END:VEVENT
BEGIN:VEVENT
UID:32656263-3131-4333-a637-313231353336
DTSTAMP:20260422T212724Z
DESCRIPTION:Tutorin: Laura Fritz
DTSTART:20221212T073000Z
DTEND:20221212T090000Z
LOCATION:Seminarraum 6 (Geb. E2.4)
SUMMARY:Ana1: Tutorium 1
END:VEVENT
BEGIN:VEVENT
UID:61366636-6138-4934-b534-303964653334
DTSTAMP:20260422T212724Z
DESCRIPTION:Tutor: Arne Berrens
DTSTART:20221212T111500Z
DTEND:20221212T124500Z
LOCATION:Seminarraum 6 (Geb. E2.4)
SUMMARY:Ana1: Tutorium 2
END:VEVENT
BEGIN:VEVENT
UID:62356163-6134-4865-b536-633136323239
DTSTAMP:20260422T212724Z
DESCRIPTION:Tutor: Maximilian Leist
DTSTART:20221213T111500Z
DTEND:20221213T124500Z
LOCATION:Hörsaal 1 (Geb. E2.5)
SUMMARY:Ana1: Tutorium 3
END:VEVENT
BEGIN:VEVENT
UID:65323961-6339-4434-b138-393830373465
DTSTAMP:20260422T212724Z
DESCRIPTION:Tutor: Moritz Speicher
DTSTART:20221214T111500Z
DTEND:20221214T124500Z
LOCATION:Seminarraum 5 (Geb. E2.4)
SUMMARY:Ana1: Tutorium 4
END:VEVENT
BEGIN:VEVENT
UID:65393234-3034-4638-b238-363366636263
DTSTAMP:20260422T212724Z
DESCRIPTION:Tutor: Maximilian Tornes
DTSTART:20221214T131500Z
DTEND:20221214T144500Z
LOCATION:Hörsaal 2 (Geb. E2.5)
SUMMARY:Ana1: Tutorium 5
END:VEVENT
BEGIN:VEVENT
UID:62383866-6630-4265-a135-326563623433
DTSTAMP:20260422T212724Z
DESCRIPTION:Tutor: Friedrich Günther
DTSTART:20221215T151500Z
DTEND:20221215T164500Z
LOCATION:Seminarraum 10 (Geb. E2.4)
SUMMARY:Ana1: Tutorium 6
END:VEVENT
BEGIN:VEVENT
UID:63383666-3732-4461-b932-663033666131
DTSTAMP:20260422T212724Z
DESCRIPTION:Tutor: Moritz Speicher
DTSTART:20221216T073000Z
DTEND:20221216T084500Z
LOCATION:Seminarraum 10 (Geb. E2.4)
SUMMARY:Ana1: Tutorium 7
END:VEVENT
BEGIN:VEVENT
UID:36663161-6439-4337-b837-346666623732
DTSTAMP:20260422T212724Z
DESCRIPTION:Tutorin: Laura Fritz
DTSTART:20221219T073000Z
DTEND:20221219T090000Z
LOCATION:MS Teams (online)
SUMMARY:Ana1: Tutorium 1
END:VEVENT
BEGIN:VEVENT
UID:64346635-3334-4163-b566-353433376366
DTSTAMP:20260422T212724Z
DESCRIPTION:Tutor: Arne Berrens
DTSTART:20221219T111500Z
DTEND:20221219T124500Z
LOCATION:MS Teams (online)
SUMMARY:Ana1: Tutorium 2
END:VEVENT
BEGIN:VEVENT
UID:65323039-6361-4439-b931-613962336262
DTSTAMP:20260422T212724Z
DESCRIPTION:Tutor: Maximilian Leist
DTSTART:20221220T111500Z
DTEND:20221220T124500Z
LOCATION:MS Teams (online)
SUMMARY:Ana1: Tutorium 3
END:VEVENT
BEGIN:VEVENT
UID:36306137-6536-4631-a231-353737363339
DTSTAMP:20260422T212724Z
DESCRIPTION:Tutor: Moritz Speicher
DTSTART:20230104T111500Z
DTEND:20230104T124500Z
LOCATION:MS Teams (online)
SUMMARY:Ana1: Tutorium 4
END:VEVENT
BEGIN:VEVENT
UID:32663335-6130-4030-b563-616362343761
DTSTAMP:20260422T212724Z
DESCRIPTION:Tutor: Maximilian Tornes
DTSTART:20230104T131500Z
DTEND:20230104T144500Z
LOCATION:MS Teams (online)
SUMMARY:Ana1: Tutorium 5
END:VEVENT
BEGIN:VEVENT
UID:33396563-3463-4231-a531-663332653235
DTSTAMP:20260422T212724Z
DESCRIPTION:Tutor: Friedrich Günther
DTSTART:20230105T151500Z
DTEND:20230105T164500Z
LOCATION:MS Teams (online)
SUMMARY:Ana1: Tutorium 6
END:VEVENT
BEGIN:VEVENT
UID:61383730-6631-4164-b436-333037343766
DTSTAMP:20260422T212724Z
DESCRIPTION:Tutor: Moritz Speicher
DTSTART:20230106T073000Z
DTEND:20230106T084500Z
LOCATION:MS Teams (online)
SUMMARY:Ana1: Tutorium 7
END:VEVENT
BEGIN:VEVENT
UID:38366335-3838-4565-a663-653436653631
DTSTAMP:20260422T212724Z
DESCRIPTION:Tutorin: Laura Fritz
DTSTART:20230109T073000Z
DTEND:20230109T090000Z
LOCATION:Seminarraum 6 (Geb. E2.4)
SUMMARY:Ana1: Tutorium 1
END:VEVENT
BEGIN:VEVENT
UID:30396639-3033-4432-b031-616163303131
DTSTAMP:20260422T212724Z
DESCRIPTION:Tutor: Arne Berrens
DTSTART:20230109T111500Z
DTEND:20230109T124500Z
LOCATION:Seminarraum 6 (Geb. E2.4)
SUMMARY:Ana1: Tutorium 2
END:VEVENT
BEGIN:VEVENT
UID:61653132-6365-4063-a232-613431653239
DTSTAMP:20260422T212724Z
DESCRIPTION:Tutor: Maximilian Leist
DTSTART:20230110T111500Z
DTEND:20230110T124500Z
LOCATION:Hörsaal 1 (Geb. E2.5)
SUMMARY:Ana1: Tutorium 3
END:VEVENT
BEGIN:VEVENT
UID:37663730-3865-4462-b566-653062353866
DTSTAMP:20260422T212724Z
DESCRIPTION:Tutor: Moritz Speicher
DTSTART:20230111T111500Z
DTEND:20230111T124500Z
LOCATION:Seminarraum 5 (Geb. E2.4)
SUMMARY:Ana1: Tutorium 4
END:VEVENT
BEGIN:VEVENT
UID:33313862-6461-4165-b833-393064666363
DTSTAMP:20260422T212724Z
DESCRIPTION:Tutor: Maximilian Tornes
DTSTART:20230111T131500Z
DTEND:20230111T144500Z
LOCATION:Hörsaal 4 (Geb. E2.4)
SUMMARY:Ana1: Tutorium 5
END:VEVENT
BEGIN:VEVENT
UID:64356630-6231-4339-b537-623665653433
DTSTAMP:20260422T212724Z
DESCRIPTION:Tutor: Friedrich Günther
DTSTART:20230112T151500Z
DTEND:20230112T164500Z
LOCATION:Seminarraum 10 (Geb. E2.4)
SUMMARY:Ana1: Tutorium 6
END:VEVENT
BEGIN:VEVENT
UID:61613066-3733-4837-a433-353936383832
DTSTAMP:20260422T212724Z
DESCRIPTION:Tutor: Moritz Speicher
DTSTART:20230113T073000Z
DTEND:20230113T084500Z
LOCATION:Seminarraum 10 (Geb. E2.4)
SUMMARY:Ana1: Tutorium 7
END:VEVENT
BEGIN:VEVENT
UID:38666466-3330-4666-a636-623433663965
DTSTAMP:20260422T212724Z
DESCRIPTION:Tutorin: Laura Fritz
DTSTART:20230116T073000Z
DTEND:20230116T090000Z
LOCATION:Seminarraum 6 (Geb. E2.4)
SUMMARY:Ana1: Tutorium 1
END:VEVENT
BEGIN:VEVENT
UID:63653963-3164-4663-a430-623034646134
DTSTAMP:20260422T212724Z
DESCRIPTION:Tutor: Arne Berrens
DTSTART:20230116T111500Z
DTEND:20230116T124500Z
LOCATION:Seminarraum 6 (Geb. E2.4)
SUMMARY:Ana1: Tutorium 2
END:VEVENT
BEGIN:VEVENT
UID:34666665-3532-4463-b534-353534313035
DTSTAMP:20260422T212724Z
DESCRIPTION:Tutor: Maximilian Leist
DTSTART:20230117T111500Z
DTEND:20230117T124500Z
LOCATION:Hörsaal 1 (Geb. E2.5)
SUMMARY:Ana1: Tutorium 3
END:VEVENT
BEGIN:VEVENT
UID:30396234-6666-4839-a333-333736303132
DTSTAMP:20260422T212724Z
DESCRIPTION:Tutor: Moritz Speicher
DTSTART:20230118T111500Z
DTEND:20230118T124500Z
LOCATION:Seminarraum 5 (Geb. E2.4)
SUMMARY:Ana1: Tutorium 4
END:VEVENT
BEGIN:VEVENT
UID:62366466-6462-4864-b037-613636663237
DTSTAMP:20260422T212724Z
DESCRIPTION:Tutor: Maximilian Tornes
DTSTART:20230118T131500Z
DTEND:20230118T144500Z
LOCATION:Hörsaal 4 (Geb. E2.4)
SUMMARY:Ana1: Tutorium 5
END:VEVENT
BEGIN:VEVENT
UID:62656463-3938-4236-a666-626330663732
DTSTAMP:20260422T212724Z
DESCRIPTION:Tutor: Friedrich Günther
DTSTART:20230119T151500Z
DTEND:20230119T164500Z
LOCATION:Seminarraum 10 (Geb. E2.4)
SUMMARY:Ana1: Tutorium 6
END:VEVENT
BEGIN:VEVENT
UID:61393162-6161-4639-a662-626533353234
DTSTAMP:20260422T212724Z
DESCRIPTION:Tutor: Moritz Speicher
DTSTART:20230120T073000Z
DTEND:20230120T084500Z
LOCATION:Seminarraum 10 (Geb. E2.4)
SUMMARY:Ana1: Tutorium 7
END:VEVENT
BEGIN:VEVENT
UID:37366165-6238-4236-b936-616461643431
DTSTAMP:20260422T212724Z
DESCRIPTION:Tutorin: Laura Fritz
DTSTART:20230123T073000Z
DTEND:20230123T090000Z
LOCATION:Seminarraum 6 (Geb. E2.4)
SUMMARY:Ana1: Tutorium 1
END:VEVENT
BEGIN:VEVENT
UID:31323462-3039-4365-a638-623136396565
DTSTAMP:20260422T212724Z
DESCRIPTION:Tutor: Arne Berrens
DTSTART:20230123T111500Z
DTEND:20230123T124500Z
LOCATION:Seminarraum 6 (Geb. E2.4)
SUMMARY:Ana1: Tutorium 2
END:VEVENT
BEGIN:VEVENT
UID:31303736-6136-4134-a230-663561633639
DTSTAMP:20260422T212724Z
DESCRIPTION:Tutor: Maximilian Leist
DTSTART:20230124T111500Z
DTEND:20230124T124500Z
LOCATION:Hörsaal 1 (Geb. E2.5)
SUMMARY:Ana1: Tutorium 3
END:VEVENT
BEGIN:VEVENT
UID:33643162-6266-4365-b566-343338383766
DTSTAMP:20260422T212724Z
DESCRIPTION:Tutor: Moritz Speicher
DTSTART:20230125T111500Z
DTEND:20230125T124500Z
LOCATION:Seminarraum 5 (Geb. E2.4)
SUMMARY:Ana1: Tutorium 4
END:VEVENT
BEGIN:VEVENT
UID:39323136-3732-4162-b636-323463363738
DTSTAMP:20260422T212724Z
DESCRIPTION:Tutor: Maximilian Tornes
DTSTART:20230125T131500Z
DTEND:20230125T144500Z
LOCATION:Hörsaal 4 (Geb. E2.4)
SUMMARY:Ana1: Tutorium 5
END:VEVENT
BEGIN:VEVENT
UID:62663565-3036-4563-a666-306462343437
DTSTAMP:20260422T212724Z
DESCRIPTION:Tutor: Friedrich Günther
DTSTART:20230126T151500Z
DTEND:20230126T164500Z
LOCATION:Seminarraum 10 (Geb. E2.4)
SUMMARY:Ana1: Tutorium 6
END:VEVENT
BEGIN:VEVENT
UID:61636435-6666-4832-b830-363163383034
DTSTAMP:20260422T212724Z
DESCRIPTION:Tutor: Moritz Speicher
DTSTART:20230127T073000Z
DTEND:20230127T084500Z
LOCATION:Seminarraum 10 (Geb. E2.4)
SUMMARY:Ana1: Tutorium 7
END:VEVENT
BEGIN:VEVENT
UID:36356538-6537-4239-b163-646339373034
DTSTAMP:20260422T212724Z
DESCRIPTION:Tutorin: Laura Fritz
DTSTART:20230130T073000Z
DTEND:20230130T090000Z
LOCATION:Seminarraum 6 (Geb. E2.4)
SUMMARY:Ana1: Tutorium 1
END:VEVENT
BEGIN:VEVENT
UID:35653464-3962-4635-b130-333863653934
DTSTAMP:20260422T212724Z
DESCRIPTION:Tutor: Arne Berrens
DTSTART:20230130T111500Z
DTEND:20230130T124500Z
LOCATION:Seminarraum 6 (Geb. E2.4)
SUMMARY:Ana1: Tutorium 2
END:VEVENT
BEGIN:VEVENT
UID:30323838-3333-4362-b838-643635353262
DTSTAMP:20260422T212724Z
DESCRIPTION:Tutor: Maximilian Leist
DTSTART:20230131T111500Z
DTEND:20230131T124500Z
LOCATION:Hörsaal 1 (Geb. E2.5)
SUMMARY:Ana1: Tutorium 3
END:VEVENT
BEGIN:VEVENT
UID:32393938-3062-4335-b031-653333333033
DTSTAMP:20260422T212724Z
DESCRIPTION:Tutor: Moritz Speicher
DTSTART:20230201T111500Z
DTEND:20230201T124500Z
LOCATION:Seminarraum 5 (Geb. E2.4)
SUMMARY:Ana1: Tutorium 4
END:VEVENT
BEGIN:VEVENT
UID:65643463-3933-4038-b864-373963666337
DTSTAMP:20260422T212724Z
DESCRIPTION:Tutor: Maximilian Tornes
DTSTART:20230201T131500Z
DTEND:20230201T144500Z
LOCATION:Hörsaal 4 (Geb. E2.4)
SUMMARY:Ana1: Tutorium 5
END:VEVENT
BEGIN:VEVENT
UID:39343931-3662-4533-b163-383466306461
DTSTAMP:20260422T212724Z
DESCRIPTION:Tutor: Friedrich Günther
DTSTART:20230202T151500Z
DTEND:20230202T164500Z
LOCATION:Seminarraum 10 (Geb. E2.4)
SUMMARY:Ana1: Tutorium 6
END:VEVENT
BEGIN:VEVENT
UID:30646139-3766-4366-b638-333431306239
DTSTAMP:20260422T212724Z
DESCRIPTION:Tutor: Moritz Speicher
DTSTART:20230203T073000Z
DTEND:20230203T084500Z
LOCATION:Seminarraum 10 (Geb. E2.4)
SUMMARY:Ana1: Tutorium 7
END:VEVENT
BEGIN:VEVENT
UID:33336137-6563-4239-a632-306365656261
DTSTAMP:20260422T212724Z
DESCRIPTION:Tutorin: Laura Fritz
DTSTART:20230206T073000Z
DTEND:20230206T090000Z
LOCATION:Seminarraum 6 (Geb. E2.4)
SUMMARY:Ana1: Tutorium 1
END:VEVENT
BEGIN:VEVENT
UID:35366365-3439-4466-a433-383736366536
DTSTAMP:20260422T212724Z
DESCRIPTION:Tutor: Arne Berrens
DTSTART:20230206T111500Z
DTEND:20230206T124500Z
LOCATION:Seminarraum 6 (Geb. E2.4)
SUMMARY:Ana1: Tutorium 2
END:VEVENT
BEGIN:VEVENT
UID:38366464-6266-4662-b366-643533623038
DTSTAMP:20260422T212724Z
DESCRIPTION:Tutor: Maximilian Leist
DTSTART:20230207T111500Z
DTEND:20230207T124500Z
LOCATION:Hörsaal 1 (Geb. E2.5)
SUMMARY:Ana1: Tutorium 3
END:VEVENT
BEGIN:VEVENT
UID:33323134-3166-4937-a638-383431303365
DTSTAMP:20260422T212724Z
DESCRIPTION:Tutor: Moritz Speicher
DTSTART:20230208T111500Z
DTEND:20230208T124500Z
LOCATION:Seminarraum 5 (Geb. E2.4)
SUMMARY:Ana1: Tutorium 4
END:VEVENT
BEGIN:VEVENT
UID:34656465-3162-4563-b962-343865393035
DTSTAMP:20260422T212724Z
DESCRIPTION:Tutor: Maximilian Tornes
DTSTART:20230208T131500Z
DTEND:20230208T144500Z
LOCATION:Hörsaal 4 (Geb. E2.4)
SUMMARY:Ana1: Tutorium 5
END:VEVENT
BEGIN:VEVENT
UID:61353663-6466-4363-b539-653737646539
DTSTAMP:20260422T212724Z
DESCRIPTION:Tutor: Friedrich Günther
DTSTART:20230209T151500Z
DTEND:20230209T164500Z
LOCATION:Seminarraum 10 (Geb. E2.4)
SUMMARY:Ana1: Tutorium 6
END:VEVENT
BEGIN:VEVENT
UID:39306636-6166-4235-b837-306561626339
DTSTAMP:20260422T212724Z
DESCRIPTION:Tutor: Moritz Speicher
DTSTART:20230210T073000Z
DTEND:20230210T084500Z
LOCATION:Seminarraum 10 (Geb. E2.4)
SUMMARY:Ana1: Tutorium 7
END:VEVENT
END:VCALENDAR
