BEGIN:VCALENDAR
VERSION:2.0
PRODID:-//134.96.226.213//NONSGML kigkonsult.se iCalcreator 2.41.92//
CALSCALE:GREGORIAN
METHOD:PUBLISH
UID:31666537-3162-4133-b865-393936626536
X-WR-CALNAME:Analysis 1 Calendar
X-WR-CALDESC:Termine der Vorlesung Analysis 1
X-WR-TIMEZONE:Europe/Berlin
BEGIN:VEVENT
UID:35383137-3637-4066-b463-646261653461
DTSTAMP:20260422T195221Z
DESCRIPTION:Tutorin: Laura Fritz
DTSTART:20221107T073000Z
DTEND:20221107T090000Z
LOCATION:Seminarraum 6 (Geb. E2.4)
SUMMARY:Tutorium 1
END:VEVENT
BEGIN:VEVENT
UID:31356434-6638-4032-a166-626634326239
DTSTAMP:20260422T195221Z
DESCRIPTION:Tutor: Arne Berrens
DTSTART:20221107T111500Z
DTEND:20221107T124500Z
LOCATION:Seminarraum 6 (Geb. E2.4)
SUMMARY:Tutorium 2
END:VEVENT
BEGIN:VEVENT
UID:32373537-3631-4138-a433-643837383466
DTSTAMP:20260422T195221Z
DESCRIPTION:Tutor: Maximilian Leist
DTSTART:20221108T111500Z
DTEND:20221108T124500Z
LOCATION:Hörsaal 1 (Geb. E2.5)
SUMMARY:Tutorium 3
END:VEVENT
BEGIN:VEVENT
UID:33613535-3266-4561-a134-383938316562
DTSTAMP:20260422T195221Z
DESCRIPTION:Tutor: Moritz Speicher
DTSTART:20221109T111500Z
DTEND:20221109T124500Z
LOCATION:Seminarraum 5 (Geb. E2.4)
SUMMARY:Tutorium 4
END:VEVENT
BEGIN:VEVENT
UID:36343235-6332-4039-b861-653839393965
DTSTAMP:20260422T195221Z
DESCRIPTION:Tutor: Maximilian Tornes
DTSTART:20221109T131500Z
DTEND:20221109T144500Z
LOCATION:Hörsaal 4 (Geb. E2.4)
SUMMARY:Tutorium 5
END:VEVENT
BEGIN:VEVENT
UID:31386464-6633-4838-a230-356134383964
DTSTAMP:20260422T195221Z
DESCRIPTION:Tutor: Friedrich Günther
DTSTART:20221110T151500Z
DTEND:20221110T164500Z
LOCATION:Seminarraum 10 (Geb. E2.4)
SUMMARY:Tutorium 6
END:VEVENT
BEGIN:VEVENT
UID:36383163-6361-4062-b034-346362646364
DTSTAMP:20260422T195221Z
DESCRIPTION:Tutor: Moritz Speicher
DTSTART:20221111T073000Z
DTEND:20221111T084500Z
LOCATION:Seminarraum 10 (Geb. E2.4)
SUMMARY:Tutorium 7
END:VEVENT
BEGIN:VEVENT
UID:39323531-6364-4963-b835-643530646666
DTSTAMP:20260422T195221Z
DESCRIPTION:Tutorin: Laura Fritz
DTSTART:20221114T073000Z
DTEND:20221114T090000Z
LOCATION:Seminarraum 6 (Geb. E2.4)
SUMMARY:Tutorium 1
END:VEVENT
BEGIN:VEVENT
UID:61386665-3731-4264-b134-376635633062
DTSTAMP:20260422T195221Z
DESCRIPTION:Tutor: Arne Berrens
DTSTART:20221114T111500Z
DTEND:20221114T124500Z
LOCATION:Seminarraum 6 (Geb. E2.4)
SUMMARY:Tutorium 2
END:VEVENT
BEGIN:VEVENT
UID:33626630-6463-4133-a532-633734366635
DTSTAMP:20260422T195221Z
DESCRIPTION:Tutor: Maximilian Leist
DTSTART:20221115T111500Z
DTEND:20221115T124500Z
LOCATION:Hörsaal 1 (Geb. E2.5)
SUMMARY:Tutorium 3
END:VEVENT
BEGIN:VEVENT
UID:31346663-3761-4230-b431-363937373965
DTSTAMP:20260422T195221Z
DESCRIPTION:Tutor: Moritz Speicher
DTSTART:20221116T111500Z
DTEND:20221116T124500Z
LOCATION:Seminarraum 5 (Geb. E2.4)
SUMMARY:Tutorium 4
END:VEVENT
BEGIN:VEVENT
UID:65626535-3163-4165-a536-376637333666
DTSTAMP:20260422T195221Z
DESCRIPTION:Tutor: Maximilian Tornes
DTSTART:20221116T131500Z
DTEND:20221116T144500Z
LOCATION:Hörsaal 4 (Geb. E2.4)
SUMMARY:Tutorium 5
END:VEVENT
BEGIN:VEVENT
UID:35626365-3130-4166-b739-663835613866
DTSTAMP:20260422T195221Z
DESCRIPTION:Tutor: Friedrich Günther
DTSTART:20221117T151500Z
DTEND:20221117T164500Z
LOCATION:Seminarraum 10 (Geb. E2.4)
SUMMARY:Tutorium 6
END:VEVENT
BEGIN:VEVENT
UID:64336561-6333-4133-a131-306639636139
DTSTAMP:20260422T195221Z
DESCRIPTION:Tutor: Moritz Speicher
DTSTART:20221118T073000Z
DTEND:20221118T084500Z
LOCATION:Seminarraum 10 (Geb. E2.4)
SUMMARY:Tutorium 7
END:VEVENT
BEGIN:VEVENT
UID:39383466-3561-4436-b236-643130396265
DTSTAMP:20260422T195221Z
DESCRIPTION:Tutorin: Laura Fritz
DTSTART:20221121T073000Z
DTEND:20221121T090000Z
LOCATION:Seminarraum 6 (Geb. E2.4)
SUMMARY:Tutorium 1
END:VEVENT
BEGIN:VEVENT
UID:36303864-3032-4631-b331-373934373762
DTSTAMP:20260422T195221Z
DESCRIPTION:Tutor: Arne Berrens
DTSTART:20221121T111500Z
DTEND:20221121T124500Z
LOCATION:Seminarraum 6 (Geb. E2.4)
SUMMARY:Tutorium 2
END:VEVENT
BEGIN:VEVENT
UID:36353861-3430-4265-a665-363563363062
DTSTAMP:20260422T195221Z
DESCRIPTION:Tutor: Maximilian Leist
DTSTART:20221122T111500Z
DTEND:20221122T124500Z
LOCATION:Hörsaal 1 (Geb. E2.5)
SUMMARY:Tutorium 3
END:VEVENT
BEGIN:VEVENT
UID:33643133-3462-4933-b262-623532636634
DTSTAMP:20260422T195221Z
DESCRIPTION:Tutor: Moritz Speicher
DTSTART:20221123T111500Z
DTEND:20221123T124500Z
LOCATION:Seminarraum 5 (Geb. E2.4)
SUMMARY:Tutorium 4
END:VEVENT
BEGIN:VEVENT
UID:30636439-3236-4337-b834-373236303365
DTSTAMP:20260422T195221Z
DESCRIPTION:Tutor: Maximilian Tornes
DTSTART:20221123T131500Z
DTEND:20221123T144500Z
LOCATION:Hörsaal 4 (Geb. E2.4)
SUMMARY:Tutorium 5
END:VEVENT
BEGIN:VEVENT
UID:30303136-6465-4066-b730-313839366537
DTSTAMP:20260422T195221Z
DESCRIPTION:Tutor: Friedrich Günther
DTSTART:20221124T151500Z
DTEND:20221124T164500Z
LOCATION:Seminarraum 10 (Geb. E2.4)
SUMMARY:Tutorium 6
END:VEVENT
BEGIN:VEVENT
UID:61356334-6139-4162-b431-343638626531
DTSTAMP:20260422T195221Z
DESCRIPTION:Tutor: Moritz Speicher
DTSTART:20221125T073000Z
DTEND:20221125T084500Z
LOCATION:Seminarraum 10 (Geb. E2.4)
SUMMARY:Tutorium 7
END:VEVENT
BEGIN:VEVENT
UID:61376163-6664-4330-b765-643338666530
DTSTAMP:20260422T195221Z
DESCRIPTION:Tutorin: Laura Fritz
DTSTART:20221128T073000Z
DTEND:20221128T090000Z
LOCATION:Seminarraum 6 (Geb. E2.4)
SUMMARY:Tutorium 1
END:VEVENT
BEGIN:VEVENT
UID:35346330-6366-4864-a139-633661323830
DTSTAMP:20260422T195221Z
DESCRIPTION:Tutor: Arne Berrens
DTSTART:20221128T111500Z
DTEND:20221128T124500Z
LOCATION:Seminarraum 6 (Geb. E2.4)
SUMMARY:Tutorium 2
END:VEVENT
BEGIN:VEVENT
UID:38373164-3962-4462-a535-326562343561
DTSTAMP:20260422T195221Z
DESCRIPTION:Tutor: Maximilian Leist
DTSTART:20221129T111500Z
DTEND:20221129T124500Z
LOCATION:Hörsaal 1 (Geb. E2.5)
SUMMARY:Tutorium 3
END:VEVENT
BEGIN:VEVENT
UID:39323361-3930-4531-a436-316532303030
DTSTAMP:20260422T195221Z
DESCRIPTION:Tutor: Moritz Speicher
DTSTART:20221130T111500Z
DTEND:20221130T124500Z
LOCATION:Seminarraum 5 (Geb. E2.4)
SUMMARY:Tutorium 4
END:VEVENT
BEGIN:VEVENT
UID:36333839-3030-4437-b534-626439313038
DTSTAMP:20260422T195221Z
DESCRIPTION:Tutor: Maximilian Tornes
DTSTART:20221130T131500Z
DTEND:20221130T144500Z
LOCATION:Hörsaal 4 (Geb. E2.4)
SUMMARY:Tutorium 5
END:VEVENT
BEGIN:VEVENT
UID:31393562-3266-4436-a539-396462396564
DTSTAMP:20260422T195221Z
DESCRIPTION:Tutor: Friedrich Günther
DTSTART:20221201T151500Z
DTEND:20221201T164500Z
LOCATION:Seminarraum 10 (Geb. E2.4)
SUMMARY:Tutorium 6
END:VEVENT
BEGIN:VEVENT
UID:65393434-3566-4130-b232-333566383264
DTSTAMP:20260422T195221Z
DESCRIPTION:Tutor: Moritz Speicher
DTSTART:20221202T073000Z
DTEND:20221202T084500Z
LOCATION:Seminarraum 10 (Geb. E2.4)
SUMMARY:Tutorium 7
END:VEVENT
BEGIN:VEVENT
UID:31396266-3435-4831-b265-643237393731
DTSTAMP:20260422T195221Z
DESCRIPTION:Tutorin: Laura Fritz
DTSTART:20221205T073000Z
DTEND:20221205T090000Z
LOCATION:Seminarraum 6 (Geb. E2.4)
SUMMARY:Tutorium 1
END:VEVENT
BEGIN:VEVENT
UID:62323035-3437-4533-a661-663764363139
DTSTAMP:20260422T195221Z
DESCRIPTION:Tutor: Arne Berrens
DTSTART:20221205T111500Z
DTEND:20221205T124500Z
LOCATION:Seminarraum 6 (Geb. E2.4)
SUMMARY:Tutorium 2
END:VEVENT
BEGIN:VEVENT
UID:37313432-6130-4965-b431-313935333432
DTSTAMP:20260422T195221Z
DESCRIPTION:Tutor: Maximilian Leist
DTSTART:20221206T111500Z
DTEND:20221206T124500Z
LOCATION:Hörsaal 1 (Geb. E2.5)
SUMMARY:Tutorium 3
END:VEVENT
BEGIN:VEVENT
UID:33313663-6564-4436-b964-666231383536
DTSTAMP:20260422T195221Z
DESCRIPTION:Tutor: Moritz Speicher
DTSTART:20221207T111500Z
DTEND:20221207T124500Z
LOCATION:Seminarraum 5 (Geb. E2.4)
SUMMARY:Tutorium 4
END:VEVENT
BEGIN:VEVENT
UID:35346336-6565-4562-b132-383166643661
DTSTAMP:20260422T195221Z
DESCRIPTION:Tutor: Maximilian Tornes
DTSTART:20221207T131500Z
DTEND:20221207T144500Z
LOCATION:Hörsaal 4 (Geb. E2.4)
SUMMARY:Tutorium 5
END:VEVENT
BEGIN:VEVENT
UID:37383466-3564-4332-a633-353337333066
DTSTAMP:20260422T195221Z
DESCRIPTION:Tutor: Friedrich Günther
DTSTART:20221208T151500Z
DTEND:20221208T164500Z
LOCATION:Seminarraum 10 (Geb. E2.4)
SUMMARY:Tutorium 6
END:VEVENT
BEGIN:VEVENT
UID:66363336-3639-4463-b037-396337643031
DTSTAMP:20260422T195221Z
DESCRIPTION:Tutor: Moritz Speicher
DTSTART:20221209T073000Z
DTEND:20221209T084500Z
LOCATION:Seminarraum 10 (Geb. E2.4)
SUMMARY:Tutorium 7
END:VEVENT
BEGIN:VEVENT
UID:62613737-6634-4261-b031-346436613262
DTSTAMP:20260422T195221Z
DESCRIPTION:Tutorin: Laura Fritz
DTSTART:20221212T073000Z
DTEND:20221212T090000Z
LOCATION:Seminarraum 6 (Geb. E2.4)
SUMMARY:Tutorium 1
END:VEVENT
BEGIN:VEVENT
UID:64653964-6238-4536-a636-306662386462
DTSTAMP:20260422T195221Z
DESCRIPTION:Tutor: Arne Berrens
DTSTART:20221212T111500Z
DTEND:20221212T124500Z
LOCATION:Seminarraum 6 (Geb. E2.4)
SUMMARY:Tutorium 2
END:VEVENT
BEGIN:VEVENT
UID:33386532-3161-4665-a636-313865353634
DTSTAMP:20260422T195221Z
DESCRIPTION:Tutor: Maximilian Leist
DTSTART:20221213T111500Z
DTEND:20221213T124500Z
LOCATION:Hörsaal 1 (Geb. E2.5)
SUMMARY:Tutorium 3
END:VEVENT
BEGIN:VEVENT
UID:33393263-3961-4166-a264-613661653664
DTSTAMP:20260422T195221Z
DESCRIPTION:Tutor: Moritz Speicher
DTSTART:20221214T111500Z
DTEND:20221214T124500Z
LOCATION:Seminarraum 5 (Geb. E2.4)
SUMMARY:Tutorium 4
END:VEVENT
BEGIN:VEVENT
UID:65303131-6536-4162-b963-646263313866
DTSTAMP:20260422T195221Z
DESCRIPTION:Tutor: Maximilian Tornes
DTSTART:20221214T131500Z
DTEND:20221214T144500Z
LOCATION:Hörsaal 2 (Geb. E2.5)
SUMMARY:Tutorium 5
END:VEVENT
BEGIN:VEVENT
UID:63313662-6666-4333-a433-313863616330
DTSTAMP:20260422T195221Z
DESCRIPTION:Tutor: Friedrich Günther
DTSTART:20221215T151500Z
DTEND:20221215T164500Z
LOCATION:Seminarraum 10 (Geb. E2.4)
SUMMARY:Tutorium 6
END:VEVENT
BEGIN:VEVENT
UID:65326130-3436-4662-a134-393735343366
DTSTAMP:20260422T195221Z
DESCRIPTION:Tutor: Moritz Speicher
DTSTART:20221216T073000Z
DTEND:20221216T084500Z
LOCATION:Seminarraum 10 (Geb. E2.4)
SUMMARY:Tutorium 7
END:VEVENT
BEGIN:VEVENT
UID:34303438-6130-4435-b330-393132616164
DTSTAMP:20260422T195221Z
DESCRIPTION:Tutorin: Laura Fritz
DTSTART:20221219T073000Z
DTEND:20221219T090000Z
LOCATION:MS Teams (online)
SUMMARY:Tutorium 1
END:VEVENT
BEGIN:VEVENT
UID:39393136-6363-4464-b261-333061303863
DTSTAMP:20260422T195221Z
DESCRIPTION:Tutor: Arne Berrens
DTSTART:20221219T111500Z
DTEND:20221219T124500Z
LOCATION:MS Teams (online)
SUMMARY:Tutorium 2
END:VEVENT
BEGIN:VEVENT
UID:33353333-3638-4539-b263-353861386536
DTSTAMP:20260422T195221Z
DESCRIPTION:Tutor: Maximilian Leist
DTSTART:20221220T111500Z
DTEND:20221220T124500Z
LOCATION:MS Teams (online)
SUMMARY:Tutorium 3
END:VEVENT
BEGIN:VEVENT
UID:62313334-3737-4664-a434-656531663937
DTSTAMP:20260422T195221Z
DESCRIPTION:Tutor: Moritz Speicher
DTSTART:20230104T111500Z
DTEND:20230104T124500Z
LOCATION:MS Teams (online)
SUMMARY:Tutorium 4
END:VEVENT
BEGIN:VEVENT
UID:32353364-3364-4066-b830-663261343335
DTSTAMP:20260422T195221Z
DESCRIPTION:Tutor: Maximilian Tornes
DTSTART:20230104T131500Z
DTEND:20230104T144500Z
LOCATION:MS Teams (online)
SUMMARY:Tutorium 5
END:VEVENT
BEGIN:VEVENT
UID:32376131-3961-4532-b962-306533333737
DTSTAMP:20260422T195221Z
DESCRIPTION:Tutor: Friedrich Günther
DTSTART:20230105T151500Z
DTEND:20230105T164500Z
LOCATION:MS Teams (online)
SUMMARY:Tutorium 6
END:VEVENT
BEGIN:VEVENT
UID:62623334-6466-4565-b035-363064613161
DTSTAMP:20260422T195221Z
DESCRIPTION:Tutor: Moritz Speicher
DTSTART:20230106T073000Z
DTEND:20230106T084500Z
LOCATION:MS Teams (online)
SUMMARY:Tutorium 7
END:VEVENT
BEGIN:VEVENT
UID:64633135-3331-4362-b339-326136623238
DTSTAMP:20260422T195221Z
DESCRIPTION:Tutorin: Laura Fritz
DTSTART:20230109T073000Z
DTEND:20230109T090000Z
LOCATION:Seminarraum 6 (Geb. E2.4)
SUMMARY:Tutorium 1
END:VEVENT
BEGIN:VEVENT
UID:31326530-3665-4535-b964-613736303430
DTSTAMP:20260422T195221Z
DESCRIPTION:Tutor: Arne Berrens
DTSTART:20230109T111500Z
DTEND:20230109T124500Z
LOCATION:Seminarraum 6 (Geb. E2.4)
SUMMARY:Tutorium 2
END:VEVENT
BEGIN:VEVENT
UID:38333565-3839-4064-b434-623562376330
DTSTAMP:20260422T195221Z
DESCRIPTION:Tutor: Maximilian Leist
DTSTART:20230110T111500Z
DTEND:20230110T124500Z
LOCATION:Hörsaal 1 (Geb. E2.5)
SUMMARY:Tutorium 3
END:VEVENT
BEGIN:VEVENT
UID:63303731-3930-4232-b464-643164366534
DTSTAMP:20260422T195221Z
DESCRIPTION:Tutor: Moritz Speicher
DTSTART:20230111T111500Z
DTEND:20230111T124500Z
LOCATION:Seminarraum 5 (Geb. E2.4)
SUMMARY:Tutorium 4
END:VEVENT
BEGIN:VEVENT
UID:39386565-6236-4539-a536-393163663834
DTSTAMP:20260422T195221Z
DESCRIPTION:Tutor: Maximilian Tornes
DTSTART:20230111T131500Z
DTEND:20230111T144500Z
LOCATION:Hörsaal 4 (Geb. E2.4)
SUMMARY:Tutorium 5
END:VEVENT
BEGIN:VEVENT
UID:36336437-3765-4137-a638-626435633063
DTSTAMP:20260422T195221Z
DESCRIPTION:Tutor: Friedrich Günther
DTSTART:20230112T151500Z
DTEND:20230112T164500Z
LOCATION:Seminarraum 10 (Geb. E2.4)
SUMMARY:Tutorium 6
END:VEVENT
BEGIN:VEVENT
UID:35633865-3738-4138-b866-356166353437
DTSTAMP:20260422T195221Z
DESCRIPTION:Tutor: Moritz Speicher
DTSTART:20230113T073000Z
DTEND:20230113T084500Z
LOCATION:Seminarraum 10 (Geb. E2.4)
SUMMARY:Tutorium 7
END:VEVENT
BEGIN:VEVENT
UID:65323266-6534-4661-b934-653361353438
DTSTAMP:20260422T195221Z
DESCRIPTION:Tutorin: Laura Fritz
DTSTART:20230116T073000Z
DTEND:20230116T090000Z
LOCATION:Seminarraum 6 (Geb. E2.4)
SUMMARY:Tutorium 1
END:VEVENT
BEGIN:VEVENT
UID:30646533-6365-4634-a533-323331643739
DTSTAMP:20260422T195221Z
DESCRIPTION:Tutor: Arne Berrens
DTSTART:20230116T111500Z
DTEND:20230116T124500Z
LOCATION:Seminarraum 6 (Geb. E2.4)
SUMMARY:Tutorium 2
END:VEVENT
BEGIN:VEVENT
UID:35613637-3266-4564-b837-373834393363
DTSTAMP:20260422T195221Z
DESCRIPTION:Tutor: Maximilian Leist
DTSTART:20230117T111500Z
DTEND:20230117T124500Z
LOCATION:Hörsaal 1 (Geb. E2.5)
SUMMARY:Tutorium 3
END:VEVENT
BEGIN:VEVENT
UID:34636136-6235-4866-a264-633535343461
DTSTAMP:20260422T195221Z
DESCRIPTION:Tutor: Moritz Speicher
DTSTART:20230118T111500Z
DTEND:20230118T124500Z
LOCATION:Seminarraum 5 (Geb. E2.4)
SUMMARY:Tutorium 4
END:VEVENT
BEGIN:VEVENT
UID:38303239-3735-4231-a365-613833336333
DTSTAMP:20260422T195221Z
DESCRIPTION:Tutor: Maximilian Tornes
DTSTART:20230118T131500Z
DTEND:20230118T144500Z
LOCATION:Hörsaal 4 (Geb. E2.4)
SUMMARY:Tutorium 5
END:VEVENT
BEGIN:VEVENT
UID:34386666-3436-4633-b663-393232653537
DTSTAMP:20260422T195221Z
DESCRIPTION:Tutor: Friedrich Günther
DTSTART:20230119T151500Z
DTEND:20230119T164500Z
LOCATION:Seminarraum 10 (Geb. E2.4)
SUMMARY:Tutorium 6
END:VEVENT
BEGIN:VEVENT
UID:36663633-3562-4738-b966-373462343131
DTSTAMP:20260422T195221Z
DESCRIPTION:Tutor: Moritz Speicher
DTSTART:20230120T073000Z
DTEND:20230120T084500Z
LOCATION:Seminarraum 10 (Geb. E2.4)
SUMMARY:Tutorium 7
END:VEVENT
BEGIN:VEVENT
UID:34336237-3538-4761-b632-336364306562
DTSTAMP:20260422T195221Z
DESCRIPTION:Tutorin: Laura Fritz
DTSTART:20230123T073000Z
DTEND:20230123T090000Z
LOCATION:Seminarraum 6 (Geb. E2.4)
SUMMARY:Tutorium 1
END:VEVENT
BEGIN:VEVENT
UID:32623864-6630-4564-b362-326630666430
DTSTAMP:20260422T195221Z
DESCRIPTION:Tutor: Arne Berrens
DTSTART:20230123T111500Z
DTEND:20230123T124500Z
LOCATION:Seminarraum 6 (Geb. E2.4)
SUMMARY:Tutorium 2
END:VEVENT
BEGIN:VEVENT
UID:34623164-3339-4232-a531-343031313339
DTSTAMP:20260422T195221Z
DESCRIPTION:Tutor: Maximilian Leist
DTSTART:20230124T111500Z
DTEND:20230124T124500Z
LOCATION:Hörsaal 1 (Geb. E2.5)
SUMMARY:Tutorium 3
END:VEVENT
BEGIN:VEVENT
UID:39303031-3962-4661-b433-666139333138
DTSTAMP:20260422T195221Z
DESCRIPTION:Tutor: Moritz Speicher
DTSTART:20230125T111500Z
DTEND:20230125T124500Z
LOCATION:Seminarraum 5 (Geb. E2.4)
SUMMARY:Tutorium 4
END:VEVENT
BEGIN:VEVENT
UID:35343334-6437-4865-b238-663161333863
DTSTAMP:20260422T195221Z
DESCRIPTION:Tutor: Maximilian Tornes
DTSTART:20230125T131500Z
DTEND:20230125T144500Z
LOCATION:Hörsaal 4 (Geb. E2.4)
SUMMARY:Tutorium 5
END:VEVENT
BEGIN:VEVENT
UID:34393862-3531-4161-a536-643961346563
DTSTAMP:20260422T195221Z
DESCRIPTION:Tutor: Friedrich Günther
DTSTART:20230126T151500Z
DTEND:20230126T164500Z
LOCATION:Seminarraum 10 (Geb. E2.4)
SUMMARY:Tutorium 6
END:VEVENT
BEGIN:VEVENT
UID:63316634-3961-4635-a162-363366666339
DTSTAMP:20260422T195221Z
DESCRIPTION:Tutor: Moritz Speicher
DTSTART:20230127T073000Z
DTEND:20230127T084500Z
LOCATION:Seminarraum 10 (Geb. E2.4)
SUMMARY:Tutorium 7
END:VEVENT
BEGIN:VEVENT
UID:33653361-6665-4663-b432-353064333261
DTSTAMP:20260422T195221Z
DESCRIPTION:Tutorin: Laura Fritz
DTSTART:20230130T073000Z
DTEND:20230130T090000Z
LOCATION:Seminarraum 6 (Geb. E2.4)
SUMMARY:Tutorium 1
END:VEVENT
BEGIN:VEVENT
UID:61316435-3631-4538-b631-636662393766
DTSTAMP:20260422T195221Z
DESCRIPTION:Tutor: Arne Berrens
DTSTART:20230130T111500Z
DTEND:20230130T124500Z
LOCATION:Seminarraum 6 (Geb. E2.4)
SUMMARY:Tutorium 2
END:VEVENT
BEGIN:VEVENT
UID:36383765-3635-4561-b766-353565346330
DTSTAMP:20260422T195221Z
DESCRIPTION:Tutor: Maximilian Leist
DTSTART:20230131T111500Z
DTEND:20230131T124500Z
LOCATION:Hörsaal 1 (Geb. E2.5)
SUMMARY:Tutorium 3
END:VEVENT
BEGIN:VEVENT
UID:65643465-3762-4965-a230-343635396230
DTSTAMP:20260422T195221Z
DESCRIPTION:Tutor: Moritz Speicher
DTSTART:20230201T111500Z
DTEND:20230201T124500Z
LOCATION:Seminarraum 5 (Geb. E2.4)
SUMMARY:Tutorium 4
END:VEVENT
BEGIN:VEVENT
UID:34303666-3061-4666-b734-343938366364
DTSTAMP:20260422T195221Z
DESCRIPTION:Tutor: Maximilian Tornes
DTSTART:20230201T131500Z
DTEND:20230201T144500Z
LOCATION:Hörsaal 4 (Geb. E2.4)
SUMMARY:Tutorium 5
END:VEVENT
BEGIN:VEVENT
UID:30376263-6134-4034-b463-313738313563
DTSTAMP:20260422T195221Z
DESCRIPTION:Tutor: Friedrich Günther
DTSTART:20230202T151500Z
DTEND:20230202T164500Z
LOCATION:Seminarraum 10 (Geb. E2.4)
SUMMARY:Tutorium 6
END:VEVENT
BEGIN:VEVENT
UID:30326562-3763-4236-b136-646430386163
DTSTAMP:20260422T195221Z
DESCRIPTION:Tutor: Moritz Speicher
DTSTART:20230203T073000Z
DTEND:20230203T084500Z
LOCATION:Seminarraum 10 (Geb. E2.4)
SUMMARY:Tutorium 7
END:VEVENT
BEGIN:VEVENT
UID:34643735-3733-4262-b032-623433383233
DTSTAMP:20260422T195221Z
DESCRIPTION:Tutorin: Laura Fritz
DTSTART:20230206T073000Z
DTEND:20230206T090000Z
LOCATION:Seminarraum 6 (Geb. E2.4)
SUMMARY:Tutorium 1
END:VEVENT
BEGIN:VEVENT
UID:63306335-6532-4064-b633-623137653166
DTSTAMP:20260422T195221Z
DESCRIPTION:Tutor: Arne Berrens
DTSTART:20230206T111500Z
DTEND:20230206T124500Z
LOCATION:Seminarraum 6 (Geb. E2.4)
SUMMARY:Tutorium 2
END:VEVENT
BEGIN:VEVENT
UID:30323763-3033-4139-a330-663662616364
DTSTAMP:20260422T195221Z
DESCRIPTION:Tutor: Maximilian Leist
DTSTART:20230207T111500Z
DTEND:20230207T124500Z
LOCATION:Hörsaal 1 (Geb. E2.5)
SUMMARY:Tutorium 3
END:VEVENT
BEGIN:VEVENT
UID:61336464-3666-4134-b230-626231306534
DTSTAMP:20260422T195221Z
DESCRIPTION:Tutor: Moritz Speicher
DTSTART:20230208T111500Z
DTEND:20230208T124500Z
LOCATION:Seminarraum 5 (Geb. E2.4)
SUMMARY:Tutorium 4
END:VEVENT
BEGIN:VEVENT
UID:63343965-3037-4465-a566-636231313432
DTSTAMP:20260422T195221Z
DESCRIPTION:Tutor: Maximilian Tornes
DTSTART:20230208T131500Z
DTEND:20230208T144500Z
LOCATION:Hörsaal 4 (Geb. E2.4)
SUMMARY:Tutorium 5
END:VEVENT
BEGIN:VEVENT
UID:30616463-6263-4364-b534-373232333030
DTSTAMP:20260422T195221Z
DESCRIPTION:Tutor: Friedrich Günther
DTSTART:20230209T151500Z
DTEND:20230209T164500Z
LOCATION:Seminarraum 10 (Geb. E2.4)
SUMMARY:Tutorium 6
END:VEVENT
BEGIN:VEVENT
UID:34346562-6336-4334-b639-396233353166
DTSTAMP:20260422T195221Z
DESCRIPTION:Tutor: Moritz Speicher
DTSTART:20230210T073000Z
DTEND:20230210T084500Z
LOCATION:Seminarraum 10 (Geb. E2.4)
SUMMARY:Tutorium 7
END:VEVENT
END:VCALENDAR
