BEGIN:VCALENDAR
VERSION:2.0
PRODID:-//134.96.226.213//NONSGML kigkonsult.se iCalcreator 2.41.92//
CALSCALE:GREGORIAN
METHOD:PUBLISH
UID:63623938-3266-4038-a532-383138313438
X-WR-CALNAME:Analysis 1 Calendar
X-WR-CALDESC:Termine der Vorlesung Analysis 1
X-WR-TIMEZONE:Europe/Berlin
BEGIN:VEVENT
UID:63653735-6666-4933-a465-376132366632
DTSTAMP:20260422T195659Z
DESCRIPTION:
DTSTART:20221026T081500Z
DTEND:20221026T094500Z
SUMMARY:Ana1: Vorlesung
END:VEVENT
BEGIN:VEVENT
UID:64623431-3065-4633-b462-363233343733
DTSTAMP:20260422T195659Z
DESCRIPTION:
DTSTART:20221031T091500Z
DTEND:20221031T104500Z
SUMMARY:Ana1: Vorlesung
END:VEVENT
BEGIN:VEVENT
UID:38326535-3065-4739-a562-313537643866
DTSTAMP:20260422T195659Z
DESCRIPTION:
DTSTART:20221102T091500Z
DTEND:20221102T104500Z
SUMMARY:Ana1: Vorlesung
END:VEVENT
BEGIN:VEVENT
UID:62393764-3863-4532-b463-383832626336
DTSTAMP:20260422T195659Z
DESCRIPTION:
DTSTART:20221107T091500Z
DTEND:20221107T104500Z
SUMMARY:Ana1: Vorlesung
END:VEVENT
BEGIN:VEVENT
UID:61383838-6339-4665-b934-386435306234
DTSTAMP:20260422T195659Z
DESCRIPTION:
DTSTART:20221109T091500Z
DTEND:20221109T104500Z
SUMMARY:Ana1: Vorlesung
END:VEVENT
BEGIN:VEVENT
UID:31633265-6265-4166-a635-613663353662
DTSTAMP:20260422T195659Z
DESCRIPTION:
DTSTART:20221114T091500Z
DTEND:20221114T104500Z
SUMMARY:Ana1: Vorlesung
END:VEVENT
BEGIN:VEVENT
UID:61636536-3361-4930-b230-316561623763
DTSTAMP:20260422T195659Z
DESCRIPTION:
DTSTART:20221116T091500Z
DTEND:20221116T104500Z
SUMMARY:Ana1: Vorlesung
END:VEVENT
BEGIN:VEVENT
UID:61343536-6639-4638-b837-343061613663
DTSTAMP:20260422T195659Z
DESCRIPTION:
DTSTART:20221121T091500Z
DTEND:20221121T104500Z
SUMMARY:Ana1: Vorlesung
END:VEVENT
BEGIN:VEVENT
UID:62333637-3965-4333-a239-623137386530
DTSTAMP:20260422T195659Z
DESCRIPTION:
DTSTART:20221123T091500Z
DTEND:20221123T104500Z
SUMMARY:Ana1: Vorlesung
END:VEVENT
BEGIN:VEVENT
UID:37313864-3232-4138-b133-626435366239
DTSTAMP:20260422T195659Z
DESCRIPTION:
DTSTART:20221128T091500Z
DTEND:20221128T104500Z
SUMMARY:Ana1: Vorlesung
END:VEVENT
BEGIN:VEVENT
UID:64383530-3133-4665-b430-663331623530
DTSTAMP:20260422T195659Z
DESCRIPTION:
DTSTART:20221130T091500Z
DTEND:20221130T104500Z
SUMMARY:Ana1: Vorlesung
END:VEVENT
BEGIN:VEVENT
UID:38643066-3262-4461-a536-383936643362
DTSTAMP:20260422T195659Z
DESCRIPTION:
DTSTART:20221205T091500Z
DTEND:20221205T104500Z
SUMMARY:Ana1: Vorlesung
END:VEVENT
BEGIN:VEVENT
UID:39343464-3663-4837-b662-373737373933
DTSTAMP:20260422T195659Z
DESCRIPTION:
DTSTART:20221207T091500Z
DTEND:20221207T104500Z
SUMMARY:Ana1: Vorlesung
END:VEVENT
BEGIN:VEVENT
UID:38373436-3664-4462-b135-336136613439
DTSTAMP:20260422T195659Z
DESCRIPTION:
DTSTART:20221212T091500Z
DTEND:20221212T104500Z
SUMMARY:Ana1: Vorlesung
END:VEVENT
BEGIN:VEVENT
UID:64633431-3531-4536-b532-323439383364
DTSTAMP:20260422T195659Z
DESCRIPTION:
DTSTART:20221214T091500Z
DTEND:20221214T104500Z
SUMMARY:Ana1: Vorlesung
END:VEVENT
BEGIN:VEVENT
UID:61623132-3931-4162-b532-656663346434
DTSTAMP:20260422T195659Z
DESCRIPTION:
DTSTART:20221219T091500Z
DTEND:20221219T104500Z
LOCATION:MS Teams (online)
SUMMARY:Ana1: Vorlesung
END:VEVENT
BEGIN:VEVENT
UID:36613639-3837-4864-b764-656566363434
DTSTAMP:20260422T195659Z
DESCRIPTION:
DTSTART:20221221T091500Z
DTEND:20221221T104500Z
LOCATION:MS Teams (online)
SUMMARY:Ana1: Vorlesung
END:VEVENT
BEGIN:VEVENT
UID:30386465-3531-4566-a532-373434333332
DTSTAMP:20260422T195659Z
DESCRIPTION:
DTSTART:20230104T091500Z
DTEND:20230104T104500Z
LOCATION:MS Teams (online)
SUMMARY:Ana1: Vorlesung
END:VEVENT
BEGIN:VEVENT
UID:32316136-3764-4732-b533-303764373766
DTSTAMP:20260422T195659Z
DESCRIPTION:
DTSTART:20230109T091500Z
DTEND:20230109T104500Z
SUMMARY:Ana1: Vorlesung
END:VEVENT
BEGIN:VEVENT
UID:32643935-3935-4235-b463-663035376465
DTSTAMP:20260422T195659Z
DESCRIPTION:
DTSTART:20230111T091500Z
DTEND:20230111T104500Z
SUMMARY:Ana1: Vorlesung
END:VEVENT
BEGIN:VEVENT
UID:30313665-3938-4630-b032-333939656564
DTSTAMP:20260422T195659Z
DESCRIPTION:
DTSTART:20230116T091500Z
DTEND:20230116T104500Z
SUMMARY:Ana1: Vorlesung
END:VEVENT
BEGIN:VEVENT
UID:36613664-3535-4965-b465-346137646265
DTSTAMP:20260422T195659Z
DESCRIPTION:
DTSTART:20230118T091500Z
DTEND:20230118T104500Z
SUMMARY:Ana1: Vorlesung
END:VEVENT
BEGIN:VEVENT
UID:35663637-3834-4833-b233-323238613235
DTSTAMP:20260422T195659Z
DESCRIPTION:
DTSTART:20230123T091500Z
DTEND:20230123T104500Z
SUMMARY:Ana1: Vorlesung
END:VEVENT
BEGIN:VEVENT
UID:62363439-3063-4530-b762-313465333436
DTSTAMP:20260422T195659Z
DESCRIPTION:
DTSTART:20230125T091500Z
DTEND:20230125T104500Z
SUMMARY:Ana1: Vorlesung
END:VEVENT
BEGIN:VEVENT
UID:35656339-3838-4435-a662-636437353162
DTSTAMP:20260422T195659Z
DESCRIPTION:
DTSTART:20230130T091500Z
DTEND:20230130T104500Z
SUMMARY:Ana1: Vorlesung
END:VEVENT
BEGIN:VEVENT
UID:61616361-3535-4636-b762-363566653062
DTSTAMP:20260422T195659Z
DESCRIPTION:
DTSTART:20230201T091500Z
DTEND:20230201T104500Z
SUMMARY:Ana1: Vorlesung
END:VEVENT
BEGIN:VEVENT
UID:31353032-6566-4266-b864-333734613362
DTSTAMP:20260422T195659Z
DESCRIPTION:
DTSTART:20230206T091500Z
DTEND:20230206T104500Z
SUMMARY:Ana1: Vorlesung
END:VEVENT
BEGIN:VEVENT
UID:61346362-6430-4465-b461-333430363832
DTSTAMP:20260422T195659Z
DESCRIPTION:
DTSTART:20230208T091500Z
DTEND:20230208T104500Z
SUMMARY:Ana1: Vorlesung
END:VEVENT
END:VCALENDAR
