BEGIN:VCALENDAR
VERSION:2.0
PRODID:-//134.96.226.213//NONSGML kigkonsult.se iCalcreator 2.41.92//
CALSCALE:GREGORIAN
METHOD:PUBLISH
UID:31343363-6132-4937-b436-633137316466
X-WR-CALNAME:Analysis 1 Calendar
X-WR-CALDESC:Termine der Vorlesung Analysis 1
X-WR-TIMEZONE:Europe/Berlin
BEGIN:VEVENT
UID:62636438-6365-4434-b966-373137636261
DTSTAMP:20260422T212742Z
DESCRIPTION:
DTSTART:20221026T081500Z
DTEND:20221026T094500Z
SUMMARY:Vorlesung
END:VEVENT
BEGIN:VEVENT
UID:62383131-6664-4366-a635-313866373638
DTSTAMP:20260422T212742Z
DESCRIPTION:
DTSTART:20221031T091500Z
DTEND:20221031T104500Z
SUMMARY:Vorlesung
END:VEVENT
BEGIN:VEVENT
UID:37386530-3366-4463-b131-303364643761
DTSTAMP:20260422T212742Z
DESCRIPTION:
DTSTART:20221102T091500Z
DTEND:20221102T104500Z
SUMMARY:Vorlesung
END:VEVENT
BEGIN:VEVENT
UID:30306431-6439-4633-a238-633639303066
DTSTAMP:20260422T212742Z
DESCRIPTION:
DTSTART:20221107T091500Z
DTEND:20221107T104500Z
SUMMARY:Vorlesung
END:VEVENT
BEGIN:VEVENT
UID:62663561-6366-4763-b866-646535623634
DTSTAMP:20260422T212742Z
DESCRIPTION:
DTSTART:20221109T091500Z
DTEND:20221109T104500Z
SUMMARY:Vorlesung
END:VEVENT
BEGIN:VEVENT
UID:34613838-3362-4264-b836-333833613363
DTSTAMP:20260422T212742Z
DESCRIPTION:
DTSTART:20221114T091500Z
DTEND:20221114T104500Z
SUMMARY:Vorlesung
END:VEVENT
BEGIN:VEVENT
UID:65616138-3239-4435-b235-646336316639
DTSTAMP:20260422T212742Z
DESCRIPTION:
DTSTART:20221116T091500Z
DTEND:20221116T104500Z
SUMMARY:Vorlesung
END:VEVENT
BEGIN:VEVENT
UID:36626138-3037-4864-b636-653331616131
DTSTAMP:20260422T212742Z
DESCRIPTION:
DTSTART:20221121T091500Z
DTEND:20221121T104500Z
SUMMARY:Vorlesung
END:VEVENT
BEGIN:VEVENT
UID:38373765-6231-4330-b133-383266663662
DTSTAMP:20260422T212742Z
DESCRIPTION:
DTSTART:20221123T091500Z
DTEND:20221123T104500Z
SUMMARY:Vorlesung
END:VEVENT
BEGIN:VEVENT
UID:33333062-6464-4435-a263-643130303161
DTSTAMP:20260422T212742Z
DESCRIPTION:
DTSTART:20221128T091500Z
DTEND:20221128T104500Z
SUMMARY:Vorlesung
END:VEVENT
BEGIN:VEVENT
UID:63376363-3962-4762-b862-303535306132
DTSTAMP:20260422T212742Z
DESCRIPTION:
DTSTART:20221130T091500Z
DTEND:20221130T104500Z
SUMMARY:Vorlesung
END:VEVENT
BEGIN:VEVENT
UID:36316365-6634-4563-b830-333635653134
DTSTAMP:20260422T212742Z
DESCRIPTION:
DTSTART:20221205T091500Z
DTEND:20221205T104500Z
SUMMARY:Vorlesung
END:VEVENT
BEGIN:VEVENT
UID:31343538-3631-4663-b634-326164663766
DTSTAMP:20260422T212742Z
DESCRIPTION:
DTSTART:20221207T091500Z
DTEND:20221207T104500Z
SUMMARY:Vorlesung
END:VEVENT
BEGIN:VEVENT
UID:65376639-3432-4135-a339-303536353939
DTSTAMP:20260422T212742Z
DESCRIPTION:
DTSTART:20221212T091500Z
DTEND:20221212T104500Z
SUMMARY:Vorlesung
END:VEVENT
BEGIN:VEVENT
UID:31626535-6430-4866-a362-323936343763
DTSTAMP:20260422T212742Z
DESCRIPTION:
DTSTART:20221214T091500Z
DTEND:20221214T104500Z
SUMMARY:Vorlesung
END:VEVENT
BEGIN:VEVENT
UID:61326432-3564-4336-b934-346638306439
DTSTAMP:20260422T212742Z
DESCRIPTION:
DTSTART:20221219T091500Z
DTEND:20221219T104500Z
LOCATION:MS Teams (online)
SUMMARY:Vorlesung
END:VEVENT
BEGIN:VEVENT
UID:64643338-6534-4837-b838-653831353337
DTSTAMP:20260422T212742Z
DESCRIPTION:
DTSTART:20221221T091500Z
DTEND:20221221T104500Z
LOCATION:MS Teams (online)
SUMMARY:Vorlesung
END:VEVENT
BEGIN:VEVENT
UID:32313632-3264-4436-a633-356532633530
DTSTAMP:20260422T212742Z
DESCRIPTION:
DTSTART:20230104T091500Z
DTEND:20230104T104500Z
LOCATION:MS Teams (online)
SUMMARY:Vorlesung
END:VEVENT
BEGIN:VEVENT
UID:36613139-3233-4239-a263-616561323136
DTSTAMP:20260422T212742Z
DESCRIPTION:
DTSTART:20230109T091500Z
DTEND:20230109T104500Z
SUMMARY:Vorlesung
END:VEVENT
BEGIN:VEVENT
UID:34656564-3938-4461-a436-393333363963
DTSTAMP:20260422T212742Z
DESCRIPTION:
DTSTART:20230111T091500Z
DTEND:20230111T104500Z
SUMMARY:Vorlesung
END:VEVENT
BEGIN:VEVENT
UID:62643965-3033-4662-b839-356439383566
DTSTAMP:20260422T212742Z
DESCRIPTION:
DTSTART:20230116T091500Z
DTEND:20230116T104500Z
SUMMARY:Vorlesung
END:VEVENT
BEGIN:VEVENT
UID:61363738-3937-4363-b734-393636646637
DTSTAMP:20260422T212742Z
DESCRIPTION:
DTSTART:20230118T091500Z
DTEND:20230118T104500Z
SUMMARY:Vorlesung
END:VEVENT
BEGIN:VEVENT
UID:34323262-3065-4838-b832-313839366166
DTSTAMP:20260422T212742Z
DESCRIPTION:
DTSTART:20230123T091500Z
DTEND:20230123T104500Z
SUMMARY:Vorlesung
END:VEVENT
BEGIN:VEVENT
UID:61653439-3931-4965-b662-626666346335
DTSTAMP:20260422T212742Z
DESCRIPTION:
DTSTART:20230125T091500Z
DTEND:20230125T104500Z
SUMMARY:Vorlesung
END:VEVENT
BEGIN:VEVENT
UID:38643132-6665-4561-b437-366364316139
DTSTAMP:20260422T212742Z
DESCRIPTION:
DTSTART:20230130T091500Z
DTEND:20230130T104500Z
SUMMARY:Vorlesung
END:VEVENT
BEGIN:VEVENT
UID:62376432-6334-4739-a536-363066656331
DTSTAMP:20260422T212742Z
DESCRIPTION:
DTSTART:20230201T091500Z
DTEND:20230201T104500Z
SUMMARY:Vorlesung
END:VEVENT
BEGIN:VEVENT
UID:37323032-3237-4661-b632-646566343033
DTSTAMP:20260422T212742Z
DESCRIPTION:
DTSTART:20230206T091500Z
DTEND:20230206T104500Z
SUMMARY:Vorlesung
END:VEVENT
BEGIN:VEVENT
UID:38613066-3863-4830-b131-623339396466
DTSTAMP:20260422T212742Z
DESCRIPTION:
DTSTART:20230208T091500Z
DTEND:20230208T104500Z
SUMMARY:Vorlesung
END:VEVENT
END:VCALENDAR
