BEGIN:VCALENDAR
VERSION:2.0
PRODID:-//134.96.226.213//NONSGML kigkonsult.se iCalcreator 2.41.71//
CALSCALE:GREGORIAN
METHOD:PUBLISH
UID:30633732-3031-4266-b932-656630646462
X-WR-CALNAME:Algorithms for Sequence Analysis Calendar
X-WR-CALDESC:Events of the lecture Algorithms for Sequence Analysis
X-WR-TIMEZONE:Europe/Berlin
BEGIN:VEVENT
UID:39653364-3364-4065-a434-363666333234
DTSTAMP:20260421T150107Z
DESCRIPTION:online lecture via Zoom\, will be recorded
DTSTART:20210413T103000Z
DTEND:20210413T120000Z
LOCATION:online
SUMMARY:Alsa: Tuesday Lecture
END:VEVENT
BEGIN:VEVENT
UID:66336666-6533-4763-a538-613237333230
DTSTAMP:20260421T150107Z
DESCRIPTION:online lecture via Zoom\, will be recorded
DTSTART:20210415T063000Z
DTEND:20210415T080000Z
LOCATION:online
SUMMARY:Alsa: Thursday Lecture
END:VEVENT
BEGIN:VEVENT
UID:35613931-6532-4534-a163-613039346530
DTSTAMP:20260421T150107Z
DESCRIPTION:online lecture via Zoom\, will be recorded
DTSTART:20210420T103000Z
DTEND:20210420T120000Z
LOCATION:online
SUMMARY:Alsa: Tuesday Lecture
END:VEVENT
BEGIN:VEVENT
UID:65623762-3331-4862-a566-386138386365
DTSTAMP:20260421T150107Z
DESCRIPTION:
DTSTART:20210420T121500Z
DTEND:20210420T134500Z
LOCATION:online
SUMMARY:Alsa: Tutorial A
END:VEVENT
BEGIN:VEVENT
UID:35613136-3136-4866-b438-643234313532
DTSTAMP:20260421T150107Z
DESCRIPTION:
DTSTART:20210421T063000Z
DTEND:20210421T080000Z
LOCATION:online
SUMMARY:Alsa: Tutorial B
END:VEVENT
BEGIN:VEVENT
UID:63633633-6564-4436-b336-353336633036
DTSTAMP:20260421T150107Z
DESCRIPTION:online lecture via Zoom\, will be recorded
DTSTART:20210422T063000Z
DTEND:20210422T080000Z
LOCATION:online
SUMMARY:Alsa: Thursday Lecture
END:VEVENT
BEGIN:VEVENT
UID:35663130-3734-4331-b931-356632333265
DTSTAMP:20260421T150107Z
DESCRIPTION:online lecture via Zoom\, will be recorded
DTSTART:20210427T103000Z
DTEND:20210427T120000Z
LOCATION:online
SUMMARY:Alsa: Tuesday Lecture
END:VEVENT
BEGIN:VEVENT
UID:33333636-3738-4636-a437-636232633365
DTSTAMP:20260421T150107Z
DESCRIPTION:
DTSTART:20210427T121500Z
DTEND:20210427T134500Z
LOCATION:online
SUMMARY:Alsa: Tutorial A
END:VEVENT
BEGIN:VEVENT
UID:34353734-6638-4564-b730-373863393663
DTSTAMP:20260421T150107Z
DESCRIPTION:
DTSTART:20210428T063000Z
DTEND:20210428T080000Z
LOCATION:online
SUMMARY:Alsa: Tutorial B
END:VEVENT
BEGIN:VEVENT
UID:30323437-6335-4062-a431-383831366437
DTSTAMP:20260421T150107Z
DESCRIPTION:online lecture via Zoom\, will be recorded
DTSTART:20210429T063000Z
DTEND:20210429T080000Z
LOCATION:online
SUMMARY:Alsa: Thursday Lecture
END:VEVENT
BEGIN:VEVENT
UID:66623532-6464-4266-b162-613334356163
DTSTAMP:20260421T150107Z
DESCRIPTION:online lecture via Zoom\, will be recorded
DTSTART:20210504T103000Z
DTEND:20210504T120000Z
LOCATION:online
SUMMARY:Alsa: Tuesday Lecture
END:VEVENT
BEGIN:VEVENT
UID:36393731-6436-4266-a565-313666313836
DTSTAMP:20260421T150107Z
DESCRIPTION:
DTSTART:20210504T121500Z
DTEND:20210504T134500Z
LOCATION:online
SUMMARY:Alsa: Tutorial A
END:VEVENT
BEGIN:VEVENT
UID:62643933-3361-4239-a464-616161376639
DTSTAMP:20260421T150107Z
DESCRIPTION:
DTSTART:20210505T063000Z
DTEND:20210505T080000Z
LOCATION:online
SUMMARY:Alsa: Tutorial B
END:VEVENT
BEGIN:VEVENT
UID:32653434-6233-4338-b136-396336323632
DTSTAMP:20260421T150107Z
DESCRIPTION:online lecture via Zoom\, will be recorded
DTSTART:20210506T063000Z
DTEND:20210506T080000Z
LOCATION:online
SUMMARY:Alsa: Thursday Lecture
END:VEVENT
BEGIN:VEVENT
UID:30653461-6237-4633-a536-343763316166
DTSTAMP:20260421T150107Z
DESCRIPTION:online lecture via Zoom\, will be recorded
DTSTART:20210511T103000Z
DTEND:20210511T120000Z
LOCATION:online
SUMMARY:Alsa: Tuesday Lecture
END:VEVENT
BEGIN:VEVENT
UID:66386661-3564-4439-a665-353066306534
DTSTAMP:20260421T150107Z
DESCRIPTION:
DTSTART:20210511T121500Z
DTEND:20210511T134500Z
LOCATION:online
SUMMARY:Alsa: Tutorial A
END:VEVENT
BEGIN:VEVENT
UID:66303964-3636-4337-b832-366532616563
DTSTAMP:20260421T150107Z
DESCRIPTION:
DTSTART:20210512T063000Z
DTEND:20210512T080000Z
LOCATION:online
SUMMARY:Alsa: Tutorial B
END:VEVENT
BEGIN:VEVENT
UID:39623663-3631-4334-a565-653130653363
DTSTAMP:20260421T150107Z
DESCRIPTION:online lecture via Zoom\, will be recorded
DTSTART:20210518T103000Z
DTEND:20210518T120000Z
LOCATION:online
SUMMARY:Alsa: Tuesday Lecture
END:VEVENT
BEGIN:VEVENT
UID:62313333-6138-4234-b463-376366646534
DTSTAMP:20260421T150107Z
DESCRIPTION:
DTSTART:20210518T121500Z
DTEND:20210518T134500Z
LOCATION:online
SUMMARY:Alsa: Tutorial A
END:VEVENT
BEGIN:VEVENT
UID:36626666-6337-4138-a664-303838623534
DTSTAMP:20260421T150107Z
DESCRIPTION:
DTSTART:20210519T063000Z
DTEND:20210519T080000Z
LOCATION:online
SUMMARY:Alsa: Tutorial B
END:VEVENT
BEGIN:VEVENT
UID:37323362-6137-4936-b061-636437633461
DTSTAMP:20260421T150107Z
DESCRIPTION:online lecture via Zoom\, will be recorded
DTSTART:20210520T063000Z
DTEND:20210520T080000Z
LOCATION:online
SUMMARY:Alsa: Thursday Lecture
END:VEVENT
BEGIN:VEVENT
UID:35373366-6236-4436-a237-346164336430
DTSTAMP:20260421T150107Z
DESCRIPTION:online lecture via Zoom\, will be recorded
DTSTART:20210525T103000Z
DTEND:20210525T120000Z
LOCATION:online
SUMMARY:Alsa: Tuesday Lecture
END:VEVENT
BEGIN:VEVENT
UID:39656232-3165-4661-a662-303931663735
DTSTAMP:20260421T150107Z
DESCRIPTION:
DTSTART:20210525T121500Z
DTEND:20210525T134500Z
LOCATION:online
SUMMARY:Alsa: Tutorial A
END:VEVENT
BEGIN:VEVENT
UID:34663964-6330-4939-b833-633263313135
DTSTAMP:20260421T150107Z
DESCRIPTION:
DTSTART:20210526T063000Z
DTEND:20210526T080000Z
LOCATION:online
SUMMARY:Alsa: Tutorial B
END:VEVENT
BEGIN:VEVENT
UID:34633136-3134-4465-b364-393538633661
DTSTAMP:20260421T150107Z
DESCRIPTION:online lecture via Zoom\, will be recorded
DTSTART:20210527T063000Z
DTEND:20210527T080000Z
LOCATION:online
SUMMARY:Alsa: Thursday Lecture
END:VEVENT
BEGIN:VEVENT
UID:30643964-6337-4561-b937-366431376161
DTSTAMP:20260421T150107Z
DESCRIPTION:online lecture via Zoom\, will be recorded
DTSTART:20210601T103000Z
DTEND:20210601T120000Z
LOCATION:online
SUMMARY:Alsa: Tuesday Lecture
END:VEVENT
BEGIN:VEVENT
UID:62636239-3566-4533-b637-393738646136
DTSTAMP:20260421T150107Z
DESCRIPTION:
DTSTART:20210601T121500Z
DTEND:20210601T134500Z
LOCATION:online
SUMMARY:Alsa: Tutorial A
END:VEVENT
BEGIN:VEVENT
UID:61393663-3936-4236-b562-353066663965
DTSTAMP:20260421T150107Z
DESCRIPTION:
DTSTART:20210602T063000Z
DTEND:20210602T080000Z
LOCATION:online
SUMMARY:Alsa: Tutorial B
END:VEVENT
BEGIN:VEVENT
UID:64313930-3963-4262-a164-616166333630
DTSTAMP:20260421T150107Z
DESCRIPTION:online lecture via Zoom\, will be recorded
DTSTART:20210608T103000Z
DTEND:20210608T120000Z
LOCATION:online
SUMMARY:Alsa: Tuesday Lecture
END:VEVENT
BEGIN:VEVENT
UID:38633562-6364-4436-a163-663533653038
DTSTAMP:20260421T150107Z
DESCRIPTION:
DTSTART:20210608T121500Z
DTEND:20210608T134500Z
LOCATION:online
SUMMARY:Alsa: Tutorial A
END:VEVENT
BEGIN:VEVENT
UID:39356665-6165-4832-a130-343066316462
DTSTAMP:20260421T150107Z
DESCRIPTION:
DTSTART:20210609T063000Z
DTEND:20210609T080000Z
LOCATION:online
SUMMARY:Alsa: Tutorial B
END:VEVENT
BEGIN:VEVENT
UID:65333833-6164-4162-b734-623932646235
DTSTAMP:20260421T150107Z
DESCRIPTION:online lecture via Zoom\, will be recorded
DTSTART:20210610T063000Z
DTEND:20210610T080000Z
LOCATION:online
SUMMARY:Alsa: Thursday Lecture
END:VEVENT
BEGIN:VEVENT
UID:38343337-6630-4534-b661-346334623033
DTSTAMP:20260421T150107Z
DESCRIPTION:online lecture via Zoom\, will be recorded
DTSTART:20210615T103000Z
DTEND:20210615T120000Z
LOCATION:online
SUMMARY:Alsa: Tuesday Lecture
END:VEVENT
BEGIN:VEVENT
UID:32373735-3334-4630-a232-366635326433
DTSTAMP:20260421T150107Z
DESCRIPTION:
DTSTART:20210615T121500Z
DTEND:20210615T134500Z
LOCATION:online
SUMMARY:Alsa: Tutorial A
END:VEVENT
BEGIN:VEVENT
UID:37316337-3861-4462-b632-663331326663
DTSTAMP:20260421T150107Z
DESCRIPTION:
DTSTART:20210616T063000Z
DTEND:20210616T080000Z
LOCATION:online
SUMMARY:Alsa: Tutorial B
END:VEVENT
BEGIN:VEVENT
UID:30306333-3531-4630-b035-353366656639
DTSTAMP:20260421T150107Z
DESCRIPTION:online lecture via Zoom\, will be recorded
DTSTART:20210617T063000Z
DTEND:20210617T080000Z
LOCATION:online
SUMMARY:Alsa: Thursday Lecture
END:VEVENT
BEGIN:VEVENT
UID:37663163-3064-4937-a438-373030633533
DTSTAMP:20260421T150107Z
DESCRIPTION:online lecture via Zoom\, will be recorded
DTSTART:20210622T103000Z
DTEND:20210622T120000Z
LOCATION:online
SUMMARY:Alsa: Tuesday Lecture
END:VEVENT
BEGIN:VEVENT
UID:34633039-3438-4031-b830-393732353662
DTSTAMP:20260421T150107Z
DESCRIPTION:
DTSTART:20210622T121500Z
DTEND:20210622T134500Z
LOCATION:online
SUMMARY:Alsa: Tutorial A
END:VEVENT
BEGIN:VEVENT
UID:66393232-3030-4061-b330-353739316363
DTSTAMP:20260421T150107Z
DESCRIPTION:
DTSTART:20210623T063000Z
DTEND:20210623T080000Z
LOCATION:online
SUMMARY:Alsa: Tutorial B
END:VEVENT
BEGIN:VEVENT
UID:36366533-3431-4364-b637-333665376635
DTSTAMP:20260421T150107Z
DESCRIPTION:online lecture via Zoom\, will be recorded
DTSTART:20210624T063000Z
DTEND:20210624T080000Z
LOCATION:online
SUMMARY:Alsa: Thursday Lecture
END:VEVENT
BEGIN:VEVENT
UID:36346333-6433-4535-a232-663330313461
DTSTAMP:20260421T150107Z
DESCRIPTION:online lecture via Zoom\, will be recorded
DTSTART:20210629T103000Z
DTEND:20210629T120000Z
LOCATION:online
SUMMARY:Alsa: Tuesday Lecture
END:VEVENT
BEGIN:VEVENT
UID:61666136-3035-4463-b834-356663656564
DTSTAMP:20260421T150107Z
DESCRIPTION:
DTSTART:20210629T121500Z
DTEND:20210629T134500Z
LOCATION:online
SUMMARY:Alsa: Tutorial A
END:VEVENT
BEGIN:VEVENT
UID:33313837-3936-4064-a633-393161626235
DTSTAMP:20260421T150107Z
DESCRIPTION:
DTSTART:20210630T063000Z
DTEND:20210630T080000Z
LOCATION:online
SUMMARY:Alsa: Tutorial B
END:VEVENT
BEGIN:VEVENT
UID:36333861-3562-4063-b363-613430663334
DTSTAMP:20260421T150107Z
DESCRIPTION:online lecture via Zoom\, will be recorded
DTSTART:20210701T063000Z
DTEND:20210701T080000Z
LOCATION:online
SUMMARY:Alsa: Thursday Lecture
END:VEVENT
BEGIN:VEVENT
UID:63353965-3935-4132-b537-616262316661
DTSTAMP:20260421T150107Z
DESCRIPTION:online lecture via Zoom\, will be recorded
DTSTART:20210706T103000Z
DTEND:20210706T120000Z
LOCATION:online
SUMMARY:Alsa: Tuesday Lecture
END:VEVENT
BEGIN:VEVENT
UID:37656366-6464-4065-b664-373465383332
DTSTAMP:20260421T150107Z
DESCRIPTION:
DTSTART:20210706T121500Z
DTEND:20210706T134500Z
LOCATION:online
SUMMARY:Alsa: Tutorial A
END:VEVENT
BEGIN:VEVENT
UID:62363236-3736-4865-b764-613564353231
DTSTAMP:20260421T150107Z
DESCRIPTION:
DTSTART:20210707T063000Z
DTEND:20210707T080000Z
LOCATION:online
SUMMARY:Alsa: Tutorial B
END:VEVENT
BEGIN:VEVENT
UID:39346231-6133-4437-b166-316237366662
DTSTAMP:20260421T150107Z
DESCRIPTION:online lecture via Zoom\, will be recorded
DTSTART:20210708T063000Z
DTEND:20210708T080000Z
LOCATION:online
SUMMARY:Alsa: Thursday Lecture
END:VEVENT
BEGIN:VEVENT
UID:39383633-6630-4033-b033-613762633961
DTSTAMP:20260421T150107Z
DESCRIPTION:online lecture via Zoom\, will be recorded
DTSTART:20210713T103000Z
DTEND:20210713T120000Z
LOCATION:online
SUMMARY:Alsa: Tuesday Lecture
END:VEVENT
BEGIN:VEVENT
UID:66396661-3936-4637-a230-366632653638
DTSTAMP:20260421T150107Z
DESCRIPTION:
DTSTART:20210713T121500Z
DTEND:20210713T134500Z
LOCATION:online
SUMMARY:Alsa: Tutorial A
END:VEVENT
BEGIN:VEVENT
UID:37356639-3466-4563-b136-373633663033
DTSTAMP:20260421T150107Z
DESCRIPTION:
DTSTART:20210714T063000Z
DTEND:20210714T080000Z
LOCATION:online
SUMMARY:Alsa: Tutorial B
END:VEVENT
BEGIN:VEVENT
UID:36656138-3962-4763-a664-363834396665
DTSTAMP:20260421T150107Z
DESCRIPTION:online lecture via Zoom\, will be recorded
DTSTART:20210715T063000Z
DTEND:20210715T080000Z
LOCATION:online
SUMMARY:Alsa: Thursday Lecture
END:VEVENT
BEGIN:VEVENT
UID:61323135-6562-4335-a565-613265343531
DTSTAMP:20260421T150107Z
DESCRIPTION:online lecture via Zoom\, will be recorded
DTSTART:20210720T103000Z
DTEND:20210720T120000Z
LOCATION:online
SUMMARY:Alsa: Tuesday Lecture
END:VEVENT
BEGIN:VEVENT
UID:62356334-3237-4431-b566-613633393638
DTSTAMP:20260421T150107Z
DESCRIPTION:
DTSTART:20210720T121500Z
DTEND:20210720T134500Z
LOCATION:online
SUMMARY:Alsa: Tutorial A
END:VEVENT
BEGIN:VEVENT
UID:61613031-6234-4564-b236-386438333337
DTSTAMP:20260421T150107Z
DESCRIPTION:
DTSTART:20210721T063000Z
DTEND:20210721T080000Z
LOCATION:online
SUMMARY:Alsa: Tutorial B
END:VEVENT
BEGIN:VEVENT
UID:37356261-6436-4531-b262-306338383962
DTSTAMP:20260421T150107Z
DESCRIPTION:online lecture via Zoom\, will be recorded
DTSTART:20210722T063000Z
DTEND:20210722T080000Z
LOCATION:online
SUMMARY:Alsa: Thursday Lecture
END:VEVENT
END:VCALENDAR
