BEGIN:VCALENDAR
VERSION:2.0
PRODID:-//134.96.226.213//NONSGML kigkonsult.se iCalcreator 2.41.71//
CALSCALE:GREGORIAN
METHOD:PUBLISH
UID:39373036-3664-4034-a363-383730316237
X-WR-CALNAME:Algorithms for Sequence Analysis Calendar
X-WR-CALDESC:Events of the lecture Algorithms for Sequence Analysis
X-WR-TIMEZONE:Europe/Berlin
BEGIN:VEVENT
UID:33333535-3330-4939-b664-616134616164
DTSTAMP:20260421T150001Z
DESCRIPTION:
DTSTART:20210420T121500Z
DTEND:20210420T134500Z
LOCATION:online
SUMMARY:Tutorial A
END:VEVENT
BEGIN:VEVENT
UID:61616365-3966-4334-a334-396631653539
DTSTAMP:20260421T150001Z
DESCRIPTION:
DTSTART:20210421T063000Z
DTEND:20210421T080000Z
LOCATION:online
SUMMARY:Tutorial B
END:VEVENT
BEGIN:VEVENT
UID:35643161-3538-4237-b863-363535306538
DTSTAMP:20260421T150001Z
DESCRIPTION:
DTSTART:20210427T121500Z
DTEND:20210427T134500Z
LOCATION:online
SUMMARY:Tutorial A
END:VEVENT
BEGIN:VEVENT
UID:39303062-3632-4363-b734-616130333230
DTSTAMP:20260421T150001Z
DESCRIPTION:
DTSTART:20210428T063000Z
DTEND:20210428T080000Z
LOCATION:online
SUMMARY:Tutorial B
END:VEVENT
BEGIN:VEVENT
UID:32316461-6663-4162-b136-326466393339
DTSTAMP:20260421T150001Z
DESCRIPTION:
DTSTART:20210504T121500Z
DTEND:20210504T134500Z
LOCATION:online
SUMMARY:Tutorial A
END:VEVENT
BEGIN:VEVENT
UID:35353832-3737-4630-b465-393739616435
DTSTAMP:20260421T150001Z
DESCRIPTION:
DTSTART:20210505T063000Z
DTEND:20210505T080000Z
LOCATION:online
SUMMARY:Tutorial B
END:VEVENT
BEGIN:VEVENT
UID:64636461-3032-4836-b433-313261393831
DTSTAMP:20260421T150001Z
DESCRIPTION:
DTSTART:20210511T121500Z
DTEND:20210511T134500Z
LOCATION:online
SUMMARY:Tutorial A
END:VEVENT
BEGIN:VEVENT
UID:61326137-3664-4763-a262-663161633635
DTSTAMP:20260421T150001Z
DESCRIPTION:
DTSTART:20210512T063000Z
DTEND:20210512T080000Z
LOCATION:online
SUMMARY:Tutorial B
END:VEVENT
BEGIN:VEVENT
UID:61333439-6338-4438-a230-333163316465
DTSTAMP:20260421T150001Z
DESCRIPTION:
DTSTART:20210518T121500Z
DTEND:20210518T134500Z
LOCATION:online
SUMMARY:Tutorial A
END:VEVENT
BEGIN:VEVENT
UID:32613931-6539-4233-a330-396630393535
DTSTAMP:20260421T150001Z
DESCRIPTION:
DTSTART:20210519T063000Z
DTEND:20210519T080000Z
LOCATION:online
SUMMARY:Tutorial B
END:VEVENT
BEGIN:VEVENT
UID:65383034-3638-4536-b939-363835343361
DTSTAMP:20260421T150001Z
DESCRIPTION:
DTSTART:20210525T121500Z
DTEND:20210525T134500Z
LOCATION:online
SUMMARY:Tutorial A
END:VEVENT
BEGIN:VEVENT
UID:30373639-6634-4637-a639-383039613437
DTSTAMP:20260421T150001Z
DESCRIPTION:
DTSTART:20210526T063000Z
DTEND:20210526T080000Z
LOCATION:online
SUMMARY:Tutorial B
END:VEVENT
BEGIN:VEVENT
UID:65663939-3265-4561-b863-303739613437
DTSTAMP:20260421T150001Z
DESCRIPTION:
DTSTART:20210601T121500Z
DTEND:20210601T134500Z
LOCATION:online
SUMMARY:Tutorial A
END:VEVENT
BEGIN:VEVENT
UID:35373763-3266-4964-a639-346432376566
DTSTAMP:20260421T150001Z
DESCRIPTION:
DTSTART:20210602T063000Z
DTEND:20210602T080000Z
LOCATION:online
SUMMARY:Tutorial B
END:VEVENT
BEGIN:VEVENT
UID:66383033-6463-4062-a561-646163646464
DTSTAMP:20260421T150001Z
DESCRIPTION:
DTSTART:20210608T121500Z
DTEND:20210608T134500Z
LOCATION:online
SUMMARY:Tutorial A
END:VEVENT
BEGIN:VEVENT
UID:36316436-3134-4237-a131-393336333535
DTSTAMP:20260421T150001Z
DESCRIPTION:
DTSTART:20210609T063000Z
DTEND:20210609T080000Z
LOCATION:online
SUMMARY:Tutorial B
END:VEVENT
BEGIN:VEVENT
UID:66306339-6535-4836-b761-383165316530
DTSTAMP:20260421T150001Z
DESCRIPTION:
DTSTART:20210615T121500Z
DTEND:20210615T134500Z
LOCATION:online
SUMMARY:Tutorial A
END:VEVENT
BEGIN:VEVENT
UID:39323164-3432-4133-b364-393966666162
DTSTAMP:20260421T150001Z
DESCRIPTION:
DTSTART:20210616T063000Z
DTEND:20210616T080000Z
LOCATION:online
SUMMARY:Tutorial B
END:VEVENT
BEGIN:VEVENT
UID:36303536-3066-4263-a431-303133313737
DTSTAMP:20260421T150001Z
DESCRIPTION:
DTSTART:20210622T121500Z
DTEND:20210622T134500Z
LOCATION:online
SUMMARY:Tutorial A
END:VEVENT
BEGIN:VEVENT
UID:36383339-3831-4366-b036-366166336537
DTSTAMP:20260421T150001Z
DESCRIPTION:
DTSTART:20210623T063000Z
DTEND:20210623T080000Z
LOCATION:online
SUMMARY:Tutorial B
END:VEVENT
BEGIN:VEVENT
UID:31303535-3434-4437-b437-353665643062
DTSTAMP:20260421T150001Z
DESCRIPTION:
DTSTART:20210629T121500Z
DTEND:20210629T134500Z
LOCATION:online
SUMMARY:Tutorial A
END:VEVENT
BEGIN:VEVENT
UID:32393836-3433-4135-b166-366366376165
DTSTAMP:20260421T150001Z
DESCRIPTION:
DTSTART:20210630T063000Z
DTEND:20210630T080000Z
LOCATION:online
SUMMARY:Tutorial B
END:VEVENT
BEGIN:VEVENT
UID:36666661-6661-4737-b431-363936363135
DTSTAMP:20260421T150001Z
DESCRIPTION:
DTSTART:20210706T121500Z
DTEND:20210706T134500Z
LOCATION:online
SUMMARY:Tutorial A
END:VEVENT
BEGIN:VEVENT
UID:34613561-3137-4039-a564-313366383734
DTSTAMP:20260421T150001Z
DESCRIPTION:
DTSTART:20210707T063000Z
DTEND:20210707T080000Z
LOCATION:online
SUMMARY:Tutorial B
END:VEVENT
BEGIN:VEVENT
UID:61396231-6531-4630-a266-303437356237
DTSTAMP:20260421T150001Z
DESCRIPTION:
DTSTART:20210713T121500Z
DTEND:20210713T134500Z
LOCATION:online
SUMMARY:Tutorial A
END:VEVENT
BEGIN:VEVENT
UID:33623266-6632-4833-b031-346332396631
DTSTAMP:20260421T150001Z
DESCRIPTION:
DTSTART:20210714T063000Z
DTEND:20210714T080000Z
LOCATION:online
SUMMARY:Tutorial B
END:VEVENT
BEGIN:VEVENT
UID:32636637-3232-4163-a462-303266616132
DTSTAMP:20260421T150001Z
DESCRIPTION:
DTSTART:20210720T121500Z
DTEND:20210720T134500Z
LOCATION:online
SUMMARY:Tutorial A
END:VEVENT
BEGIN:VEVENT
UID:37653036-6339-4864-a265-323538366465
DTSTAMP:20260421T150001Z
DESCRIPTION:
DTSTART:20210721T063000Z
DTEND:20210721T080000Z
LOCATION:online
SUMMARY:Tutorial B
END:VEVENT
END:VCALENDAR
