BEGIN:VCALENDAR
VERSION:2.0
PRODID:-//134.96.226.213//NONSGML kigkonsult.se iCalcreator 2.41.92//
CALSCALE:GREGORIAN
METHOD:PUBLISH
UID:30616338-3430-4435-b132-393830333162
X-WR-CALNAME:Artificial Intelligence Calendar
X-WR-CALDESC:Events of the lecture Artificial Intelligence
X-WR-TIMEZONE:Europe/Berlin
BEGIN:VEVENT
UID:33636237-6662-4561-a662-386533663833
DTSTAMP:20260425T170016Z
DESCRIPTION:Lecturer: Prof. Dr. Jörg Hoffmann
DTSTART:20251014T121500Z
DTEND:20251014T140000Z
LOCATION:E1 3\, Lecture Hall 002
SUMMARY:Ai: About this Course
END:VEVENT
BEGIN:VEVENT
UID:30613136-3131-4637-b066-386463386636
DTSTAMP:20260425T170016Z
DESCRIPTION:Lecturer: Prof. Dr. Jörg Hoffmann
DTSTART:20251016T081500Z
DTEND:20251016T100000Z
LOCATION:E1 3\, Lecture Hall 002
SUMMARY:Ai: Introduction to AI & A Glimpse of the Omitted Areas
END:VEVENT
BEGIN:VEVENT
UID:35316234-3635-4262-a237-393336646538
DTSTAMP:20260425T170016Z
DESCRIPTION:Lecturer: Prof. Dr. Jörg Hoffmann
DTSTART:20251021T121500Z
DTEND:20251021T140000Z
LOCATION:E1 3\, Lecture Hall 002
SUMMARY:Ai: Search I: Blind Search
END:VEVENT
BEGIN:VEVENT
UID:65316165-3465-4337-a537-323737333539
DTSTAMP:20260425T170016Z
DESCRIPTION:Lecturer: Prof. Dr. Jörg Hoffmann
DTSTART:20251023T081500Z
DTEND:20251023T100000Z
LOCATION:E1 3\, Lecture Hall 002
SUMMARY:Ai: Search I: Blind Search & Search II: Heuristic Search
END:VEVENT
BEGIN:VEVENT
UID:32383433-6361-4137-a334-303865623363
DTSTAMP:20260425T170016Z
DESCRIPTION:Lecturer: Prof. Dr. Jörg Hoffmann
DTSTART:20251028T131500Z
DTEND:20251028T150000Z
LOCATION:E1 3\, Lecture Hall 002
SUMMARY:Ai: Search II: Heuristic Search & Search III: Sparse Search
END:VEVENT
BEGIN:VEVENT
UID:36346134-3231-4333-b930-306662396633
DTSTAMP:20260425T170016Z
DESCRIPTION:Lecturer: Prof. Dr. Jörg Hoffmann
DTSTART:20251030T091500Z
DTEND:20251030T110000Z
LOCATION:E1 3\, Lecture Hall 002
SUMMARY:Ai: Search III: Sparse Search
END:VEVENT
BEGIN:VEVENT
UID:65373463-6637-4736-b738-323934666666
DTSTAMP:20260425T170016Z
DESCRIPTION:
DTSTART:20251030T131500Z
DTEND:20251030T144500Z
LOCATION:E1 1\, 3.06
SUMMARY:Ai: Office Hour
END:VEVENT
BEGIN:VEVENT
UID:39386231-3862-4537-a364-613065653631
DTSTAMP:20260425T170016Z
DESCRIPTION:
DTSTART;VALUE=DATE:20251103
DTEND;VALUE=DATE:20251108
SUMMARY:Ai: Tutorials (Ch. 3 Search I and Ch. 4 Search II)
END:VEVENT
BEGIN:VEVENT
UID:37626563-3866-4736-b236-656133393930
DTSTAMP:20260425T170016Z
DESCRIPTION:Lecturer: Prof. Dr. Jörg Hoffmann
DTSTART:20251104T131500Z
DTEND:20251104T150000Z
LOCATION:E1 3\, Lecture Hall 002
SUMMARY:Ai: Symbolic Planning I: Formalisms
END:VEVENT
BEGIN:VEVENT
UID:32333733-3430-4230-b437-626634376362
DTSTAMP:20260425T170016Z
DESCRIPTION:In this demonstration\, I will give an introduction to the prog
 ramming project framework. You will go through\n- How to clone the Git rep
 ository assigned to you\n- How to configure and build the project\n- How t
 o set up CLion to work on the project within the IDE\n- A basic overview o
 ver the framework's structure\n- How to work on a project task\n- Testing 
 your implementation
DTSTART:20251104T150000Z
DTEND:20251104T160000Z
LOCATION:E1 3\, HS 002
SUMMARY:Ai: Presentation: The programming project framework
END:VEVENT
BEGIN:VEVENT
UID:38663666-3162-4030-b031-633731633663
DTSTAMP:20260425T170016Z
DESCRIPTION:
DTSTART:20251104T150000Z
DTEND:20251120T130000Z
SUMMARY:Ai: Project 0: Blind + Goal-Count Heuristic
END:VEVENT
BEGIN:VEVENT
UID:64373135-3065-4736-b239-356530636431
DTSTAMP:20260425T170016Z
DESCRIPTION:Lecturer: Prof. Dr. Jörg Hoffmann
DTSTART:20251106T091500Z
DTEND:20251106T110000Z
LOCATION:E1 3\, Lecture Hall 002
SUMMARY:Ai: Symbolic Planning I: Formalisms & Symbolic Planning II: Heurist
 ic Search Basics
END:VEVENT
BEGIN:VEVENT
UID:38356662-6134-4634-b666-336539373935
DTSTAMP:20260425T170016Z
DESCRIPTION:
DTSTART:20251106T131500Z
DTEND:20251106T144500Z
LOCATION:E1 1\, 3.06
SUMMARY:Ai: Office Hour
END:VEVENT
BEGIN:VEVENT
UID:32633532-3666-4632-a332-633963363563
DTSTAMP:20260425T170016Z
DESCRIPTION:
DTSTART;VALUE=DATE:20251110
DTEND;VALUE=DATE:20251115
SUMMARY:Ai: Tutorials (Ch. 5 Search III)
END:VEVENT
BEGIN:VEVENT
UID:33343038-6430-4133-b934-336666386238
DTSTAMP:20260425T170016Z
DESCRIPTION:Lecturer: Prof. Dr. Jörg Hoffmann
DTSTART:20251111T131500Z
DTEND:20251111T150000Z
LOCATION:E1 3\, Lecture Hall 002
SUMMARY:Ai: Symbolic Planning II: Heuristic Search Basics & Symbolic Planni
 ng III: Critical-Path Heuristics
END:VEVENT
BEGIN:VEVENT
UID:36636538-6632-4163-a533-303863303234
DTSTAMP:20260425T170016Z
DESCRIPTION:Lecturer: Prof. Dr. Jörg Hoffmann
DTSTART:20251113T091500Z
DTEND:20251113T110000Z
LOCATION:E1 3\, Lecture Hall 002
SUMMARY:Ai: Symbolic Planning IV: Delete-Relaxation Heuristics
END:VEVENT
BEGIN:VEVENT
UID:66386539-6361-4534-b532-383562393032
DTSTAMP:20260425T170016Z
DESCRIPTION:
DTSTART:20251113T131500Z
DTEND:20251113T144500Z
LOCATION:E1 1\, 3.06
SUMMARY:Ai: Office Hour
END:VEVENT
BEGIN:VEVENT
UID:62643538-3036-4835-b963-646235613865
DTSTAMP:20260425T170016Z
DESCRIPTION:
DTSTART;VALUE=DATE:20251117
DTEND;VALUE=DATE:20251122
SUMMARY:Ai: Tutorials (Ch. 6 Planning I and Ch. 7 Planning II)
END:VEVENT
BEGIN:VEVENT
UID:32386230-6136-4439-a361-383462616135
DTSTAMP:20260425T170016Z
DESCRIPTION:Lecturer: Prof. Dr. Jörg Hoffmann
DTSTART:20251118T131500Z
DTEND:20251118T150000Z
LOCATION:E1 3\, Lecture Hall 002
SUMMARY:Ai: Symbolic Planning IV: Delete-Relaxation Heuristics
END:VEVENT
BEGIN:VEVENT
UID:31316563-3836-4032-b736-346433646631
DTSTAMP:20260425T170016Z
DESCRIPTION:
DTSTART:20251120T130000Z
DTEND:20251204T130000Z
SUMMARY:Ai: Project 1: HMax + HFF Heuristics
END:VEVENT
BEGIN:VEVENT
UID:30666563-3939-4432-b738-656531303838
DTSTAMP:20260425T170016Z
DESCRIPTION:
DTSTART:20251120T131500Z
DTEND:20251120T144500Z
LOCATION:E1 1\, 3.06
SUMMARY:Ai: Office Hour
END:VEVENT
BEGIN:VEVENT
UID:65343832-3764-4663-b233-636439346335
DTSTAMP:20260425T170016Z
DESCRIPTION:
DTSTART;VALUE=DATE:20251124
DTEND;VALUE=DATE:20251129
SUMMARY:Ai: Tutorials (Ch. 7 Planning II and Ch. 8 Planning III)
END:VEVENT
BEGIN:VEVENT
UID:62613935-3032-4262-b939-333663376337
DTSTAMP:20260425T170016Z
DESCRIPTION:Lecturer: Dr. Daniel Höller
DTSTART:20251125T131500Z
DTEND:20251125T150000Z
LOCATION:E1 3\, Lecture Hall 002
SUMMARY:Ai: Symbolic Planning V: Abstractions
END:VEVENT
BEGIN:VEVENT
UID:61626336-3332-4165-a637-353363643339
DTSTAMP:20260425T170016Z
DESCRIPTION:Lecturer: Dr. Daniel Höller
DTSTART:20251127T091500Z
DTEND:20251127T110000Z
LOCATION:E1 3\, Lecture Hall 002
SUMMARY:Ai: Symbolic Planning V: Abstractions & Symbolic Planning VI: Patte
 rn Databases
END:VEVENT
BEGIN:VEVENT
UID:31373834-6532-4638-a262-633534333231
DTSTAMP:20260425T170016Z
DESCRIPTION:
DTSTART:20251127T131500Z
DTEND:20251127T144500Z
LOCATION:E1 1\, 3.06
SUMMARY:Ai: Office Hour
END:VEVENT
BEGIN:VEVENT
UID:39343162-3539-4666-b138-346338323232
DTSTAMP:20260425T170016Z
DESCRIPTION:
DTSTART;VALUE=DATE:20251201
DTEND;VALUE=DATE:20251206
SUMMARY:Ai: Tutorials (Ch. 9 Planning IV)
END:VEVENT
BEGIN:VEVENT
UID:32316630-3962-4638-a265-656466393163
DTSTAMP:20260425T170016Z
DESCRIPTION:Lecturer: Dr. Daniel Höller
DTSTART:20251202T131500Z
DTEND:20251202T150000Z
LOCATION:E1 3\, Lecture Hall 002
SUMMARY:Ai: ML Basics
END:VEVENT
BEGIN:VEVENT
UID:62303465-6566-4234-b036-316230663762
DTSTAMP:20260425T170016Z
DESCRIPTION:Lecturer: Dr. Daniel Höller
DTSTART:20251204T091500Z
DTEND:20251204T110000Z
LOCATION:E1 3\, Lecture Hall 002
SUMMARY:Ai: ML Basics & Symbolic Planning VII: Learning
END:VEVENT
BEGIN:VEVENT
UID:34626166-6436-4165-b132-353162656461
DTSTAMP:20260425T170016Z
DESCRIPTION:
DTSTART:20251204T130000Z
DTEND:20251218T130000Z
SUMMARY:Ai: Project 2: PDB Heuristics
END:VEVENT
BEGIN:VEVENT
UID:33663636-3430-4562-a531-656163643164
DTSTAMP:20260425T170016Z
DESCRIPTION:
DTSTART:20251204T131500Z
DTEND:20251204T144500Z
LOCATION:E1 1\, 3.06
SUMMARY:Ai: Office Hour
END:VEVENT
BEGIN:VEVENT
UID:36376438-3138-4536-b461-643732636364
DTSTAMP:20260425T170016Z
DESCRIPTION:
DTSTART;VALUE=DATE:20251208
DTEND;VALUE=DATE:20251213
SUMMARY:Ai: Tutorials (Ch. 10 Planning V and Ch. 11 Planning VI)
END:VEVENT
BEGIN:VEVENT
UID:30363238-3138-4664-a634-333063636338
DTSTAMP:20260425T170016Z
DESCRIPTION:
DTSTART:20251209T131500Z
DTEND:20251209T150000Z
LOCATION:E1 3\, Lecture Hall 002
SUMMARY:Ai: MDPs I: Introduction & Heuristic Search
END:VEVENT
BEGIN:VEVENT
UID:36373765-6239-4764-b239-303233316532
DTSTAMP:20260425T170016Z
DESCRIPTION:
DTSTART:20251211T091500Z
DTEND:20251211T110000Z
LOCATION:E1 3\, Lecture Hall 002
SUMMARY:Ai: MDPs I: Introduction & Heuristic Search
END:VEVENT
BEGIN:VEVENT
UID:61633033-6664-4634-b862-616239383962
DTSTAMP:20260425T170016Z
DESCRIPTION:
DTSTART:20251211T131500Z
DTEND:20251211T144500Z
LOCATION:E1 1\, 3.06
SUMMARY:Ai: Office Hour
END:VEVENT
BEGIN:VEVENT
UID:34633837-6665-4663-b237-333132353663
DTSTAMP:20260425T170016Z
DESCRIPTION:
DTSTART;VALUE=DATE:20251215
DTEND;VALUE=DATE:20251220
SUMMARY:Ai: Tutorials (Ch. 12 ML and Ch. 13 Planning VII)
END:VEVENT
BEGIN:VEVENT
UID:33633836-6464-4861-b864-353365626632
DTSTAMP:20260425T170016Z
DESCRIPTION:
DTSTART:20251216T131500Z
DTEND:20251216T150000Z
LOCATION:E1 3\, Lecture Hall 002
SUMMARY:Ai: MDPs II: Probabilistic Planning & PDBs
END:VEVENT
BEGIN:VEVENT
UID:39353932-6463-4862-b338-313334616337
DTSTAMP:20260425T170016Z
DESCRIPTION:
DTSTART:20251218T131500Z
DTEND:20251218T144500Z
LOCATION:E1 1\, 3.06
SUMMARY:Ai: Office Hour
END:VEVENT
BEGIN:VEVENT
UID:38643138-3332-4635-b965-666138333063
DTSTAMP:20260425T170016Z
DESCRIPTION:Lecturer: Prof. Dr. Jörg Hoffmann
DTSTART:20260108T091500Z
DTEND:20260108T110000Z
LOCATION:E1 3\, Lecture Hall 002
SUMMARY:Ai: MDPs III: Reinforcement Learning
END:VEVENT
BEGIN:VEVENT
UID:62366437-3765-4539-b764-353363353236
DTSTAMP:20260425T170016Z
DESCRIPTION:
DTSTART:20260108T130000Z
DTEND:20260123T130000Z
SUMMARY:Ai: Project 3: Supervised Learning
END:VEVENT
BEGIN:VEVENT
UID:36373565-3634-4936-a130-656438616235
DTSTAMP:20260425T170016Z
DESCRIPTION:
DTSTART:20260108T131500Z
DTEND:20260108T144500Z
LOCATION:E1 1\, 3.06
SUMMARY:Ai: Office Hour
END:VEVENT
BEGIN:VEVENT
UID:30643533-3539-4164-b562-363931663561
DTSTAMP:20260425T170016Z
DESCRIPTION:
DTSTART;VALUE=DATE:20260112
DTEND;VALUE=DATE:20260117
SUMMARY:Ai: Tutorials (Ch. 14 MDPs)
END:VEVENT
BEGIN:VEVENT
UID:37656262-6134-4538-a539-613832306639
DTSTAMP:20260425T170016Z
DESCRIPTION:Lecturer: Prof. Dr. Jörg Hoffmann
DTSTART:20260113T131500Z
DTEND:20260113T150000Z
LOCATION:E1 3\, Lecture Hall 002
SUMMARY:Ai: MDPs III: Reinforcement Learning & Games I: Search
END:VEVENT
BEGIN:VEVENT
UID:37653534-6139-4231-b439-343164633332
DTSTAMP:20260425T170016Z
DESCRIPTION:Lecturer: Prof. Dr. Jörg Hoffmann
DTSTART:20260115T091500Z
DTEND:20260115T110000Z
LOCATION:E1 3\, Lecture Hall 002
SUMMARY:Ai: Games I: Search
END:VEVENT
BEGIN:VEVENT
UID:36633438-6239-4139-b436-326665623939
DTSTAMP:20260425T170016Z
DESCRIPTION:
DTSTART:20260115T131500Z
DTEND:20260115T144500Z
LOCATION:E1 1\, 3.06
SUMMARY:Ai: Office Hour
END:VEVENT
BEGIN:VEVENT
UID:39373034-3434-4266-a232-623266333737
DTSTAMP:20260425T170016Z
DESCRIPTION:
DTSTART;VALUE=DATE:20260119
DTEND;VALUE=DATE:20260124
SUMMARY:Ai: Tutorials (Ch. 14 and 16 MDPs)
END:VEVENT
BEGIN:VEVENT
UID:64366666-3364-4531-b039-303765353835
DTSTAMP:20260425T170016Z
DESCRIPTION:Lecturer: Prof. Dr. Jörg Hoffmann
DTSTART:20260120T131500Z
DTEND:20260120T150000Z
LOCATION:E1 3\, Lecture Hall 002
SUMMARY:Ai: Games II: Learning
END:VEVENT
BEGIN:VEVENT
UID:39306430-3737-4632-b630-363862333334
DTSTAMP:20260425T170016Z
DESCRIPTION:Lecturer: Prof. Dr. Jörg Hoffmann
DTSTART:20260122T091500Z
DTEND:20260122T110000Z
LOCATION:E1 3\, Lecture Hall 002
SUMMARY:Ai: Trusted AI: Action Policies
END:VEVENT
BEGIN:VEVENT
UID:63643061-3331-4235-b361-363261356536
DTSTAMP:20260425T170016Z
DESCRIPTION:
DTSTART:20260122T130000Z
DTEND:20260205T130000Z
SUMMARY:Ai: Project 4: Q-Learning
END:VEVENT
BEGIN:VEVENT
UID:31333764-3364-4238-a431-653635373165
DTSTAMP:20260425T170016Z
DESCRIPTION:
DTSTART:20260122T131500Z
DTEND:20260122T144500Z
LOCATION:E1 1\, 3.06
SUMMARY:Ai: Office Hour
END:VEVENT
BEGIN:VEVENT
UID:37393438-3133-4339-b962-303137636638
DTSTAMP:20260425T170016Z
DESCRIPTION:
DTSTART;VALUE=DATE:20260126
DTEND;VALUE=DATE:20260131
SUMMARY:Ai: Tutorials (Ch. 17 Games)
END:VEVENT
BEGIN:VEVENT
UID:63313336-6230-4365-b364-343031366238
DTSTAMP:20260425T170016Z
DESCRIPTION:Lecturer: Prof. Dr. Jörg Hoffmann
DTSTART:20260127T131500Z
DTEND:20260127T150000Z
LOCATION:E1 3\, Lecture Hall 002
SUMMARY:Ai: Trusted AI: Action Policies
END:VEVENT
BEGIN:VEVENT
UID:30363463-3034-4663-a661-383031326234
DTSTAMP:20260425T170016Z
DESCRIPTION:
DTSTART:20260129T131500Z
DTEND:20260129T144500Z
LOCATION:E1 1\, 3.06
SUMMARY:Ai: Office Hour
END:VEVENT
BEGIN:VEVENT
UID:61323863-3061-4331-b833-656135323666
DTSTAMP:20260425T170016Z
DESCRIPTION:Lecturer: Prof. Dr. Jörg Hoffmann
DTSTART:20260203T131500Z
DTEND:20260203T150000Z
LOCATION:E1 3\, Lecture Hall 002
SUMMARY:Ai: Exam Preparation
END:VEVENT
BEGIN:VEVENT
UID:62633466-6531-4062-b632-393664343864
DTSTAMP:20260425T170016Z
DESCRIPTION:
DTSTART:20260205T091500Z
DTEND:20260205T110000Z
LOCATION:E1 3\, Lecture Hall 002
SUMMARY:Ai: TBD
END:VEVENT
BEGIN:VEVENT
UID:63386134-6539-4536-a437-663361376133
DTSTAMP:20260425T170016Z
DESCRIPTION:
DTSTART:20260205T131500Z
DTEND:20260205T144500Z
LOCATION:E1 1\, 3.06
SUMMARY:Ai: Office Hour
END:VEVENT
BEGIN:VEVENT
UID:35643463-6561-4531-b462-633663646336
DTSTAMP:20260425T170016Z
DESCRIPTION:
DTSTART:20260212T131500Z
DTEND:20260212T144500Z
LOCATION:E1 1\, 3.06
SUMMARY:Ai: Office Hour
END:VEVENT
BEGIN:VEVENT
UID:33326233-3435-4563-a335-323132363031
DTSTAMP:20260425T170016Z
DESCRIPTION:
DTSTART:20260218T130000Z
DTEND:20260218T150000Z
LOCATION:Günter-Hotz-Hörsaal
SUMMARY:Ai: Main Exam
END:VEVENT
BEGIN:VEVENT
UID:33356132-6631-4033-b535-373837376361
DTSTAMP:20260425T170016Z
DESCRIPTION:
DTSTART:20260311T130000Z
DTEND:20260311T150000Z
LOCATION:Günter-Hotz-Hörsaal
SUMMARY:Ai: Re-Exam
END:VEVENT
END:VCALENDAR
