BEGIN:VCALENDAR
VERSION:2.0
PRODID:-//134.96.226.213//NONSGML kigkonsult.se iCalcreator 2.41.92//
CALSCALE:GREGORIAN
METHOD:PUBLISH
UID:34336166-6136-4838-a637-366632643164
X-WR-CALNAME:Artificial Intelligence Calendar
X-WR-CALDESC:Events of the lecture Artificial Intelligence
X-WR-TIMEZONE:Europe/Berlin
BEGIN:VEVENT
UID:38346163-3665-4336-b734-336433663964
DTSTAMP:20260425T170144Z
DESCRIPTION:
DTSTART;VALUE=DATE:20251103
DTEND;VALUE=DATE:20251108
SUMMARY:Tutorials (Ch. 3 Search I and Ch. 4 Search II)
END:VEVENT
BEGIN:VEVENT
UID:63623930-6433-4034-a562-666465363462
DTSTAMP:20260425T170144Z
DESCRIPTION:
DTSTART;VALUE=DATE:20251110
DTEND;VALUE=DATE:20251115
SUMMARY:Tutorials (Ch. 5 Search III)
END:VEVENT
BEGIN:VEVENT
UID:34383866-6461-4036-b339-373131346538
DTSTAMP:20260425T170144Z
DESCRIPTION:
DTSTART;VALUE=DATE:20251117
DTEND;VALUE=DATE:20251122
SUMMARY:Tutorials (Ch. 6 Planning I and Ch. 7 Planning II)
END:VEVENT
BEGIN:VEVENT
UID:37633763-3064-4230-a533-653437336531
DTSTAMP:20260425T170144Z
DESCRIPTION:
DTSTART;VALUE=DATE:20251124
DTEND;VALUE=DATE:20251129
SUMMARY:Tutorials (Ch. 7 Planning II and Ch. 8 Planning III)
END:VEVENT
BEGIN:VEVENT
UID:35653335-6434-4462-a335-386436393630
DTSTAMP:20260425T170144Z
DESCRIPTION:
DTSTART;VALUE=DATE:20251201
DTEND;VALUE=DATE:20251206
SUMMARY:Tutorials (Ch. 9 Planning IV)
END:VEVENT
BEGIN:VEVENT
UID:38633662-3864-4631-b031-333438653735
DTSTAMP:20260425T170144Z
DESCRIPTION:
DTSTART;VALUE=DATE:20251208
DTEND;VALUE=DATE:20251213
SUMMARY:Tutorials (Ch. 10 Planning V and Ch. 11 Planning VI)
END:VEVENT
BEGIN:VEVENT
UID:61653430-3361-4734-b237-396339636665
DTSTAMP:20260425T170144Z
DESCRIPTION:
DTSTART;VALUE=DATE:20251215
DTEND;VALUE=DATE:20251220
SUMMARY:Tutorials (Ch. 12 ML and Ch. 13 Planning VII)
END:VEVENT
BEGIN:VEVENT
UID:64383939-3063-4736-b036-343664323730
DTSTAMP:20260425T170144Z
DESCRIPTION:
DTSTART;VALUE=DATE:20260112
DTEND;VALUE=DATE:20260117
SUMMARY:Tutorials (Ch. 14 MDPs)
END:VEVENT
BEGIN:VEVENT
UID:32363639-3733-4466-b439-663265383861
DTSTAMP:20260425T170144Z
DESCRIPTION:
DTSTART;VALUE=DATE:20260119
DTEND;VALUE=DATE:20260124
SUMMARY:Tutorials (Ch. 14 and 16 MDPs)
END:VEVENT
BEGIN:VEVENT
UID:35343636-6537-4137-a235-326463393639
DTSTAMP:20260425T170144Z
DESCRIPTION:
DTSTART;VALUE=DATE:20260126
DTEND;VALUE=DATE:20260131
SUMMARY:Tutorials (Ch. 17 Games)
END:VEVENT
END:VCALENDAR
