BEGIN:VCALENDAR
VERSION:2.0
PRODID:-//134.96.226.213//NONSGML kigkonsult.se iCalcreator 2.41.92//
CALSCALE:GREGORIAN
METHOD:PUBLISH
UID:34653463-6366-4234-b664-346239343033
X-WR-CALNAME:Artificial Intelligence Calendar
X-WR-CALDESC:Events of the lecture Artificial Intelligence
X-WR-TIMEZONE:Europe/Berlin
BEGIN:VEVENT
UID:32313363-3163-4432-b532-353865326333
DTSTAMP:20260425T153109Z
DESCRIPTION:
DTSTART:20260218T130000Z
DTEND:20260218T150000Z
LOCATION:Günter-Hotz-Hörsaal
SUMMARY:Main Exam
END:VEVENT
BEGIN:VEVENT
UID:64353934-3764-4134-b134-643931366430
DTSTAMP:20260425T153109Z
DESCRIPTION:
DTSTART:20260311T130000Z
DTEND:20260311T150000Z
LOCATION:Günter-Hotz-Hörsaal
SUMMARY:Re-Exam
END:VEVENT
END:VCALENDAR
