BEGIN:VCALENDAR
VERSION:2.0
PRODID:-//134.96.226.213//NONSGML kigkonsult.se iCalcreator 2.41.92//
CALSCALE:GREGORIAN
METHOD:PUBLISH
UID:66336332-3638-4533-a239-353264303261
X-WR-CALNAME:Artificial Intelligence Calendar
X-WR-CALDESC:Events of the lecture Artificial Intelligence
X-WR-TIMEZONE:Europe/Berlin
BEGIN:VEVENT
UID:63306362-6139-4465-b430-623933366466
DTSTAMP:20260425T153109Z
DESCRIPTION:
DTSTART:20251104T150000Z
DTEND:20251120T130000Z
SUMMARY:Project 0: Blind + Goal-Count Heuristic
END:VEVENT
BEGIN:VEVENT
UID:33643339-3131-4632-b634-663763326236
DTSTAMP:20260425T153109Z
DESCRIPTION:
DTSTART:20251120T130000Z
DTEND:20251204T130000Z
SUMMARY:Project 1: HMax + HFF Heuristics
END:VEVENT
BEGIN:VEVENT
UID:30653263-3066-4538-b432-613539623166
DTSTAMP:20260425T153109Z
DESCRIPTION:
DTSTART:20251204T130000Z
DTEND:20251218T130000Z
SUMMARY:Project 2: PDB Heuristics
END:VEVENT
BEGIN:VEVENT
UID:35343837-6665-4536-b335-303365313433
DTSTAMP:20260425T153109Z
DESCRIPTION:
DTSTART:20260108T130000Z
DTEND:20260123T130000Z
SUMMARY:Project 3: Supervised Learning
END:VEVENT
BEGIN:VEVENT
UID:32616333-3366-4865-b936-653738656561
DTSTAMP:20260425T153109Z
DESCRIPTION:
DTSTART:20260122T130000Z
DTEND:20260205T130000Z
SUMMARY:Project 4: Q-Learning
END:VEVENT
END:VCALENDAR
