BEGIN:VCALENDAR
VERSION:2.0
PRODID:-//134.96.226.213//NONSGML kigkonsult.se iCalcreator 2.41.92//
CALSCALE:GREGORIAN
METHOD:PUBLISH
UID:39383866-3336-4537-b762-303363643263
X-WR-CALNAME:Artificial Intelligence Calendar
X-WR-CALDESC:Events of the lecture Artificial Intelligence
X-WR-TIMEZONE:Europe/Berlin
BEGIN:VEVENT
UID:31646365-3265-4763-b464-363736393664
DTSTAMP:20260425T153023Z
DESCRIPTION:
DTSTART:20251030T131500Z
DTEND:20251030T144500Z
LOCATION:E1 1\, 3.06
SUMMARY:Office Hour
END:VEVENT
BEGIN:VEVENT
UID:31333431-3631-4039-b162-396363366266
DTSTAMP:20260425T153023Z
DESCRIPTION:
DTSTART:20251106T131500Z
DTEND:20251106T144500Z
LOCATION:E1 1\, 3.06
SUMMARY:Office Hour
END:VEVENT
BEGIN:VEVENT
UID:34623538-6262-4537-a232-393663356263
DTSTAMP:20260425T153023Z
DESCRIPTION:
DTSTART:20251113T131500Z
DTEND:20251113T144500Z
LOCATION:E1 1\, 3.06
SUMMARY:Office Hour
END:VEVENT
BEGIN:VEVENT
UID:64393761-6636-4865-b265-333664646532
DTSTAMP:20260425T153023Z
DESCRIPTION:
DTSTART:20251120T131500Z
DTEND:20251120T144500Z
LOCATION:E1 1\, 3.06
SUMMARY:Office Hour
END:VEVENT
BEGIN:VEVENT
UID:39383437-3831-4735-b838-373631386331
DTSTAMP:20260425T153023Z
DESCRIPTION:
DTSTART:20251127T131500Z
DTEND:20251127T144500Z
LOCATION:E1 1\, 3.06
SUMMARY:Office Hour
END:VEVENT
BEGIN:VEVENT
UID:63383936-6238-4637-b863-336533356466
DTSTAMP:20260425T153023Z
DESCRIPTION:
DTSTART:20251204T131500Z
DTEND:20251204T144500Z
LOCATION:E1 1\, 3.06
SUMMARY:Office Hour
END:VEVENT
BEGIN:VEVENT
UID:62646135-3132-4730-b564-653663666332
DTSTAMP:20260425T153023Z
DESCRIPTION:
DTSTART:20251211T131500Z
DTEND:20251211T144500Z
LOCATION:E1 1\, 3.06
SUMMARY:Office Hour
END:VEVENT
BEGIN:VEVENT
UID:39313632-6333-4536-a131-353730343266
DTSTAMP:20260425T153023Z
DESCRIPTION:
DTSTART:20251218T131500Z
DTEND:20251218T144500Z
LOCATION:E1 1\, 3.06
SUMMARY:Office Hour
END:VEVENT
BEGIN:VEVENT
UID:33393931-3134-4339-a265-653263643465
DTSTAMP:20260425T153023Z
DESCRIPTION:
DTSTART:20260108T131500Z
DTEND:20260108T144500Z
LOCATION:E1 1\, 3.06
SUMMARY:Office Hour
END:VEVENT
BEGIN:VEVENT
UID:35303633-6236-4235-b835-656463303833
DTSTAMP:20260425T153023Z
DESCRIPTION:
DTSTART:20260115T131500Z
DTEND:20260115T144500Z
LOCATION:E1 1\, 3.06
SUMMARY:Office Hour
END:VEVENT
BEGIN:VEVENT
UID:31326138-3032-4837-a233-383030356433
DTSTAMP:20260425T153023Z
DESCRIPTION:
DTSTART:20260122T131500Z
DTEND:20260122T144500Z
LOCATION:E1 1\, 3.06
SUMMARY:Office Hour
END:VEVENT
BEGIN:VEVENT
UID:31376362-6532-4461-b836-376561323838
DTSTAMP:20260425T153023Z
DESCRIPTION:
DTSTART:20260129T131500Z
DTEND:20260129T144500Z
LOCATION:E1 1\, 3.06
SUMMARY:Office Hour
END:VEVENT
BEGIN:VEVENT
UID:65636137-3962-4737-b639-633731383232
DTSTAMP:20260425T153023Z
DESCRIPTION:
DTSTART:20260205T131500Z
DTEND:20260205T144500Z
LOCATION:E1 1\, 3.06
SUMMARY:Office Hour
END:VEVENT
BEGIN:VEVENT
UID:39663339-3566-4433-a634-633239383834
DTSTAMP:20260425T153023Z
DESCRIPTION:
DTSTART:20260212T131500Z
DTEND:20260212T144500Z
LOCATION:E1 1\, 3.06
SUMMARY:Office Hour
END:VEVENT
END:VCALENDAR
