BEGIN:VCALENDAR
VERSION:2.0
PRODID:-//134.96.226.213//NONSGML kigkonsult.se iCalcreator 2.41.92//
CALSCALE:GREGORIAN
METHOD:PUBLISH
UID:34336639-6539-4462-b261-333235336364
X-WR-CALNAME:Artificial Intelligence Calendar
X-WR-CALDESC:Events of the lecture Artificial Intelligence
X-WR-TIMEZONE:Europe/Berlin
BEGIN:VEVENT
UID:61326238-3332-4636-a530-653735336466
DTSTAMP:20260425T153131Z
DESCRIPTION:Lecturer: Prof. Dr. Jörg Hoffmann
DTSTART:20251014T121500Z
DTEND:20251014T140000Z
LOCATION:E1 3\, Lecture Hall 002
SUMMARY:About this Course
END:VEVENT
BEGIN:VEVENT
UID:31646338-6137-4630-b162-356138316461
DTSTAMP:20260425T153131Z
DESCRIPTION:Lecturer: Prof. Dr. Jörg Hoffmann
DTSTART:20251016T081500Z
DTEND:20251016T100000Z
LOCATION:E1 3\, Lecture Hall 002
SUMMARY:Introduction to AI & A Glimpse of the Omitted Areas
END:VEVENT
BEGIN:VEVENT
UID:30373863-6463-4665-a330-643166373139
DTSTAMP:20260425T153131Z
DESCRIPTION:Lecturer: Prof. Dr. Jörg Hoffmann
DTSTART:20251021T121500Z
DTEND:20251021T140000Z
LOCATION:E1 3\, Lecture Hall 002
SUMMARY:Search I: Blind Search
END:VEVENT
BEGIN:VEVENT
UID:65323030-6564-4465-a330-326662663033
DTSTAMP:20260425T153131Z
DESCRIPTION:Lecturer: Prof. Dr. Jörg Hoffmann
DTSTART:20251023T081500Z
DTEND:20251023T100000Z
LOCATION:E1 3\, Lecture Hall 002
SUMMARY:Search I: Blind Search & Search II: Heuristic Search
END:VEVENT
BEGIN:VEVENT
UID:36396164-3264-4738-b735-393065323232
DTSTAMP:20260425T153131Z
DESCRIPTION:Lecturer: Prof. Dr. Jörg Hoffmann
DTSTART:20251028T131500Z
DTEND:20251028T150000Z
LOCATION:E1 3\, Lecture Hall 002
SUMMARY:Search II: Heuristic Search & Search III: Sparse Search
END:VEVENT
BEGIN:VEVENT
UID:64363036-3465-4462-b032-613232623836
DTSTAMP:20260425T153131Z
DESCRIPTION:Lecturer: Prof. Dr. Jörg Hoffmann
DTSTART:20251030T091500Z
DTEND:20251030T110000Z
LOCATION:E1 3\, Lecture Hall 002
SUMMARY:Search III: Sparse Search
END:VEVENT
BEGIN:VEVENT
UID:35333133-6638-4239-b939-303863356565
DTSTAMP:20260425T153131Z
DESCRIPTION:Lecturer: Prof. Dr. Jörg Hoffmann
DTSTART:20251104T131500Z
DTEND:20251104T150000Z
LOCATION:E1 3\, Lecture Hall 002
SUMMARY:Symbolic Planning I: Formalisms
END:VEVENT
BEGIN:VEVENT
UID:37666532-3365-4830-b131-383366643330
DTSTAMP:20260425T153131Z
DESCRIPTION:Lecturer: Prof. Dr. Jörg Hoffmann
DTSTART:20251106T091500Z
DTEND:20251106T110000Z
LOCATION:E1 3\, Lecture Hall 002
SUMMARY:Symbolic Planning I: Formalisms & Symbolic Planning II: Heuristic S
 earch Basics
END:VEVENT
BEGIN:VEVENT
UID:35653939-3338-4432-b839-656231353235
DTSTAMP:20260425T153131Z
DESCRIPTION:Lecturer: Prof. Dr. Jörg Hoffmann
DTSTART:20251111T131500Z
DTEND:20251111T150000Z
LOCATION:E1 3\, Lecture Hall 002
SUMMARY:Symbolic Planning II: Heuristic Search Basics & Symbolic Planning I
 II: Critical-Path Heuristics
END:VEVENT
BEGIN:VEVENT
UID:62316536-3733-4864-b264-363336336235
DTSTAMP:20260425T153131Z
DESCRIPTION:Lecturer: Prof. Dr. Jörg Hoffmann
DTSTART:20251113T091500Z
DTEND:20251113T110000Z
LOCATION:E1 3\, Lecture Hall 002
SUMMARY:Symbolic Planning IV: Delete-Relaxation Heuristics
END:VEVENT
BEGIN:VEVENT
UID:63393165-3732-4564-a531-353835363764
DTSTAMP:20260425T153131Z
DESCRIPTION:Lecturer: Prof. Dr. Jörg Hoffmann
DTSTART:20251118T131500Z
DTEND:20251118T150000Z
LOCATION:E1 3\, Lecture Hall 002
SUMMARY:Symbolic Planning IV: Delete-Relaxation Heuristics
END:VEVENT
BEGIN:VEVENT
UID:64616437-3162-4031-a233-373464373263
DTSTAMP:20260425T153131Z
DESCRIPTION:Lecturer: Dr. Daniel Höller
DTSTART:20251125T131500Z
DTEND:20251125T150000Z
LOCATION:E1 3\, Lecture Hall 002
SUMMARY:Symbolic Planning V: Abstractions
END:VEVENT
BEGIN:VEVENT
UID:64663634-3766-4636-b836-356164373361
DTSTAMP:20260425T153131Z
DESCRIPTION:Lecturer: Dr. Daniel Höller
DTSTART:20251127T091500Z
DTEND:20251127T110000Z
LOCATION:E1 3\, Lecture Hall 002
SUMMARY:Symbolic Planning V: Abstractions & Symbolic Planning VI: Pattern D
 atabases
END:VEVENT
BEGIN:VEVENT
UID:62613131-3937-4337-b134-363331353630
DTSTAMP:20260425T153131Z
DESCRIPTION:Lecturer: Dr. Daniel Höller
DTSTART:20251202T131500Z
DTEND:20251202T150000Z
LOCATION:E1 3\, Lecture Hall 002
SUMMARY:ML Basics
END:VEVENT
BEGIN:VEVENT
UID:66376639-6333-4435-a434-383433663861
DTSTAMP:20260425T153131Z
DESCRIPTION:Lecturer: Dr. Daniel Höller
DTSTART:20251204T091500Z
DTEND:20251204T110000Z
LOCATION:E1 3\, Lecture Hall 002
SUMMARY:ML Basics & Symbolic Planning VII: Learning
END:VEVENT
BEGIN:VEVENT
UID:61643265-6538-4739-a664-663230666531
DTSTAMP:20260425T153131Z
DESCRIPTION:
DTSTART:20251209T131500Z
DTEND:20251209T150000Z
LOCATION:E1 3\, Lecture Hall 002
SUMMARY:MDPs I: Introduction & Heuristic Search
END:VEVENT
BEGIN:VEVENT
UID:32623435-3962-4233-a461-623136393135
DTSTAMP:20260425T153131Z
DESCRIPTION:
DTSTART:20251211T091500Z
DTEND:20251211T110000Z
LOCATION:E1 3\, Lecture Hall 002
SUMMARY:MDPs I: Introduction & Heuristic Search
END:VEVENT
BEGIN:VEVENT
UID:30353239-6539-4765-b863-666331363139
DTSTAMP:20260425T153131Z
DESCRIPTION:
DTSTART:20251216T131500Z
DTEND:20251216T150000Z
LOCATION:E1 3\, Lecture Hall 002
SUMMARY:MDPs II: Probabilistic Planning & PDBs
END:VEVENT
BEGIN:VEVENT
UID:64346539-3630-4338-b635-323736666334
DTSTAMP:20260425T153131Z
DESCRIPTION:Lecturer: Prof. Dr. Jörg Hoffmann
DTSTART:20260108T091500Z
DTEND:20260108T110000Z
LOCATION:E1 3\, Lecture Hall 002
SUMMARY:MDPs III: Reinforcement Learning
END:VEVENT
BEGIN:VEVENT
UID:34356163-6565-4534-b430-386239373035
DTSTAMP:20260425T153131Z
DESCRIPTION:Lecturer: Prof. Dr. Jörg Hoffmann
DTSTART:20260113T131500Z
DTEND:20260113T150000Z
LOCATION:E1 3\, Lecture Hall 002
SUMMARY:MDPs III: Reinforcement Learning & Games I: Search
END:VEVENT
BEGIN:VEVENT
UID:36386261-3861-4736-a438-343631396365
DTSTAMP:20260425T153131Z
DESCRIPTION:Lecturer: Prof. Dr. Jörg Hoffmann
DTSTART:20260115T091500Z
DTEND:20260115T110000Z
LOCATION:E1 3\, Lecture Hall 002
SUMMARY:Games I: Search
END:VEVENT
BEGIN:VEVENT
UID:31303939-6331-4463-a239-323464303033
DTSTAMP:20260425T153131Z
DESCRIPTION:Lecturer: Prof. Dr. Jörg Hoffmann
DTSTART:20260120T131500Z
DTEND:20260120T150000Z
LOCATION:E1 3\, Lecture Hall 002
SUMMARY:Games II: Learning
END:VEVENT
BEGIN:VEVENT
UID:62383037-3935-4339-b436-623830613134
DTSTAMP:20260425T153131Z
DESCRIPTION:Lecturer: Prof. Dr. Jörg Hoffmann
DTSTART:20260122T091500Z
DTEND:20260122T110000Z
LOCATION:E1 3\, Lecture Hall 002
SUMMARY:Trusted AI: Action Policies
END:VEVENT
BEGIN:VEVENT
UID:64356634-6430-4037-a533-353565633535
DTSTAMP:20260425T153131Z
DESCRIPTION:Lecturer: Prof. Dr. Jörg Hoffmann
DTSTART:20260127T131500Z
DTEND:20260127T150000Z
LOCATION:E1 3\, Lecture Hall 002
SUMMARY:Trusted AI: Action Policies
END:VEVENT
BEGIN:VEVENT
UID:66333135-6566-4436-b134-313735653535
DTSTAMP:20260425T153131Z
DESCRIPTION:Lecturer: Prof. Dr. Jörg Hoffmann
DTSTART:20260203T131500Z
DTEND:20260203T150000Z
LOCATION:E1 3\, Lecture Hall 002
SUMMARY:Exam Preparation
END:VEVENT
BEGIN:VEVENT
UID:36643764-3538-4830-a362-303533626334
DTSTAMP:20260425T153131Z
DESCRIPTION:
DTSTART:20260205T091500Z
DTEND:20260205T110000Z
LOCATION:E1 3\, Lecture Hall 002
SUMMARY:TBD
END:VEVENT
END:VCALENDAR
