BEGIN:VCALENDAR
VERSION:2.0
PRODID:-//134.96.226.213//NONSGML kigkonsult.se iCalcreator 2.41.71//
CALSCALE:GREGORIAN
METHOD:PUBLISH
UID:35373663-3234-4736-b863-313938303861
X-WR-CALNAME:Artificial Intelligence Calendar
X-WR-CALDESC:Events of the lecture Artificial Intelligence
X-WR-TIMEZONE:Europe/Berlin
BEGIN:VEVENT
UID:39333633-6137-4264-b166-643765636336
DTSTAMP:20260421T112203Z
DESCRIPTION:
DTSTART:20231121T150000Z
DTEND:20231128T225900Z
SUMMARY:Ai: Project 0: Blind + Goal-Counting Heuristic
END:VEVENT
BEGIN:VEVENT
UID:35363063-3366-4534-b066-326631383433
DTSTAMP:20260421T112203Z
DESCRIPTION:
DTSTART:20231128T150000Z
DTEND:20231212T225900Z
SUMMARY:Ai: Project 1: hmax + hFF
END:VEVENT
BEGIN:VEVENT
UID:32633163-6234-4537-b134-643638353938
DTSTAMP:20260421T112203Z
DESCRIPTION:
DTSTART:20231205T150000Z
DTEND:20240109T225900Z
SUMMARY:Ai: Project 2: Pattern Database Heuristics
END:VEVENT
BEGIN:VEVENT
UID:66613832-6465-4761-a633-306661623366
DTSTAMP:20260421T112203Z
DESCRIPTION:
DTSTART:20240109T150000Z
DTEND:20240126T225900Z
SUMMARY:Ai: Project 3: Supervised Learning
END:VEVENT
BEGIN:VEVENT
UID:35633264-3537-4538-a238-386135323964
DTSTAMP:20260421T112203Z
DESCRIPTION:
DTSTART:20240123T150000Z
DTEND:20240213T225900Z
SUMMARY:Ai: Project 4: Q-Learning
END:VEVENT
END:VCALENDAR
