BEGIN:VCALENDAR
VERSION:2.0
PRODID:-//134.96.226.213//NONSGML kigkonsult.se iCalcreator 2.41.71//
CALSCALE:GREGORIAN
METHOD:PUBLISH
UID:66353934-6563-4164-a130-346432353438
X-WR-CALNAME:Artificial Intelligence Calendar
X-WR-CALDESC:Events of the lecture Artificial Intelligence
X-WR-TIMEZONE:Europe/Berlin
BEGIN:VEVENT
UID:39633165-3866-4233-b436-373038353731
DTSTAMP:20260421T112034Z
DESCRIPTION:
DTSTART:20231123T111500Z
DTEND:20231123T130000Z
LOCATION:E1 1\, Seminar Room 3.06
SUMMARY:Ai: Office Hour
END:VEVENT
BEGIN:VEVENT
UID:38393264-3736-4636-a364-616134303534
DTSTAMP:20260421T112034Z
DESCRIPTION:
DTSTART:20231128T111500Z
DTEND:20231128T130000Z
LOCATION:E1 1\, Seminar Room 3.06
SUMMARY:Ai: Office Hour
END:VEVENT
BEGIN:VEVENT
UID:36376632-3737-4165-a161-663132343533
DTSTAMP:20260421T112034Z
DESCRIPTION:
DTSTART:20231130T111500Z
DTEND:20231130T130000Z
LOCATION:E1 1\, Seminar Room 3.06
SUMMARY:Ai: Office Hour
END:VEVENT
BEGIN:VEVENT
UID:39623536-3236-4233-b262-643264303835
DTSTAMP:20260421T112034Z
DESCRIPTION:
DTSTART:20231205T111500Z
DTEND:20231205T130000Z
LOCATION:E1 1\, Seminar Room 3.06
SUMMARY:Ai: Office Hour
END:VEVENT
BEGIN:VEVENT
UID:35353662-3566-4665-b035-613136316564
DTSTAMP:20260421T112034Z
DESCRIPTION:
DTSTART:20231207T111500Z
DTEND:20231207T130000Z
LOCATION:E1 1\, Seminar Room 3.06
SUMMARY:Ai: Office Hour
END:VEVENT
BEGIN:VEVENT
UID:30363437-3434-4632-a633-633564323865
DTSTAMP:20260421T112034Z
DESCRIPTION:
DTSTART:20231212T111500Z
DTEND:20231212T130000Z
LOCATION:E1 1\, Seminar Room 3.06
SUMMARY:Ai: Office Hour
END:VEVENT
BEGIN:VEVENT
UID:37666364-3362-4632-b434-383539313230
DTSTAMP:20260421T112034Z
DESCRIPTION:
DTSTART:20231214T111500Z
DTEND:20231214T130000Z
LOCATION:E1 1\, Seminar Room 3.06
SUMMARY:Ai: Office Hour
END:VEVENT
BEGIN:VEVENT
UID:39336439-6465-4437-b666-373264323164
DTSTAMP:20260421T112034Z
DESCRIPTION:
DTSTART:20231219T111500Z
DTEND:20231219T130000Z
LOCATION:E1 1\, Seminar Room 3.06
SUMMARY:Ai: Office Hour
END:VEVENT
BEGIN:VEVENT
UID:37356336-3339-4634-a366-356237316131
DTSTAMP:20260421T112034Z
DESCRIPTION:
DTSTART:20231221T111500Z
DTEND:20231221T130000Z
LOCATION:E1 1\, Seminar Room 3.06
SUMMARY:Ai: Office Hour
END:VEVENT
BEGIN:VEVENT
UID:64616334-3534-4565-a536-333331333330
DTSTAMP:20260421T112034Z
DESCRIPTION:
DTSTART:20240109T111500Z
DTEND:20240109T130000Z
LOCATION:E1 1\, Seminar Room 3.06
SUMMARY:Ai: Office Hour
END:VEVENT
BEGIN:VEVENT
UID:62613535-3435-4237-b966-323939366532
DTSTAMP:20260421T112034Z
DESCRIPTION:
DTSTART:20240111T111500Z
DTEND:20240111T130000Z
LOCATION:E1 1\, Seminar Room 3.06
SUMMARY:Ai: Office Hour
END:VEVENT
BEGIN:VEVENT
UID:61663336-6538-4462-b331-393566303838
DTSTAMP:20260421T112034Z
DESCRIPTION:
DTSTART:20240116T111500Z
DTEND:20240116T130000Z
LOCATION:E1 1\, Seminar Room 3.06
SUMMARY:Ai: Office Hour
END:VEVENT
BEGIN:VEVENT
UID:63373739-6537-4266-a463-323464323535
DTSTAMP:20260421T112034Z
DESCRIPTION:
DTSTART:20240118T111500Z
DTEND:20240118T130000Z
LOCATION:E1 1\, Seminar Room 3.06
SUMMARY:Ai: Office Hour
END:VEVENT
BEGIN:VEVENT
UID:31633134-3036-4534-a562-323661333039
DTSTAMP:20260421T112034Z
DESCRIPTION:
DTSTART:20240123T111500Z
DTEND:20240123T130000Z
LOCATION:E1 1\, Seminar Room 3.06
SUMMARY:Ai: Office Hour
END:VEVENT
BEGIN:VEVENT
UID:62323430-6532-4838-a465-376466623431
DTSTAMP:20260421T112034Z
DESCRIPTION:
DTSTART:20240125T111500Z
DTEND:20240125T130000Z
LOCATION:E1 1\, Seminar Room 3.06
SUMMARY:Ai: Office Hour
END:VEVENT
BEGIN:VEVENT
UID:64363732-3334-4465-b835-313937393164
DTSTAMP:20260421T112034Z
DESCRIPTION:
DTSTART:20240130T111500Z
DTEND:20240130T130000Z
LOCATION:E1 1\, Seminar Room 3.06
SUMMARY:Ai: Office Hour
END:VEVENT
BEGIN:VEVENT
UID:31633566-6566-4337-a130-356538646435
DTSTAMP:20260421T112034Z
DESCRIPTION:
DTSTART:20240201T111500Z
DTEND:20240201T130000Z
LOCATION:E1 1\, Seminar Room 3.06
SUMMARY:Ai: Office Hour
END:VEVENT
BEGIN:VEVENT
UID:35313264-6133-4361-a364-393263323631
DTSTAMP:20260421T112034Z
DESCRIPTION:
DTSTART:20240206T111500Z
DTEND:20240206T130000Z
LOCATION:E1 1\, Seminar Room 3.06
SUMMARY:Ai: Office Hour
END:VEVENT
BEGIN:VEVENT
UID:64313166-3331-4163-a237-386464313461
DTSTAMP:20260421T112034Z
DESCRIPTION:
DTSTART:20240208T111500Z
DTEND:20240208T130000Z
LOCATION:E1 1\, Seminar Room 3.06
SUMMARY:Ai: Office Hour
END:VEVENT
BEGIN:VEVENT
UID:32363539-6162-4737-a433-663633633364
DTSTAMP:20260421T112034Z
DESCRIPTION:
DTSTART:20240223T110000Z
DTEND:20240223T130000Z
LOCATION:E1 1\, Seminar Room 3.06
SUMMARY:Ai: Office hour
END:VEVENT
END:VCALENDAR
