BEGIN:VCALENDAR
VERSION:2.0
PRODID:-//134.96.226.213//NONSGML kigkonsult.se iCalcreator 2.41.71//
CALSCALE:GREGORIAN
METHOD:PUBLISH
UID:65623639-3337-4732-b337-383431343030
X-WR-CALNAME:Artificial Intelligence Calendar
X-WR-CALDESC:Events of the lecture Artificial Intelligence
X-WR-TIMEZONE:Europe/Berlin
BEGIN:VEVENT
UID:66363965-3462-4034-a339-303562383565
DTSTAMP:20260421T112331Z
DESCRIPTION:
DTSTART:20231027T121500Z
DTEND:20231027T140000Z
LOCATION:Günter-Hotz-Hörsaal
SUMMARY:Ai: About this Course\, Introduction
END:VEVENT
BEGIN:VEVENT
UID:38316135-3539-4639-a539-373230376366
DTSTAMP:20260421T112331Z
DESCRIPTION:
DTSTART:20231031T091500Z
DTEND:20231031T110000Z
LOCATION:Günter-Hotz-Hörsaal
SUMMARY:Ai: Introduction to AI & A Glimpse of Omitted Areas
END:VEVENT
BEGIN:VEVENT
UID:30666562-3336-4566-b364-316564323831
DTSTAMP:20260421T112331Z
DESCRIPTION:
DTSTART:20231103T131500Z
DTEND:20231103T150000Z
LOCATION:Günter-Hotz-Hörsaal
SUMMARY:Ai: Search I: Blind Search
END:VEVENT
BEGIN:VEVENT
UID:63303337-3532-4862-a637-616137393238
DTSTAMP:20260421T112331Z
DESCRIPTION:
DTSTART:20231107T091500Z
DTEND:20231107T110000Z
LOCATION:Günter-Hotz-Hörsaal
SUMMARY:Ai: Search I: Blind Search & Search II: Heuristic Search
END:VEVENT
BEGIN:VEVENT
UID:36396233-6135-4439-a566-316239643964
DTSTAMP:20260421T112331Z
DESCRIPTION:
DTSTART:20231110T131500Z
DTEND:20231110T150000Z
LOCATION:Günter-Hotz-Hörsaal
SUMMARY:Ai: Search II: Heuristic Search & Search III: Sparse Search
END:VEVENT
BEGIN:VEVENT
UID:36636664-3933-4562-a536-613234646239
DTSTAMP:20260421T112331Z
DESCRIPTION:
DTSTART:20231114T091500Z
DTEND:20231114T110000Z
LOCATION:Günter-Hotz-Hörsaal
SUMMARY:Ai: Search III: Sparse Search
END:VEVENT
BEGIN:VEVENT
UID:34323566-6662-4430-b831-396537326535
DTSTAMP:20260421T112331Z
DESCRIPTION:
DTSTART:20231117T131500Z
DTEND:20231117T150000Z
LOCATION:Günter-Hotz-Hörsaal
SUMMARY:Ai: Symbolic Planning I: Formalisms
END:VEVENT
BEGIN:VEVENT
UID:33383964-3666-4137-a666-333530613164
DTSTAMP:20260421T112331Z
DESCRIPTION:
DTSTART:20231121T091500Z
DTEND:20231121T110000Z
LOCATION:Günter-Hotz-Hörsaal
SUMMARY:Ai: Symbolic Planning I: Formalisms & Symbolic Planning II: Heurist
 ic Search Basics
END:VEVENT
BEGIN:VEVENT
UID:33633461-3331-4062-b433-613539626434
DTSTAMP:20260421T112331Z
DESCRIPTION:
DTSTART:20231124T131500Z
DTEND:20231124T150000Z
LOCATION:Günter-Hotz-Hörsaal
SUMMARY:Ai: Symbolic Planning II: Heuristic Search Basics & Symbolic Planni
 ng III: Critical-Path Heuristics
END:VEVENT
BEGIN:VEVENT
UID:64373139-6631-4330-b962-343934373338
DTSTAMP:20260421T112331Z
DESCRIPTION:
DTSTART:20231128T091500Z
DTEND:20231128T110000Z
LOCATION:Günter-Hotz-Hörsaal
SUMMARY:Ai: Symbolic Planning IV: Delete-Relaxation Heuristics
END:VEVENT
BEGIN:VEVENT
UID:62363235-6138-4463-b066-356161643039
DTSTAMP:20260421T112331Z
DESCRIPTION:
DTSTART:20231201T131500Z
DTEND:20231201T150000Z
LOCATION:Günter-Hotz-Hörsaal
SUMMARY:Ai: Symbolic Planning IV: Delete-Relaxation Heuristics
END:VEVENT
BEGIN:VEVENT
UID:30653832-3536-4766-b139-343861363866
DTSTAMP:20260421T112331Z
DESCRIPTION:
DTSTART:20231205T091500Z
DTEND:20231205T110000Z
LOCATION:Günter-Hotz-Hörsaal
SUMMARY:Ai: Symbolic Planning V: Abstractions
END:VEVENT
BEGIN:VEVENT
UID:64636635-6564-4163-b161-646438633162
DTSTAMP:20260421T112331Z
DESCRIPTION:
DTSTART:20231208T131500Z
DTEND:20231208T150000Z
LOCATION:Günter-Hotz-Hörsaal
SUMMARY:Ai: Symbolic Planning V: Abstractions & Symbolic Planning VI: Patte
 rn Databases
END:VEVENT
BEGIN:VEVENT
UID:61663835-3032-4263-a536-353366633133
DTSTAMP:20260421T112331Z
DESCRIPTION:
DTSTART:20231212T091500Z
DTEND:20231212T110000Z
LOCATION:Günter-Hotz-Hörsaal
SUMMARY:Ai: ML Basics
END:VEVENT
BEGIN:VEVENT
UID:38363337-6131-4663-a333-393636663630
DTSTAMP:20260421T112331Z
DESCRIPTION:
DTSTART:20231215T131500Z
DTEND:20231215T150000Z
LOCATION:Günter-Hotz-Hörsaal
SUMMARY:Ai: ML Basics & Symbolic Planning VII: Learning
END:VEVENT
BEGIN:VEVENT
UID:61343231-3865-4636-a338-623033333935
DTSTAMP:20260421T112331Z
DESCRIPTION:
DTSTART:20240109T091500Z
DTEND:20240109T110000Z
LOCATION:Günter-Hotz-Hörsaal
SUMMARY:Ai: MDPs I: Introduction & Heuristic Search
END:VEVENT
BEGIN:VEVENT
UID:61366539-6135-4236-b538-323034626438
DTSTAMP:20260421T112331Z
DESCRIPTION:
DTSTART:20240112T131500Z
DTEND:20240112T150000Z
LOCATION:Günter-Hotz-Hörsaal
SUMMARY:Ai: MDPs I: Introduction & Heuristic Search
END:VEVENT
BEGIN:VEVENT
UID:66393766-6139-4063-b165-643764386632
DTSTAMP:20260421T112331Z
DESCRIPTION:
DTSTART:20240116T091500Z
DTEND:20240116T110000Z
LOCATION:Günter-Hotz-Hörsaal
SUMMARY:Ai: MDPs II: Probabilistic Planning & PDBs
END:VEVENT
BEGIN:VEVENT
UID:66313339-3135-4532-a334-303962633435
DTSTAMP:20260421T112331Z
DESCRIPTION:
DTSTART:20240119T131500Z
DTEND:20240119T150000Z
LOCATION:Günter-Hotz-Hörsaal
SUMMARY:Ai: MDPs II: Probabilistic Planning & PDBs & MDPs III: Reinforcemen
 t Learning
END:VEVENT
BEGIN:VEVENT
UID:66663834-6261-4335-b663-346135386137
DTSTAMP:20260421T112331Z
DESCRIPTION:
DTSTART:20240123T091500Z
DTEND:20240123T110000Z
LOCATION:https://cs-uni-saarland-de.zoom.us/j/98696736217
SUMMARY:Ai: MDPs III: Reinforcement Learning & Games I: Search
END:VEVENT
BEGIN:VEVENT
UID:39646135-3164-4162-b164-376566663962
DTSTAMP:20260421T112331Z
DESCRIPTION:
DTSTART:20240126T131500Z
DTEND:20240126T150000Z
LOCATION:Günter-Hotz-Hörsaal
SUMMARY:Ai: Games I: Search
END:VEVENT
BEGIN:VEVENT
UID:30613432-3831-4265-a537-663862353338
DTSTAMP:20260421T112331Z
DESCRIPTION:
DTSTART:20240130T091500Z
DTEND:20240130T110000Z
LOCATION:Günter-Hotz-Hörsaal
SUMMARY:Ai: Games II: Learning
END:VEVENT
BEGIN:VEVENT
UID:65623339-6263-4161-b433-373965333462
DTSTAMP:20260421T112331Z
DESCRIPTION:
DTSTART:20240202T131500Z
DTEND:20240202T150000Z
LOCATION:Günter-Hotz-Hörsaal
SUMMARY:Ai: Games II: Learning & Trusted AI: Action Policies
END:VEVENT
BEGIN:VEVENT
UID:65653132-3132-4165-b437-333532666562
DTSTAMP:20260421T112331Z
DESCRIPTION:
DTSTART:20240206T091500Z
DTEND:20240206T110000Z
LOCATION:Günter-Hotz-Hörsaal
SUMMARY:Ai: Trusted AI: Action Policies
END:VEVENT
END:VCALENDAR
